Felt | Verdi |
2014-03-25T10:42:10+01:00 File 87y5 pportrait march 25, 2014.tif saved
2014-03-25T10:43:29+01:00 File 073737 Portrait L, march 25, 2014.tif saved
2014-03-25T10:44:19+01:00 File 9986 Portrait 37 LLL, Marvh 25, 2013.tif saved
2014-03-25T10:45:54+01:00 File 38yL, portrait.jpg saved
2014-03-25T10:46:28+01:00 File 99737L.jpg saved
AlreadyApplied | True |
Aperture | 4.0 |
ApertureValue | 4.0 |
ApproximateFocusDistance | 2.86 |
Artist | Elisabeth_Broch |
AutoLateralCA | 0 |
AutoWhiteVersion | 134348800 |
BitsPerSample (1) | 16 16 16 |
BitsPerSample | 8 |
Blacks2012 | +25 |
BlueHue | 0 |
BlueSaturation | 0 |
By-line | Elisabeth_Broch |
CameraProfile | Embedded |
CircleOfConfusion | 0.027 mm |
Clarity2012 | +5 |
ColorComponents | 3 |
ColorMode | RGB |
ColorNoiseReduction | 25 |
ColorNoiseReductionDetail | 50 |
ColorNoiseReductionSmoothness | 50 |
ColorSpace | sRGB |
Contrast2012 | +40 |
ConvertToGrayscale | False |
Copyright | Elisabeth_Broch |
CopyrightFlag | True |
CopyrightNotice | Elisabeth_Broch |
CreateDate | 2012:09:09 12:26:31 |
Creator | Elisabeth_Broch |
CreatorTool | Adobe Photoshop Lightroom 5.3 (Macintosh) |
CustomRendered | Normal |
DateCreated (1) | 2012:09:09 |
DateCreated | 2012:09:09 12:26:31.036 |
DateTimeOriginal | 2012:09:09 12:26:31 |
DefringeGreenAmount | 0 |
DefringeGreenHueHi | 60 |
DefringeGreenHueLo | 40 |
DefringePurpleAmount | 0 |
DefringePurpleHueHi | 70 |
DefringePurpleHueLo | 30 |
DOF | 0.08 m (2.82 - 2.90 m) |
ExifImageHeight | 944 |
ExifImageWidth | 1100 |
Exposure2012 | -0.07 |
ExposureCompensation | 0 |
ExposureMode | Auto |
ExposureProgram | Shutter speed priority AE |
ExposureTime | 1/250 |
Firmware | 1.0.8 |
Flash | Off, Did not fire |
FlashCompensation | 0 |
FNumber | 4.0 |
FocalLength | 145.0 mm |
FocalLength35efl | 145.0 mm (35 mm equivalent: 160.7 mm) |
Format | image/jpeg |
FOV | 12.8 deg |
GrainAmount | 0 |
GreenHue | 0 |
GreenSaturation | 0 |
HasCrop | False |
HasSettings | True |
Highlights2012 | 0 |
HueAdjustmentAqua | +60 |
HueAdjustmentBlue | +8 |
HueAdjustmentGreen | +27 |
HueAdjustmentMagenta | +58 |
HueAdjustmentOrange | +20 |
HueAdjustmentPurple | -100 |
HueAdjustmentRed | +44 |
HueAdjustmentYellow | +15 |
HyperfocalDistance | 193.85 m |
ICCProfileName | sRGB IEC61966-2.1 |
ImageHeight (1) | 4409 |
ImageHeight | 944 |
ImageNumber | 0 |
ImageSize | 1100x944 |
ImageWidth (1) | 5500 |
ImageWidth | 1100 |
IncrementalTemperature | -1 |
IncrementalTint | +68 |
ISO | 1600 |
Lens | EF70-200mm f/2.8L IS II USM |
LensID (1) | 251 |
LensID | Canon EF 70-200mm f/2.8L IS II USM |
LensInfo | 70-200mm f/? |
LensManualDistortionAmount | 0 |
LensModel | EF70-200mm f/2.8L IS II USM |
LensProfileEnable | 0 |
LensProfileSetup | LensDefaults |
LightValue | 8.0 |
LuminanceAdjustmentAqua | 0 |
LuminanceAdjustmentBlue | 0 |
LuminanceAdjustmentGreen | 0 |
LuminanceAdjustmentMagenta | -4 |
LuminanceAdjustmentOrange | 0 |
LuminanceAdjustmentPurple | 0 |
LuminanceAdjustmentRed | -48 |
LuminanceAdjustmentYellow | 0 |
LuminanceSmoothing | 0 |
Make | Canon |
Marked | True |
MaxApertureValue | 2.8 |
Megapixels | 1.0 |
MeteringMode | Partial |
Model | Canon EOS-1D Mark IV |
ModifyDate (1) | 2014:03:25 10:46:28+01:00 |
ModifyDate | 2014:03:25 10:46:28 |
Orientation | Horizontal (normal) |
ParametricDarks | -4 |
ParametricHighlights | 0 |
ParametricHighlightSplit | 75 |
ParametricLights | +6 |
ParametricMidtoneSplit | 50 |
ParametricShadows | 0 |
ParametricShadowSplit | 25 |
PerspectiveAspect | 0 |
PerspectiveHorizontal | 0 |
PerspectiveRotate | 0.0 |
PerspectiveScale | 100 |
PerspectiveUpright | 0 |
PerspectiveVertical | 0 |
PhotometricInterpretation | RGB |
PlanarConfiguration | Chunky |
PostCropVignetteAmount | 0 |
ProcessVersion | 6.7 |
ProfileDescription | sRGB IEC61966-2.1 |
RedHue | 0 |
RedSaturation | -76 |
Rights | Elisabeth_Broch |
Saturation | -44 |
SaturationAdjustmentAqua | 0 |
SaturationAdjustmentBlue | -27 |
SaturationAdjustmentGreen | 0 |
SaturationAdjustmentMagenta | -20 |
SaturationAdjustmentOrange | 0 |
SaturationAdjustmentPurple | 0 |
SaturationAdjustmentRed | 0 |
SaturationAdjustmentYellow | 0 |
ScaleFactor35efl | 1.1 |
SceneCaptureType | Standard |
SerialNumber | 1031000429 |
Shadows2012 | +27 |
ShadowTint | 0 |
SharpenDetail | 25 |
SharpenEdgeMasking | 0 |
SharpenRadius | +1.0 |
Sharpness | 25 |
ShutterSpeed | 1/250 |
ShutterSpeedValue | 1/250 |
Software | Adobe Photoshop CS6 (Macintosh) |
SplitToningBalance | 0 |
SplitToningHighlightHue | 71 |
SplitToningHighlightSaturation | 25 |
SplitToningShadowHue | 281 |
SplitToningShadowSaturation | 21 |
ToneCurveName2012 | Custom |
ToneCurvePV2012 | 0, 0, 17, 26, 34, 44, 51, 60, 68, 74, 85, 89, 102, 105, 119, 120, 136, 135, 153, 151, 170, 167, 187, 183, 204, 200, 221, 218, 238, 236, 255, 255 |
ToneCurvePV2012Blue | 0, 0, 255, 255 |
ToneCurvePV2012Green | 0, 0, 255, 255 |
ToneCurvePV2012Red | 0, 0, 255, 255 |
URL_List | |
Version | 8.3 |
Vibrance | -22 |
VignetteAmount | -55 |
VignetteMidpoint | 19 |
WhiteBalance (1) | Custom |
WhiteBalance | Auto |
Whites2012 | 0 |