Felt | Verdi |
2014-03-24T12:08:08+01:00 File __MG_9377-777121165DCDE84E30EE7596DE7E201E9DA53.psb saved
2014-03-24T12:08:32+01:00 File 03b, birds.tif saved
2014-03-24T12:13:37+01:00 File 87ybL, birds.tif saved
2014-03-24T12:15:31+01:00 File 08uyb, birds.jpg saved
AlreadyApplied | True |
Aperture | 5.0 |
ApertureValue | 5.0 |
ApproximateFocusDistance | 11.3 |
Artist | ElisabethBroch |
AutoLateralCA | 0 |
AutoWhiteVersion | 134348800 |
BitsPerSample (1) | 16 16 16 |
BitsPerSample | 8 |
Blacks2012 | -6 |
BlueHue | 0 |
BlueSaturation | 0 |
By-line | ElisabethBroch |
CameraProfile | Camera Landscape |
CircleOfConfusion | 0.031 mm |
Clarity2012 | -41 |
ColorComponents | 1 |
ColorMode | RGB |
ColorNoiseReduction | 25 |
ColorNoiseReductionDetail | 50 |
ColorNoiseReductionSmoothness | 50 |
ColorSpace | sRGB |
ColorTemperature | 5457 |
Contrast2012 | +74 |
ConvertToGrayscale | True |
Copyright | Copyright Elisabeth Broch |
CopyrightFlag | True |
CopyrightNotice | Copyright Elisabeth Broch |
CreateDate | 2011:02:22 09:38:13 |
Creator | ElisabethBroch |
CreatorTool | Adobe Photoshop Lightroom 5.3 (Macintosh) |
CropAngle | -0.088503 |
CropBottom | 0.73447 |
CropConstrainToWarp | 0 |
CropLeft | 0.00323 |
CropRight | 0.762495 |
CropTop | 0.001757 |
CustomRendered | Normal |
DateCreated (1) | 2011:02:22 |
DateCreated | 2011:02:22 09:38:13.021-08:00 |
DateTimeOriginal | 2011:02:22 09:38:13 |
DOF | 0.97 m (10.84 - 11.80 m) |
ExifImageHeight | 710 |
ExifImageWidth | 1100 |
Exposure2012 | -1.65 |
ExposureCompensation | +2/3 |
ExposureMode | Auto |
ExposureProgram | Shutter speed priority AE |
ExposureTime | 1/500 |
Firmware | 2.0.8 |
Flash | Off, Did not fire |
FlashCompensation | 0 |
FNumber | 5.0 |
FocalLength | 200.0 mm |
FocalLength35efl | 200.0 mm (35 mm equivalent: 195.2 mm) |
Format | image/jpeg |
FOV | 10.5 deg |
GrainAmount | 0 |
GrayMixerAqua | -15 |
GrayMixerBlue | -94 |
GrayMixerGreen | -28 |
GrayMixerMagenta | +3 |
GrayMixerOrange | +65 |
GrayMixerPurple | +20 |
GrayMixerRed | -13 |
GrayMixerYellow | +52 |
GreenHue | 0 |
GreenSaturation | 0 |
HasCrop | True |
HasSettings | True |
Highlights2012 | +66 |
HyperfocalDistance | 259.85 m |
ICCProfileName | sRGB IEC61966-2.1 |
ImageHeight (1) | 2750 |
ImageHeight | 710 |
ImageNumber | 0 |
ImageSize | 1100x710 |
ImageWidth (1) | 4260 |
ImageWidth | 1100 |
ISO | 1600 |
Lens | EF70-200mm f/2.8L IS USM |
LensID (1) | 224 |
LensID | Canon EF 70-200mm f/2.8L IS USM |
LensInfo | 70-200mm f/? |
LensManualDistortionAmount | 0 |
LensModel | EF70-200mm f/2.8L IS USM |
LensProfileChromaticAberrationScale | 100 |
LensProfileDistortionScale | 100 |
LensProfileEnable | 1 |
LensProfileFilename | Canon EOS 5D Mark II (Canon EF 70-200mm f2.8 L IS USM) - RAW.lcp |
LensProfileName | Adobe (Canon EF 70-200mm f2.8 L IS USM) |
LensProfileSetup | LensDefaults |
LensProfileVignettingScale | 100 |
LightValue | 9.6 |
LuminanceNoiseReductionContrast | 0 |
LuminanceNoiseReductionDetail | 50 |
LuminanceSmoothing | 12 |
Make | Canon |
Marked | True |
MaxApertureValue | 2.8 |
Megapixels | 0.781 |
MeteringMode | Multi-segment |
Model | Canon EOS 5D Mark II |
ModifyDate (1) | 2014:03:24 12:15:31+01:00 |
ModifyDate | 2014:03:24 12:15:31 |
ObjectName | 03 Birds |
Orientation | Horizontal (normal) |
ParametricDarks | -77 |
ParametricHighlights | 0 |
ParametricHighlightSplit | 75 |
ParametricLights | 0 |
ParametricMidtoneSplit | 50 |
ParametricShadows | +82 |
ParametricShadowSplit | 25 |
PerspectiveAspect | 0 |
PerspectiveHorizontal | 0 |
PerspectiveRotate | 0.0 |
PerspectiveScale | 100 |
PerspectiveUpright | 0 |
PerspectiveVertical | 0 |
PhotometricInterpretation | RGB |
PlanarConfiguration | Chunky |
PostCropVignetteAmount | -10 |
PostCropVignetteFeather | 87 |
PostCropVignetteHighlightContrast | 0 |
PostCropVignetteMidpoint | 8 |
PostCropVignetteRoundness | +58 |
PostCropVignetteStyle | 1 |
ProcessVersion | 6.7 |
ProfileDescription | sRGB IEC61966-2.1 |
RedHue | 0 |
RedSaturation | 0 |
Rights | Copyright Elisabeth Broch |
ScaleFactor35efl | 1.0 |
SceneCaptureType | Standard |
SerialNumber | 2531504887 |
Shadows2012 | +74 |
ShadowTint | 0 |
SharpenDetail | 44 |
SharpenEdgeMasking | 9 |
SharpenRadius | +1.4 |
Sharpness | 1 |
ShutterSpeed | 1/500 |
ShutterSpeedValue | 1/500 |
Software | Adobe Photoshop CS6 (Macintosh) |
SplitToningBalance | 0 |
SplitToningHighlightHue | 0 |
SplitToningHighlightSaturation | 0 |
SplitToningShadowHue | 0 |
SplitToningShadowSaturation | 0 |
SubjectDistance | 11.3 m |
Tint | +2 |
Title | 03 Birds |
ToneCurveName2012 | Custom |
ToneCurvePV2012 | 0, 0, 52, 46, 197, 209, 255, 255 |
ToneCurvePV2012Blue | 0, 0, 255, 255 |
ToneCurvePV2012Green | 0, 0, 255, 255 |
ToneCurvePV2012Red | 0, 0, 255, 255 |
URL_List | |
Version | 8.3 |
VignetteAmount | 0 |
WhiteBalance (1) | Custom |
WhiteBalance | Auto |
Whites2012 | +55 |