Felt | Verdi |
AlreadyApplied | True |
Aperture | 2.8 |
ApertureValue | 2.8 |
ApproximateFocusDistance | 4294967295 |
Artist | Zoltan Tot |
AutoLateralCA | 0 |
AutoWhiteVersion | 134348800 |
BitsPerSample | 8 |
Blacks2012 | -63 |
BlueHue | 0 |
BlueSaturation | 0 |
By-line | Zoltan Tot |
CameraProfile | Adobe Standard |
CFAPattern | [Red,Green][Green,Blue] |
CircleOfConfusion | 0.030 mm |
Clarity2012 | +38 |
ColorComponents | 3 |
ColorMode | RGB |
ColorNoiseReduction | 25 |
ColorNoiseReductionDetail | 50 |
ColorNoiseReductionSmoothness | 50 |
ColorSpace | Uncalibrated |
ColorTemperature | 2900 |
Contrast | Normal |
Contrast2012 | -28 |
ConvertToGrayscale | False |
Copyright | Zoltan ToT |
CopyrightNotice | Zoltan ToT |
CreateDate | 2014:03:04 21:20:17 |
Creator | Zoltan Tot |
CreatorTool | Ver.1.01 |
CustomRendered | Custom |
DateCreated (1) | 2014:03:04 |
DateCreated | 2014:03:04 21:20:17.009 |
DateTimeOriginal | 2014:03:04 21:20:17 |
DefringeGreenAmount | 0 |
DefringeGreenHueHi | 60 |
DefringeGreenHueLo | 40 |
DefringePurpleAmount | 0 |
DefringePurpleHueHi | 70 |
DefringePurpleHueLo | 30 |
DigitalZoomRatio | 1 |
DOF | inf (2.33 m - inf) |
ExifImageHeight | 4016 |
ExifImageWidth | 6016 |
Exposure2012 | +2.90 |
ExposureCompensation | 0 |
ExposureMode | Manual |
ExposureProgram | Manual |
ExposureTime | 2 |
Flash | Off, Did not fire |
FNumber | 2.8 |
FocalLength | 14.0 mm |
FocalLength35efl | 14.0 mm (35 mm equivalent: 14.0 mm) |
FocalLengthIn35mmFormat | 14 mm |
Format | image/jpeg |
FOV | 104.3 deg |
GainControl | High gain up |
GradientBasedCorrActive | true |
GradientBasedCorrAmount | 1.000000 |
GradientBasedCorrBrightness | 0.000000 |
GradientBasedCorrClarity | 0.000000 |
GradientBasedCorrClarity2012 (1) | 0.760000 |
GradientBasedCorrClarity2012 (2) | 0.150000 |
GradientBasedCorrClarity2012 | 0.610000 |
GradientBasedCorrContrast | 0.000000 |
GradientBasedCorrContrast2012 | 0.490000 |
GradientBasedCorrDefringe | 0.000000 |
GradientBasedCorrExposure | 0.000000 |
GradientBasedCorrExposure2012 (1) | 0.262500 |
GradientBasedCorrExposure2012 | -0.737500 |
GradientBasedCorrHighlights2012 (1) | -0.450000 |
GradientBasedCorrHighlights2012 (2) | -0.010000 |
GradientBasedCorrHighlights2012 | 0.580000 |
GradientBasedCorrHue | 228.000000 |
GradientBasedCorrLuminanceNoise | 0.000000 |
GradientBasedCorrMaskFullX (1) | 0.026807 |
GradientBasedCorrMaskFullX (2) | 1.003497 |
GradientBasedCorrMaskFullX | 0.374126 |
GradientBasedCorrMaskFullY (1) | 1.003490 |
GradientBasedCorrMaskFullY (2) | 1.012216 |
GradientBasedCorrMaskFullY | 0.000000 |
GradientBasedCorrMaskValue | 1.000000 |
GradientBasedCorrMaskWhat | Mask/Gradient |
GradientBasedCorrMaskZeroX (1) | 0.832168 |
GradientBasedCorrMaskZeroX (2) | 0.674825 |
GradientBasedCorrMaskZeroX | 0.487179 |
GradientBasedCorrMaskZeroY (1) | 0.219895 |
GradientBasedCorrMaskZeroY (2) | 0.251309 |
GradientBasedCorrMaskZeroY | 0.811518 |
GradientBasedCorrMoire | 0.000000 |
GradientBasedCorrSaturation (1) | 0.310000 |
GradientBasedCorrSaturation (3) | 0.410000 |
GradientBasedCorrSaturation | 0.000000 |
GradientBasedCorrShadows2012 (1) | 0.210000 |
GradientBasedCorrShadows2012 | 0.440000 |
GradientBasedCorrSharpness | 0.230000 |
GradientBasedCorrTemperature (1) | -0.230000 |
GradientBasedCorrTemperature (2) | -0.820000 |
GradientBasedCorrTemperature | -0.680000 |
GradientBasedCorrTint (1) | -0.210000 |
GradientBasedCorrTint (2) | 0.180000 |
GradientBasedCorrTint | -0.190000 |
GradientBasedCorrWhat | Correction |
GrainAmount | 0 |
GreenHue | 0 |
GreenSaturation | 0 |
HasCrop | False |
HasSettings | True |
Highlights2012 | -56 |
HueAdjustmentAqua | 0 |
HueAdjustmentBlue | 0 |
HueAdjustmentGreen | 0 |
HueAdjustmentMagenta | 0 |
HueAdjustmentOrange | 0 |
HueAdjustmentPurple | 0 |
HueAdjustmentRed | 0 |
HueAdjustmentYellow | 0 |
HyperfocalDistance | 2.33 m |
ICCProfileName | Adobe RGB (1998) |
ImageHeight | 4016 |
ImageNumber | 4208 |
ImageSize | 6016x4016 |
ImageWidth | 6016 |
ISO | 1000 |
Lens | 14.0 mm f/2.8 |
LensID (1) | 74 |
LensID | Samyang AE 14mm f/2.8 ED AS IF UMC |
LensInfo | 14mm f/2.8-1.4 |
LensManualDistortionAmount | 0 |
LensModel | 14.0 mm f/2.8 |
LensProfileEnable | 0 |
LensProfileSetup | LensDefaults |
LightSource | Unknown |
LightValue | -1.4 |
LuminanceAdjustmentAqua | 0 |
LuminanceAdjustmentBlue | 0 |
LuminanceAdjustmentGreen | +38 |
LuminanceAdjustmentMagenta | 0 |
LuminanceAdjustmentOrange | -16 |
LuminanceAdjustmentPurple | 0 |
LuminanceAdjustmentRed | 0 |
LuminanceAdjustmentYellow | +12 |
LuminanceNoiseReductionContrast | 0 |
LuminanceNoiseReductionDetail | 12 |
LuminanceSmoothing | 52 |
Make | NIKON CORPORATION |
MaxApertureValue | 2.8 |
Megapixels | 24.2 |
MeteringMode | Center-weighted average |
Model | NIKON D600 |
ModifyDate (1) | 2014:03:04 23:46:02+01:00 |
ModifyDate | 2014:03:04 23:46:02 |
Orientation | Horizontal (normal) |
ParametricDarks | 0 |
ParametricHighlights | 0 |
ParametricHighlightSplit | 75 |
ParametricLights | 0 |
ParametricMidtoneSplit | 50 |
ParametricShadows | 0 |
ParametricShadowSplit | 25 |
PerspectiveAspect | 0 |
PerspectiveHorizontal | 0 |
PerspectiveRotate | 0.0 |
PerspectiveScale | 100 |
PerspectiveUpright | 0 |
PerspectiveVertical | 0 |
PostCropVignetteAmount | 0 |
ProcessVersion | 6.7 |
ProfileDescription | Adobe RGB (1998) |
Rating | 0 |
RawFileName | _BDS3969.NEF |
RedHue | 0 |
RedSaturation | 0 |
Rights | Zoltan ToT |
Saturation (1) | 0 |
Saturation | Normal |
SaturationAdjustmentAqua | +31 |
SaturationAdjustmentBlue | 0 |
SaturationAdjustmentGreen | +6 |
SaturationAdjustmentMagenta | 0 |
SaturationAdjustmentOrange | 0 |
SaturationAdjustmentPurple | 0 |
SaturationAdjustmentRed | 0 |
SaturationAdjustmentYellow | -28 |
ScaleFactor35efl | 1.0 |
SceneCaptureType | Standard |
SceneType | Directly photographed |
SensingMethod | One-chip color area |
SensitivityType | Recommended Exposure Index |
SerialNumber | 6015639 |
Shadows2012 | +11 |
ShadowTint | 0 |
SharpenDetail | 1 |
SharpenEdgeMasking | 76 |
SharpenRadius | +0.6 |
Sharpness (1) | 136 |
Sharpness | Normal |
ShutterSpeed | 2 |
ShutterSpeedValue | 2 |
Software | Adobe Photoshop CC (Macintosh) |
SplitToningBalance | 0 |
SplitToningHighlightHue | 0 |
SplitToningHighlightSaturation | 0 |
SplitToningShadowHue | 0 |
SplitToningShadowSaturation | 0 |
SubjectDistanceRange | Unknown |
Tint | -2 |
ToneCurveName2012 | Linear |
ToneCurvePV2012 | 0, 0, 255, 255 |
ToneCurvePV2012Blue | 0, 0, 255, 255 |
ToneCurvePV2012Green | 0, 0, 255, 255 |
ToneCurvePV2012Red | 0, 0, 255, 255 |
URL_List | |
Version | 8.3 |
Vibrance | 0 |
VignetteAmount | +31 |
VignetteMidpoint | 29 |
WhiteBalance (1) | Custom |
WhiteBalance | Manual |
Whites2012 | -34 |