Felt | Verdi |
AlreadyApplied | True |
Aperture | 5.6 |
ApertureValue | 5.6 |
ApproximateFocusDistance | 4.27 |
Artist | Erik Five Gunnerud |
BitsPerSample (1) | 16 16 16 |
BitsPerSample | 8 |
BlueHue | 0 |
BlueSaturation | 0 |
Brightness | +8 |
By-line | Erik Five Gunnerud |
CameraProfile | Adobe Standard |
ChromaticAberrationB | 0 |
ChromaticAberrationR | 0 |
CircleOfConfusion | 0.027 mm |
Clarity | +30 |
ColorComponents | 3 |
ColorMode | RGB |
ColorNoiseReduction | 41 |
ColorNoiseReductionDetail | 50 |
ColorSpace | sRGB |
ColorTemperature | 5850 |
Contrast | +63 |
ConvertToGrayscale | False |
Copyright | Erik Five Gunnerud |
CopyrightNotice | Erik Five Gunnerud |
CreateDate | 2012:07:01 18:23:56 |
Creator | Erik Five Gunnerud |
CreatorTool | Adobe Photoshop CS5 Macintosh |
CustomRendered | Normal |
DateCreated (1) | 2012:07:01 |
DateCreated | 2012:07:01 18:23:56.066 |
DateTimeOriginal | 2012:07:01 18:23:56 |
Defringe | 0 |
DOF | 0.60 m (3.99 - 4.59 m) |
ExifImageHeight | 1044 |
ExifImageWidth | 1200 |
Exposure | +2.60 |
ExposureCompensation | -2/3 |
ExposureMode | Auto |
ExposureProgram | Shutter speed priority AE |
ExposureTime | 1/250 |
FillLight | 13 |
Firmware | 1.0.8 |
Flash | Off, Did not fire |
FlashCompensation | 0 |
FNumber | 5.6 |
FocalLength | 95.0 mm |
FocalLength35efl | 95.0 mm (35 mm equivalent: 105.3 mm) |
Format | image/jpeg |
FOV | 19.4 deg |
GrainAmount | 0 |
GreenHue | 0 |
GreenSaturation | 0 |
HasCrop | False |
HasSettings | True |
HighlightRecovery | 27 |
HueAdjustmentAqua | -3 |
HueAdjustmentBlue | +3 |
HueAdjustmentGreen | +7 |
HueAdjustmentMagenta | 0 |
HueAdjustmentOrange | -5 |
HueAdjustmentPurple | 0 |
HueAdjustmentRed | -10 |
HueAdjustmentYellow | +3 |
HyperfocalDistance | 59.44 m |
ICCProfileName | sRGB IEC61966-2.1 |
ImageHeight (1) | 3279 |
ImageHeight | 1044 |
ImageNumber | 0 |
ImageSize | 1200x1044 |
ImageWidth (1) | 3708 |
ImageWidth | 1200 |
ISO | 1600 |
Lens | EF70-200mm f/2.8L IS II USM |
LensID (1) | 251 |
LensID | Canon EF 70-200mm f/2.8L IS II USM |
LensInfo | 70-200mm f/? |
LensManualDistortionAmount | 0 |
LensModel | EF70-200mm f/2.8L IS II USM |
LensProfileEnable | 0 |
LensProfileSetup | LensDefaults |
LightValue | 8.9 |
LuminanceAdjustmentAqua | -7 |
LuminanceAdjustmentBlue | +2 |
LuminanceAdjustmentGreen | 0 |
LuminanceAdjustmentMagenta | 0 |
LuminanceAdjustmentOrange | -6 |
LuminanceAdjustmentPurple | 0 |
LuminanceAdjustmentRed | -21 |
LuminanceAdjustmentYellow | +43 |
LuminanceNoiseReductionContrast | 0 |
LuminanceNoiseReductionDetail | 50 |
LuminanceSmoothing | 59 |
Make | Canon |
MaxApertureValue | 2.8 |
Megapixels | 1.3 |
MeteringMode | Multi-segment |
Model | Canon EOS-1D Mark IV |
ModifyDate (1) | 2013:11:05 15:32:19+01:00 |
ModifyDate | 2013:11:05 15:32:19 |
Orientation | Horizontal (normal) |
PaintCorrectionActive | true |
PaintCorrectionAmount | 1.000000 |
PaintCorrectionBrightness | -0.055000 |
PaintCorrectionClarity | 0.500000 |
PaintCorrectionContrast | 0.100000 |
PaintCorrectionExposure | 0.012500 |
PaintCorrectionHue | 230.000000 |
PaintCorrectionMaskCenterWeight | 0.028829 |
PaintCorrectionMaskFlow | 0.973294 |
PaintCorrectionMaskRadius | 0.104271 |
PaintCorrectionMaskValue | 0.360000 |
PaintCorrectionMaskWhat | Mask/Paint |
PaintCorrectionSaturation (1) | 0.040000 |
PaintCorrectionSaturation | 0.010000 |
PaintCorrectionSharpness | 0.470000 |
PaintCorrectionWhat | Correction |
ParametricDarks | 0 |
ParametricHighlights | 0 |
ParametricHighlightSplit | 75 |
ParametricLights | 0 |
ParametricMidtoneSplit | 50 |
ParametricShadows | 0 |
ParametricShadowSplit | 25 |
PerspectiveHorizontal | 0 |
PerspectiveRotate | 0.0 |
PerspectiveScale | 100 |
PerspectiveVertical | 0 |
PhotometricInterpretation | RGB |
PlanarConfiguration | Chunky |
PostCropVignetteAmount | 0 |
ProcessVersion | 5.7 |
ProfileDescription | sRGB IEC61966-2.1 |
Rating | 0 |
RawFileName | 20120701_IMG_9999_355.CR2 |
RedHue | 0 |
RedSaturation | 0 |
Rights | Erik Five Gunnerud |
Saturation | -20 |
SaturationAdjustmentAqua | -2 |
SaturationAdjustmentBlue | 0 |
SaturationAdjustmentGreen | +18 |
SaturationAdjustmentMagenta | 0 |
SaturationAdjustmentOrange | -17 |
SaturationAdjustmentPurple | 0 |
SaturationAdjustmentRed | -4 |
SaturationAdjustmentYellow | -20 |
ScaleFactor35efl | 1.1 |
SceneCaptureType | Standard |
SerialNumber | 1031000429 |
Shadows | 26 |
ShadowTint | 0 |
SharpenDetail | 25 |
SharpenEdgeMasking | 0 |
SharpenRadius | +1.0 |
Sharpness | 6 |
ShutterSpeed | 1/250 |
ShutterSpeedValue | 1/250 |
Software | Adobe Photoshop CS6 (Macintosh) |
SplitToningBalance | 0 |
SplitToningHighlightHue | 0 |
SplitToningHighlightSaturation | 0 |
SplitToningShadowHue | 0 |
SplitToningShadowSaturation | 0 |
SubjectDistance | 4.27 m |
Tint | +15 |
ToneCurve | 0, 0, 32, 22, 64, 56, 128, 128, 192, 196, 255, 255 |
ToneCurveName | Medium Contrast |
URL_List | |
Version | 6.6 |
Vibrance | +3 |
VignetteAmount | 0 |
WhiteBalance (1) | Custom |
WhiteBalance | Auto |