Felt | Verdi |
AlreadyApplied | True |
Aperture | 1.8 |
ApertureValue | 1.8 |
AutoLateralCA | 0 |
BitsPerSample | 8 |
Blacks2012 | +100 |
BlueHue | 0 |
BlueSaturation | 0 |
CameraProfile | Embedded |
CircGradBasedCorrActive | true |
CircGradBasedCorrAmount | 1.000000 |
CircGradBasedCorrBrightness | 0.000000 |
CircGradBasedCorrClarity2012 | -0.287360 |
CircGradBasedCorrContrast2012 | 0.655170 |
CircGradBasedCorrDefringe | 0.000000 |
CircGradBasedCorrExposure2012 | -0.172500 |
CircGradBasedCorrHighlights2012 | 0.000000 |
CircGradBasedCorrHue | 240.000000 |
CircGradBasedCorrLuminanceNoise | 0.000000 |
CircGradBasedCorrMaskAngle | -35.631500 |
CircGradBasedCorrMaskBottom | 0.499126 |
CircGradBasedCorrMaskFeather | +50 |
CircGradBasedCorrMaskFlipped | true |
CircGradBasedCorrMaskLeft | 0.481148 |
CircGradBasedCorrMaskMidpoint | +50 |
CircGradBasedCorrMaskRight | 0.527269 |
CircGradBasedCorrMaskRoundness | 0 |
CircGradBasedCorrMaskTop | 0.461733 |
CircGradBasedCorrMaskValue | 1.000000 |
CircGradBasedCorrMaskVersion | +2 |
CircGradBasedCorrMaskWhat | Mask/CircularGradient |
CircGradBasedCorrMoire | 0.000000 |
CircGradBasedCorrSaturation | 0.000000 |
CircGradBasedCorrShadows2012 | -0.816090 |
CircGradBasedCorrSharpness | 0.000000 |
CircGradBasedCorrTemperature | 0.000000 |
CircGradBasedCorrTint | 0.000000 |
CircGradBasedCorrWhat | Correction |
CircleOfConfusion | 0.019 mm |
Clarity2012 | +100 |
ColorComponents | 1 |
ColorNoiseReduction | 36 |
ColorNoiseReductionDetail | 50 |
Contrast2012 | -52 |
ConvertToGrayscale | True |
CreateDate (1) | 2013:01:15 15:29:57.63 |
CreateDate | 2013:01:15 15:29:57 |
CreatorTool | Adobe Photoshop Lightroom 5.0 (Windows) |
CropAngle | 0 |
CropBottom | 0.908549 |
CropConstrainToWarp | 0 |
CropLeft | 0 |
CropRight | 0.978808 |
CropTop | 0 |
CustomRendered | Normal |
DateCreated (1) | 2013:01:15 |
DateCreated | 2013:01:15 15:29:57.63 |
DateTimeOriginal | 2013:01:15 15:29:57 |
Exposure2012 | 0.00 |
ExposureCompensation | 0 |
ExposureMode | Manual |
ExposureProgram | Manual |
ExposureTime | 1/2000 |
Firmware | 1.0.3 |
Flash | Off, Did not fire |
FlashCompensation | 0 |
FNumber | 1.8 |
FocalLength | 50.0 mm |
FocalLength35efl | 50.0 mm (35 mm equivalent: 79.2 mm) |
Format | image/jpeg |
FOV | 25.6 deg |
GradientBasedCorrActive | true |
GradientBasedCorrAmount | 1.000000 |
GradientBasedCorrBrightness | 0.000000 |
GradientBasedCorrClarity2012 | 0.000000 |
GradientBasedCorrContrast2012 (2) | 0.885060 |
GradientBasedCorrContrast2012 (3) | 1.000000 |
GradientBasedCorrContrast2012 | -0.724140 |
GradientBasedCorrDefringe | 0.000000 |
GradientBasedCorrExposure2012 (2) | -0.494250 |
GradientBasedCorrExposure2012 (3) | 1.000000 |
GradientBasedCorrExposure2012 | -1.000000 |
GradientBasedCorrHighlights2012 (2) | 0.954020 |
GradientBasedCorrHighlights2012 (3) | 1.000000 |
GradientBasedCorrHighlights2012 | -0.793100 |
GradientBasedCorrHue | 240.000000 |
GradientBasedCorrLuminanceNoise (2) | 0.000000 |
GradientBasedCorrLuminanceNoise | 0.931030 |
GradientBasedCorrMaskFullX (1) | 1.233200 |
GradientBasedCorrMaskFullX (2) | 0.349669 |
GradientBasedCorrMaskFullX (3) | 0.086066 |
GradientBasedCorrMaskFullX | 0.967338 |
GradientBasedCorrMaskFullY (1) | 1.062710 |
GradientBasedCorrMaskFullY (2) | 0.266402 |
GradientBasedCorrMaskFullY (3) | 0.607841 |
GradientBasedCorrMaskFullY | 0.828214 |
GradientBasedCorrMaskValue | 1.000000 |
GradientBasedCorrMaskWhat | Mask/Gradient |
GradientBasedCorrMaskZeroX (1) | 0.917513 |
GradientBasedCorrMaskZeroX (2) | 0.579046 |
GradientBasedCorrMaskZeroX (3) | 0.307312 |
GradientBasedCorrMaskZeroX | 0.663356 |
GradientBasedCorrMaskZeroY (1) | 0.656358 |
GradientBasedCorrMaskZeroY (2) | 0.509304 |
GradientBasedCorrMaskZeroY (3) | 0.034305 |
GradientBasedCorrMaskZeroY | 0.517993 |
GradientBasedCorrMoire | 0.000000 |
GradientBasedCorrSaturation | 0.000000 |
GradientBasedCorrShadows2012 (3) | 0.000000 |
GradientBasedCorrShadows2012 | -1.000000 |
GradientBasedCorrSharpness (2) | 0.724140 |
GradientBasedCorrSharpness (3) | 0.000000 |
GradientBasedCorrSharpness | -0.218390 |
GradientBasedCorrTemperature | 0.000000 |
GradientBasedCorrTint | 0.000000 |
GradientBasedCorrWhat | Correction |
GrainAmount | 0 |
GrayMixerAqua | -19 |
GrayMixerBlue | +8 |
GrayMixerGreen | -26 |
GrayMixerMagenta | +4 |
GrayMixerOrange | -18 |
GrayMixerPurple | +15 |
GrayMixerRed | -9 |
GrayMixerYellow | -22 |
GreenHue | 0 |
GreenSaturation | 0 |
HasCrop | True |
HasSettings | True |
Highlights2012 | +12 |
HyperfocalDistance | 73.25 m |
ImageHeight | 2878 |
ImageNumber | 0 |
ImageSize | 4651x2878 |
ImageWidth | 4651 |
IncrementalTemperature | 0 |
IncrementalTint | 0 |
ISO | 100 |
Lens | EF50mm f/1.8 II |
LensID (1) | 29 |
LensID | Canon EF 50mm f/1.8 II |
LensInfo | 50mm f/? |
LensManualDistortionAmount | 0 |
LensModel | EF50mm f/1.8 II |
LensProfileEnable | 0 |
LensProfileSetup | LensDefaults |
LightValue | 12.7 |
LuminanceNoiseReductionContrast | 0 |
LuminanceNoiseReductionDetail | 82 |
LuminanceSmoothing | 80 |
Make | Canon |
MaxApertureValue | 1.8 |
Megapixels | 13.4 |
MeteringMode | Multi-segment |
Model | Canon EOS 50D |
ModifyDate (1) | 2013:10:26 15:39:00+03:00 |
ModifyDate | 2013:10:26 15:39:00 |
PaintCorrectionActive | true |
PaintCorrectionAmount | 1.000000 |
PaintCorrectionBrightness | 0.000000 |
PaintCorrectionClarity2012 (1) | 0.908050 |
PaintCorrectionClarity2012 | 0.000000 |
PaintCorrectionContrast2012 | 0.000000 |
PaintCorrectionDefringe | 0.000000 |
PaintCorrectionExposure2012 | 0.287250 |
PaintCorrectionHighlights2012 (2) | 1.000000 |
PaintCorrectionHighlights2012 | 0.000000 |
PaintCorrectionHue (1) | 104.000000 |
PaintCorrectionHue (2) | 279.000000 |
PaintCorrectionHue | 306.000000 |
PaintCorrectionLuminanceNoise | 0.000000 |
PaintCorrectionMaskCenterWeight | 0.002858 |
PaintCorrectionMaskFlow | 0.600000 |
PaintCorrectionMaskRadius (1) | 0.023687 |
PaintCorrectionMaskRadius | 0.135673 |
PaintCorrectionMaskValue | 1.000000 |
PaintCorrectionMaskWhat | Mask/Paint |
PaintCorrectionMoire | 0.000000 |
PaintCorrectionSaturation | 0.000000 |
PaintCorrectionShadows2012 (2) | -0.724140 |
PaintCorrectionShadows2012 | 0.000000 |
PaintCorrectionSharpness (1) | 1.000000 |
PaintCorrectionSharpness | 0.000000 |
PaintCorrectionTemperature | 0.000000 |
PaintCorrectionTint | 0.000000 |
PaintCorrectionWhat | Correction |
ParametricDarks | 0 |
ParametricHighlights | 0 |
ParametricHighlightSplit | 75 |
ParametricLights | 0 |
ParametricMidtoneSplit | 50 |
ParametricShadows | 0 |
ParametricShadowSplit | 25 |
PerspectiveAspect | 0 |
PerspectiveHorizontal | 0 |
PerspectiveRotate | 0.0 |
PerspectiveScale | 100 |
PerspectiveUpright | 0 |
PerspectiveVertical | 0 |
PostCropVignetteAmount | -21 |
PostCropVignetteFeather | 92 |
PostCropVignetteHighlightContrast | 100 |
PostCropVignetteMidpoint | 0 |
PostCropVignetteRoundness | -57 |
PostCropVignetteStyle | 1 |
ProcessVersion | 6.7 |
ProfileDescription | Adobe RGB (1998) |
Rating | 5 |
RedHue | 0 |
RedSaturation | 0 |
ScaleFactor35efl | 1.6 |
SceneCaptureType | Standard |
SerialNumber | 430353506 |
Shadows2012 | -60 |
ShadowTint | 0 |
SharpenDetail | 0 |
SharpenEdgeMasking | 0 |
SharpenRadius | +0.5 |
Sharpness | 52 |
ShutterSpeed | 1/2000 |
ShutterSpeedValue | 1/2000 |
Software | Adobe Photoshop Lightroom 5.0 (Windows) |
SplitToningBalance | +57 |
SplitToningHighlightHue | 17 |
SplitToningHighlightSaturation | 0 |
SplitToningShadowHue | 257 |
SplitToningShadowSaturation | 0 |
ToneCurveName2012 | Linear |
ToneCurvePV2012 | 0, 0, 255, 255 |
ToneCurvePV2012Blue | 0, 0, 255, 255 |
ToneCurvePV2012Green | 0, 0, 255, 255 |
ToneCurvePV2012Red | 0, 0, 255, 255 |
Version | 8.1 |
VignetteAmount | 0 |
WhiteBalance (1) | As Shot |
WhiteBalance | Auto |
Whites2012 | 0 |