Felt | Verdi |
AlreadyApplied | True |
Aperture | 4.0 |
ApertureValue | 4.0 |
ApproximateFocusDistance | 31.3 |
Artist | Tor Arne Vinje |
AutoLateralCA | 1 |
BitsPerSample | 8 |
Blacks2012 | +99 |
BlueHue | 0 |
BlueSaturation | 0 |
By-line | Tor Arne Vinje |
CameraProfile | Adobe Standard |
CircleOfConfusion | 0.019 mm |
Clarity2012 | +58 |
ColorComponents | 3 |
ColorNoiseReduction | 25 |
ColorNoiseReductionDetail | 50 |
ColorTemperature | 4250 |
Contrast2012 | +21 |
ConvertToGrayscale | False |
Copyright | Copyright (C)
CopyrightNotice | Copyright (C)
CreateDate (1) | 2013:07:29 21:13:59.23 |
CreateDate | 2013:07:29 21:13:59 |
Creator | Tor Arne Vinje |
CreatorTool | Adobe Photoshop Lightroom 5.0 (Macintosh) |
CropAngle | 0 |
CropBottom | 0.917547 |
CropConstrainToWarp | 0 |
CropLeft | 0.431889 |
CropRight | 0.952664 |
CropTop | 0.252253 |
CustomRendered | Normal |
DateCreated (1) | 2013:07:29 |
DateCreated | 2013:07:29 21:13:59.23 |
DateTimeOriginal | 2013:07:29 21:13:59 |
DefringeGreenAmount | 0 |
DefringeGreenHueHi | 60 |
DefringeGreenHueLo | 40 |
DefringePurpleAmount | 6 |
DefringePurpleHueHi | 80 |
DefringePurpleHueLo | 20 |
DOF | 0.40 m (31.10 - 31.50 m) |
Exposure2012 | -1.16 |
ExposureCompensation | 0 |
ExposureMode | Auto |
ExposureProgram | Aperture-priority AE |
ExposureTime | 1/500 |
Firmware | 1.2.4 |
Flash | Off, Did not fire |
FlashCompensation | 0 |
FNumber | 4.0 |
FocalLength | 600.0 mm |
FocalLength35efl | 600.0 mm (35 mm equivalent: 969.6 mm) |
Format | image/jpeg |
FOV | 2.1 deg |
GrainAmount | 0 |
GreenHue | 0 |
GreenSaturation | 0 |
HasCrop | True |
HasSettings | True |
Highlights2012 | -61 |
HueAdjustmentAqua | 0 |
HueAdjustmentBlue | 0 |
HueAdjustmentGreen | 0 |
HueAdjustmentMagenta | 0 |
HueAdjustmentOrange | 0 |
HueAdjustmentPurple | 0 |
HueAdjustmentRed | 0 |
HueAdjustmentYellow | 0 |
HyperfocalDistance | 4840.57 m |
ImageHeight | 2500 |
ImageNumber | 0 |
ImageSize | 2935x2500 |
ImageWidth | 2935 |
ISO | 8000 |
Label | Blue |
Lens | EF600mm f/4L IS USM |
LensID (1) | 185 |
LensID | Canon EF 600mm f/4L IS USM |
LensInfo | 600mm f/? |
LensManualDistortionAmount | 0 |
LensModel | EF600mm f/4L IS USM |
LensProfileChromaticAberrationScale | 100 |
LensProfileDistortionScale | 100 |
LensProfileEnable | 1 |
LensProfileFilename | Canon EOS 5D Mark II (Canon EF 600mm f4 L IS USM) - RAW.lcp |
LensProfileName | Adobe (Canon EF 600mm f/4 L IS USM) |
LensProfileSetup | LensDefaults |
LensProfileVignettingScale | 100 |
LensSerialNumber | 0000000000 |
LightValue | 6.6 |
LuminanceAdjustmentAqua | 0 |
LuminanceAdjustmentBlue | 0 |
LuminanceAdjustmentGreen | -56 |
LuminanceAdjustmentMagenta | 0 |
LuminanceAdjustmentOrange | 0 |
LuminanceAdjustmentPurple | 0 |
LuminanceAdjustmentRed | 0 |
LuminanceAdjustmentYellow | -1 |
LuminanceSmoothing | 0 |
Make | Canon |
MaxApertureValue | 4.0 |
Megapixels | 7.3 |
MeteringMode | Multi-segment |
Mobil +47 90115481 |
Model | Canon EOS-1D X |
ModifyDate (1) | 2013:08:17 20:07:19+02:00 |
ModifyDate | 2013:08:17 20:07:19 |
ParametricDarks | +84 |
ParametricHighlights | +16 |
ParametricHighlightSplit | 81 |
ParametricLights | -21 |
ParametricMidtoneSplit | 50 |
ParametricShadows | -18 |
ParametricShadowSplit | 25 |
PerspectiveAspect | 0 |
PerspectiveHorizontal | 0 |
PerspectiveRotate | 0.0 |
PerspectiveScale | 100 |
PerspectiveUpright | 0 |
PerspectiveVertical | 0 |
PostCropVignetteAmount | 0 |
ProcessVersion | 6.7 |
ProfileDescription | sRGB IEC61966-2.1 |
RecommendedExposureIndex | 8000 |
RedHue | 0 |
RedSaturation | 0 |
Rights | Copyright (C)
Saturation | 0 |
SaturationAdjustmentAqua | -2 |
SaturationAdjustmentBlue | 0 |
SaturationAdjustmentGreen | -42 |
SaturationAdjustmentMagenta | 0 |
SaturationAdjustmentOrange | -12 |
SaturationAdjustmentPurple | 0 |
SaturationAdjustmentRed | +4 |
SaturationAdjustmentYellow | -10 |
ScaleFactor35efl | 1.6 |
SceneCaptureType | Standard |
SensitivityType | Recommended Exposure Index |
SerialNumber | 053011001317 |
Shadows2012 | +100 |
ShadowTint | 0 |
SharpenDetail | 30 |
SharpenEdgeMasking | 90 |
SharpenRadius | +1.9 |
Sharpness | 150 |
ShutterSpeed | 1/500 |
ShutterSpeedValue | 1/500 |
Software | Adobe Photoshop Lightroom 5.0 (Macintosh) |
SplitToningBalance | 0 |
SplitToningHighlightHue | 0 |
SplitToningHighlightSaturation | 0 |
SplitToningShadowHue | 0 |
SplitToningShadowSaturation | 0 |
Tint | +10 |
ToneCurveName2012 | Linear |
ToneCurvePV2012 | 0, 0, 255, 255 |
ToneCurvePV2012Blue | 0, 0, 255, 255 |
ToneCurvePV2012Green | 0, 0, 255, 255 |
ToneCurvePV2012Red | 0, 0, 255, 255 |
Version | 8.1 |
Vibrance | 0 |
VignetteAmount | 0 |
WhiteBalance (1) | As Shot |
WhiteBalance | Auto |
Whites2012 | -100 |