Felt | Verdi |
AlreadyApplied | True |
Aperture | 7.1 |
ApertureValue | 7.1 |
Artist | O Klevberg |
BitsPerSample | 8 |
BlueHue | 0 |
BlueSaturation | 0 |
Brightness | 0 |
By-line | O Klevberg |
CameraProfile | Embedded |
ChromaticAberrationB | 0 |
ChromaticAberrationR | 0 |
CircleOfConfusion | 0.030 mm |
Clarity | 0 |
ColorComponents | 3 |
ColorNoiseReduction | 0 |
Contrast | 0 |
ConvertToGrayscale | False |
Copyright | O Klevberg |
CopyrightFlag | True |
CopyrightNotice | O Klevberg |
CreateDate (1) | 2013:05:16 16:56:15+02:00 |
CreateDate | 2013:05:16 16:56:15 |
Creator | O Klevberg |
CreatorTool | Adobe Photoshop Lightroom |
CustomRendered | Normal |
DateCreated (1) | 2013:05:16 |
DateCreated | 2013:05:16 16:56:15 |
DateTimeDigitized | 2013:05:16 16:56:15+02:00 |
DateTimeOriginal (1) | 2013:05:16 16:56:15+02:00 |
DateTimeOriginal | 2013:05:16 16:56:15 |
Defringe | 0 |
ExifImageHeight | 2808 |
ExifImageWidth | 4992 |
Exposure | 0.00 |
ExposureCompensation | -1 |
ExposureMode | Auto bracket |
ExposureProgram | Aperture-priority AE |
ExposureTime | 1/160 |
FillLight | 0 |
Firmware | 1.1.6 |
Flash | Off, Did not fire |
FlashCompensation | 0 |
FlashFired | False |
FlashFunction | False |
FlashMode | Off |
FlashRedEyeMode | False |
FlashReturn | No return detection |
FNumber | 7.1 |
FocalLength | 17.0 mm |
FocalLength35efl | 17.0 mm (35 mm equivalent: 17.0 mm) |
Format | image/tiff |
FOV | 93.4 deg |
GrainAmount | 0 |
GreenHue | 0 |
GreenSaturation | 0 |
HasCrop | False |
HasSettings | True |
HighlightRecovery | 54 |
HueAdjustmentAqua | 0 |
HueAdjustmentBlue | 0 |
HueAdjustmentGreen | 0 |
HueAdjustmentMagenta | 0 |
HueAdjustmentOrange | 0 |
HueAdjustmentPurple | 0 |
HueAdjustmentRed | 0 |
HueAdjustmentYellow | 0 |
HyperfocalDistance | 1.35 m |
ImageHeight | 2808 |
ImageNumber | 10641 |
ImageSize | 4992x2808 |
ImageWidth | 4992 |
IncrementalTemperature | 0 |
IncrementalTint | 0 |
ISO | 125 |
Keywords | Anemone nemorosa, Boek, Fagus, Rygge, Vaerne, boekelund, edelloev, hvitveis, kvitsymre, motlys, reservat, tre, vaar |
Lens | 17.0-40.0 mm |
LensID (1) | 231 |
LensID | Canon EF 17-40mm f/4L USM |
LensInfo | 17-40mm f/? |
LensManualDistortionAmount | 0 |
LensModel | 17.0-40.0 mm |
LensProfileEnable | 0 |
LensProfileSetup | LensDefaults |
LightValue | 12.7 |
Location | Vaerne,Rygge,Ostfold |
LuminanceAdjustmentAqua | 0 |
LuminanceAdjustmentBlue | 0 |
LuminanceAdjustmentGreen | 0 |
LuminanceAdjustmentMagenta | 0 |
LuminanceAdjustmentOrange | 0 |
LuminanceAdjustmentPurple | 0 |
LuminanceAdjustmentRed | 0 |
LuminanceAdjustmentYellow | 0 |
LuminanceNoiseReductionContrast | 0 |
LuminanceNoiseReductionDetail | 50 |
LuminanceSmoothing | 5 |
Make | Canon |
Marked | True |
MaxApertureValue | 4.0 |
Megapixels | 14.0 |
MeteringMode | Partial |
Model | Canon EOS-1Ds Mark II |
ModifyDate (1) | 2013:05:18 00:33:59+02:00 |
ModifyDate | 2013:05:18 00:33:59 |
ParametricDarks | -1 |
ParametricHighlights | 0 |
ParametricHighlightSplit | 75 |
ParametricLights | +1 |
ParametricMidtoneSplit | 50 |
ParametricShadows | 0 |
ParametricShadowSplit | 25 |
PerspectiveHorizontal | 0 |
PerspectiveRotate | 0.0 |
PerspectiveScale | 100 |
PerspectiveVertical | 0 |
PostCropVignetteAmount | 0 |
ProcessVersion | 5.7 |
ProfileDescription | sRGB IEC61966-2.1 |
Rating | 1 |
RedHue | 0 |
RedSaturation | 0 |
Rights | O Klevberg |
Saturation | +3 |
SaturationAdjustmentAqua | 0 |
SaturationAdjustmentBlue | 0 |
SaturationAdjustmentGreen | 0 |
SaturationAdjustmentMagenta | 0 |
SaturationAdjustmentOrange | 0 |
SaturationAdjustmentPurple | 0 |
SaturationAdjustmentRed | 0 |
SaturationAdjustmentYellow | 0 |
ScaleFactor35efl | 1.0 |
SceneCaptureType | Standard |
SensitivityType | Unknown |
SerialNumber | 332000 |
Shadows | 0 |
ShadowTint | 0 |
SharpenDetail | 25 |
SharpenEdgeMasking | 48 |
SharpenRadius | +0.7 |
Sharpness | 24 |
ShutterSpeed | 1/160 |
ShutterSpeedValue | 1/160 |
Software | Adobe Photoshop Lightroom |
SplitToningBalance | 0 |
SplitToningHighlightHue | 0 |
SplitToningHighlightSaturation | 0 |
SplitToningShadowHue | 0 |
SplitToningShadowSaturation | 0 |
Sub-location | Vaerne,Rygge,Ostfold |
Subject | Anemone nemorosa, Boek, Fagus, Rygge, Vaerne, boekelund, edelloev, hvitveis, kvitsymre, motlys, reservat, tre, vaar |
ToneCurve | 0, 0, 255, 255 |
ToneCurveName | Linear |
Version | 6.2 |
Vibrance | +3 |
VignetteAmount | 0 |
WhiteBalance (2) | Custom |
WhiteBalance | Manual |