Felt | Verdi |
AlreadyApplied | True |
Aperture | 2.2 |
ApertureValue | 2.2 |
AutoLateralCA | 0 |
BitsPerSample | 8 |
Blacks2012 | -14 |
BlueHue | 0 |
BlueSaturation | 0 |
CameraProfile | Embedded |
CircleOfConfusion | 0.019 mm |
Clarity2012 | +100 |
ColorComponents | 1 |
ColorNoiseReduction | 0 |
Contrast2012 | +55 |
ConvertToGrayscale | False |
Copyright | Kenneth Refvik, Reflect. |
CopyrightFlag | True |
CopyrightNotice | Kenneth Refvik, Reflect. |
CreateDate (1) | 2013:01:13 14:42:22.24 |
CreateDate | 2013:01:13 14:42:22 |
CreatorTool | Adobe Photoshop Lightroom 4.2 (Windows) |
CropAngle | -1.94839 |
CropBottom | 0.986778 |
CropConstrainToWarp | 0 |
CropHeight | 1944 |
CropLeft | 0.126866 |
CropRight | 0.399883 |
CropTop | 0.3868 |
CropUnit | pixels |
CropWidth | 1232 |
CustomRendered | Normal |
DateCreated (1) | 2013:01:13 |
DateCreated | 2013:01:13 14:42:22.24 |
DateTimeOriginal | 2013:01:13 14:42:22 |
DefringeGreenAmount | 0 |
DefringeGreenHueHi | 60 |
DefringeGreenHueLo | 40 |
DefringePurpleAmount | 0 |
DefringePurpleHueHi | 70 |
DefringePurpleHueLo | 30 |
Exposure2012 | 0.00 |
ExposureCompensation | 0 |
ExposureMode | Manual |
ExposureProgram | Manual |
ExposureTime | 1/4000 |
Firmware | 1.0.3 |
Flash | Off, Did not fire |
FlashCompensation | 0 |
FNumber | 2.2 |
FocalLength | 50.0 mm |
FocalLength35efl | 50.0 mm (35 mm equivalent: 79.2 mm) |
Format | image/jpeg |
FOV | 25.6 deg |
GradientBasedCorrActive | true |
GradientBasedCorrAmount | 1.000000 |
GradientBasedCorrBrightness | 0.000000 |
GradientBasedCorrClarity2012 (1) | -0.379310 |
GradientBasedCorrClarity2012 | 0.103450 |
GradientBasedCorrContrast2012 (1) | -0.816090 |
GradientBasedCorrContrast2012 | 0.057470 |
GradientBasedCorrDefringe | 0.000000 |
GradientBasedCorrExposure2012 (1) | 0.034500 |
GradientBasedCorrExposure2012 | -0.402250 |
GradientBasedCorrHighlights2012 (1) | 0.701150 |
GradientBasedCorrHighlights2012 | 0.000000 |
GradientBasedCorrHue | 357.000000 |
GradientBasedCorrLuminanceNoise | 0.000000 |
GradientBasedCorrMaskFullX (1) | 0.390071 |
GradientBasedCorrMaskFullX | 0.131952 |
GradientBasedCorrMaskFullY (1) | 0.647873 |
GradientBasedCorrMaskFullY | 0.611038 |
GradientBasedCorrMaskValue | 1.000000 |
GradientBasedCorrMaskWhat | Mask/Gradient |
GradientBasedCorrMaskZeroX (1) | 0.266227 |
GradientBasedCorrMaskZeroX | 0.226721 |
GradientBasedCorrMaskZeroY (1) | 0.656320 |
GradientBasedCorrMaskZeroY | 0.601946 |
GradientBasedCorrMoire | 0.000000 |
GradientBasedCorrSaturation (1) | -1.000000 |
GradientBasedCorrSaturation | 0.000000 |
GradientBasedCorrShadows2012 (1) | -1.000000 |
GradientBasedCorrShadows2012 | -0.862070 |
GradientBasedCorrSharpness | 0.000000 |
GradientBasedCorrTemperature | 0.000000 |
GradientBasedCorrTint | 0.000000 |
GradientBasedCorrWhat | Correction |
GrainAmount | 0 |
GreenHue | 0 |
GreenSaturation | 0 |
HasCrop | True |
HasSettings | True |
Highlights2012 | +10 |
HueAdjustmentAqua | 0 |
HueAdjustmentBlue | 0 |
HueAdjustmentGreen | 0 |
HueAdjustmentMagenta | 0 |
HueAdjustmentOrange | 0 |
HueAdjustmentPurple | 0 |
HueAdjustmentRed | 0 |
HueAdjustmentYellow | 0 |
HyperfocalDistance | 59.93 m |
ImageHeight | 1944 |
ImageNumber | 0 |
ImageSize | 1232x1944 |
ImageWidth | 1232 |
IncrementalTemperature | 0 |
IncrementalTint | 0 |
ISO | 125 |
Label | Reflect. |
Lens | EF50mm f/1.8 II |
LensID (1) | 29 |
LensID | Canon EF 50mm f/1.8 II |
LensInfo | 50mm f/? |
LensManualDistortionAmount | 0 |
LensModel | EF50mm f/1.8 II |
LensProfileEnable | 0 |
LensProfileSetup | LensDefaults |
LightValue | 13.9 |
LuminanceAdjustmentAqua | 0 |
LuminanceAdjustmentBlue | 0 |
LuminanceAdjustmentGreen | 0 |
LuminanceAdjustmentMagenta | 0 |
LuminanceAdjustmentOrange | 0 |
LuminanceAdjustmentPurple | 0 |
LuminanceAdjustmentRed | 0 |
LuminanceAdjustmentYellow | 0 |
LuminanceNoiseReductionContrast | 0 |
LuminanceNoiseReductionDetail | 50 |
LuminanceSmoothing | 2 |
Make | Canon |
Marked | True |
MaxApertureValue | 1.8 |
Megapixels | 2.4 |
MeteringMode | Multi-segment |
Model | Canon EOS 50D |
ModifyDate (1) | 2013:02:21 19:13:34+01:00 |
ModifyDate | 2013:02:21 19:13:34 |
ObjectName | Art Photographer |
ParametricDarks | 0 |
ParametricHighlights | -7 |
ParametricHighlightSplit | 75 |
ParametricLights | -55 |
ParametricMidtoneSplit | 50 |
ParametricShadows | -44 |
ParametricShadowSplit | 25 |
PerspectiveHorizontal | 0 |
PerspectiveRotate | 0.0 |
PerspectiveScale | 100 |
PerspectiveVertical | 0 |
PostCropVignetteAmount | 0 |
ProcessVersion | 6.7 |
ProfileDescription | sRGB IEC61966-2.1 |
RedHue | 0 |
RedSaturation | 0 |
Rights | Kenneth Refvik, Reflect. |
Saturation | 0 |
SaturationAdjustmentAqua | 0 |
SaturationAdjustmentBlue | 0 |
SaturationAdjustmentGreen | 0 |
SaturationAdjustmentMagenta | 0 |
SaturationAdjustmentOrange | 0 |
SaturationAdjustmentPurple | 0 |
SaturationAdjustmentRed | 0 |
SaturationAdjustmentYellow | 0 |
ScaleFactor35efl | 1.6 |
SceneCaptureType | Standard |
SerialNumber | 430353506 |
Shadows2012 | +21 |
ShadowTint | 0 |
SharpenDetail | 25 |
SharpenEdgeMasking | 0 |
SharpenRadius | +1.0 |
Sharpness | 0 |
ShutterSpeed | 1/4000 |
ShutterSpeedValue | 1/4000 |
Software | Adobe Photoshop Lightroom 4.2 (Windows) |
SplitToningBalance | 0 |
SplitToningHighlightHue | 0 |
SplitToningHighlightSaturation | 0 |
SplitToningShadowHue | 0 |
SplitToningShadowSaturation | 0 |
Title | Art Photographer |
ToneCurveName2012 | Linear |
ToneCurvePV2012 | 0, 0, 255, 255 |
ToneCurvePV2012Blue | 0, 0, 255, 255 |
ToneCurvePV2012Green | 0, 0, 255, 255 |
ToneCurvePV2012Red | 0, 0, 255, 255 |
URL | http://photo.net/photos/KennethRefvik |
UsageTerms | All photos are copyright the photographer, and may not be used without written permission. |
Version | 7.2 |
Vibrance | 0 |
VignetteAmount | 0 |
WebStatement | http://photo.net/photos/KennethRefvik |
WhiteBalance (1) | As Shot |
WhiteBalance | Auto |
Whites2012 | -50 |