Felt | Verdi |
...1620 More
...3 More
...769 More
0
2013-05-01T08:19:18+02:00 File C:\Users\gjknut\AppData\Roaming\Adobe\Adobe Photoshop CS6\AutoRecover\_DSC_005958DC37BC0ACB331A5C5522E86DFB9291.psb saved
2013-05-01T08:28:54+02:00 File C:\Users\gjknut\AppData\Roaming\Adobe\Adobe Photoshop CS6\AutoRecover\_DSC_005958DC37BC0ACB331A5C5522E86DFB9291.psb saved
2013-05-01T08:32:27+02:00 File Z:\2011\20111231 Jul og nyttår i Spania\DSC_0059.psd saved
2013-05-01T08:39:55+02:00 File DSC_0059.psd opened
2013-05-01T08:42:26+02:00 File DSC_0059.psd closed
2013-05-01T08:42:26+02:00 File Z:\2011\20111231 Jul og nyttår i Spania\DSC_0059.psd saved
2013-05-01T08:57:42+02:00 File DSC_0059.psd opened
2013-05-01T09:07:18+02:00 File C:\Users\gjknut\AppData\Roaming\Adobe\Adobe Photoshop CS6\AutoRecover\_DSC_005945013607D07770F2C3CB03540BBA50A3.psb saved
2013-05-01T09:11:25+02:00 File Z:\2011\20111231 Jul og nyttår i Spania\DSC_0059.psd saved
5
Adaptation: Loose
Adjustment: curves adjustment list
Angle: 0°
Aperture | 8.0 |
ApertureValue | 8.0 |
ApproximateFocusDistance | 0.28 |
Artist | Knut Arne Gjertsen |
As: Camera Raw
Auto CA: 1
Background Color Type: Matte
Background Image Path: “”
BitsPerSample | 8 |
Blacks 2012: -63
Blending Change
Blue Curve: 0, 0, 255, 255
Blue Hue: 0
Blue Saturation: 0
Blur Tool
Blur: 0
Bottom: 25,52 cm
Brightness/Contrast 1 Layer
Brightness: 0
Brightness: 22
Brightness: 24
Brightness: 36
By-line | Knut Arne Gjertsen |
Camera Profile: “Adobe Standard”
Caption-Abstract | High key shot of a yellow flower i Spain. |
CaptionWriter | Knut Arne Gjertsen |
Channel: black channel
CircleOfConfusion | 0.020 mm |
Clarity 2012: 0
Color Handling: Convert to sRGB
Color Noise Detail: 50
Color Noise Reduction: 25
color stop
Color: grayscale
ColorComponents | 1 |
Colors: color stop list
ColorSpace | Uncalibrated |
Constrast 2012: 43
Contrast | Normal |
Contrast: 0%
Contrast: 100
Contrast: 39
Contrast: 57
Contrast: 60
Contrast: 67
Convert to Smart Object
Copy Merged
Copyright | (C)2011 Knut Arne Gjertsen, all rights reserved |
CopyrightFlag | True |
CopyrightNotice | (C)2011 Knut Arne Gjertsen, all rights reserved |
CopyrightOwnerName | Knut Arne Gjertsen |
CreateDate | 2011:12:27 12:34:05 |
Creator | Knut Arne Gjertsen |
CreatorAddress | Jupiterlia 21 |
CreatorCity | Drammen |
CreatorCountry | Norway |
CreatorPostalCode | N-3033 |
CreatorRegion | Buskerud |
CreatorTool | Adobe Bridge CS6 (Windows) |
CreatorWorkEmail | knut.arne.gjertsen@gmail.com |
CreatorWorkTelephone | +47 922 50 533 |
Crop
Crop Angle: 0
Crop Bottom: 0
Crop Left: 0
Crop Right: 0
Crop To: rectangle
Crop Top: 0
Curve: point list
Curves 1 Layer
curves adjustment
DateCreated (1) | 2011:12:27 |
DateCreated | 2011:12:27 12:34:05 |
DateTimeOriginal | 2011:12:27 12:34:05 |
Delete current layer
Delete Layer
Depth: 8 Bits/channel
Description | High key shot of a yellow flower i Spain. |
Deselect
DigitalZoomRatio | 1 |
Dodge Tool
DOF | 0.015 m (0.273 - 0.288 m) |
Duplicate current layer 5
Duplicate Layer
Duplicate layer “Layer 0” 5
Edit Filter Effect ( High Pass )
Empty Cells: GIF, IMG WH
Event | Tur til Spania jul og nyttår 2011 |
ExifImageHeight | 2259 |
ExifImageWidth | 3388 |
Export Using: Save for Web
Exposure 2012: 0,75
ExposureCompensation | 0 |
ExposureMode | Auto |
ExposureProgram | Not Defined |
ExposureTime | 1/800 |
false
Feather: 0 pixels
Feather: 4,5 pixels
filter params: High Pass
Flash | Auto, Did not fire |
FNumber | 8.0 |
FocalLength | 38.0 mm |
FocalLength35efl | 38.0 mm (35 mm equivalent: 57.0 mm) |
FocalLengthIn35mmFormat | 57 mm |
Form: custom stops
Format | image/jpeg |
Format: JPEG
FOV | 35.1 deg |
GainControl | None |
Gradient Map 1 Layer
Grain Amount: 0
Gray: 0
Gray: 100
Gray: 3,689
Gray: 41,194
Gray: 79,998
Grayscale Mix Aqua: -21
Grayscale Mix Blue: 2
Grayscale Mix Green: -20
Grayscale Mix Magenta: 6
Grayscale Mix Orange: -9
Grayscale Mix Purple: 10
Grayscale Mix Red: -1
Grayscale Mix Yellow: -3
Green Curve: 0, 0, 255, 255
Green Hue: 0
Green Saturation: 0
Hide current layer
Hide layer “Brightness/Contrast 1”
Hide layer “Content aware patch copy”
Hide layer “Gradient Map 1”
Hide layer “Layer 0 copy”
Hide layer “Layer 0”
Hide layer “Layer 1”
HierarchicalSubject | Places|Spain|Costa Blanca|Cabo Roig|Lomas de Cabo Roig|Urb. Lomas de Cabo Roig |
High Pass
High Pass Radius: 4,6 pixels
High Pass Radius: 4,8 pixels
Highlights 2012: 0
Horizontal Spacer Cells: Auto (Bottom/Right)
HTML Attribute Case: Lowercase
HTML Indent: -1
HTML Line Endings: Automatic
HTML Tags Case: Lowercase
HyperfocalDistance | 9.01 m |
ImageCreatorName | Knut Arne Gjertsen |
ImageDescription | High key shot of a yellow flower i Spain. |
ImageHeight | 2259 |
ImageNumber | 3969 |
Images Subfolder Path: “images”
ImageSize | 3388x2259 |
ImageWidth | 3388 |
In: Z:\Galleri\Monochrome\
Interpolation: 4096
Invert 1 Layer
ISO | 100 |
Keywords | Urb. Lomas de Cabo Roig |
Label | Select |
Layer Order
Left: 12,34 cm
Lens Profile Aberration: 100
Lens Profile Distortion: 100
Lens Profile Enable: 1
Lens Profile File: “NIKON D90 (Nikon AF-S DX Zoom-NIKKOR 18-55mm f3.5-5.6G ED II) - RAW.lcp”
Lens Profile Name: “Adobe (Nikon AF-S DX Zoom-NIKKOR 18-55mm f/3.5-5.6G ED II)”
Lens Profile Setup: 0
Lens Profile Vignetting: 100
Lens | 18.0-55.0 mm f/3.5-5.6 |
LensID (1) | 148 |
LensID | AF-S DX Zoom-Nikkor 18-55mm f/3.5-5.6G ED II |
LensInfo | 18-55mm f/3.5-5.6 |
LensModel | 18.0-55.0 mm f/3.5-5.6 |
Level: 128
Level: 188
Levels: 4
LightSource | Unknown |
LightValue | 15.6 |
Local Adjustments: “”
Location: 0
Location: 2048
Location: 4096
LocationCreatedCity | Orihuela Costa |
LocationCreatedCountryCode | Es |
LocationCreatedCountryName | Spain |
LocationCreatedProvinceState | Valencia/Alicante |
LocationCreatedSublocation | Urb. Lomas de Cabo Roig |
LocationCreatedWorldRegion | Europe |
LocationShownCity | Orihuela Costa |
LocationShownCountryCode | Es |
LocationShownCountryName | Spain |
LocationShownProvinceState | Valencia/Alicante |
LocationShownSublocation | Urb. Lomas de Cabo Roig |
LocationShownWorldRegion | Europe |
Luminance Noise Contrast: 0
Luminance Noise Detail: 50
Luminance Noise Reduction: 50
Make adjustment layer Using: adjustment layer
Make | NIKON CORPORATION |
Marked | True |
Matte Color Blue: 255
Matte Color Green: 255
Matte Color Red: 255
MaxApertureValue | 4.8 |
Megapixels | 7.7 |
Metadata: All
MeteringMode | Multi-segment |
Midpoint: 50
Mode: Content Aware
Mode: hard light
Mode: overlay
Model | NIKON D5100 |
Model: “Nikon D5100”
Modify Brightness/Contrast Layer
Modify Curves Layer
Modify Gradient Map Layer
Modify Threshold Layer
ModifyDate (1) | 2013:05:01 10:44:08+02:00 |
ModifyDate | 2013:05:01 10:44:08 |
Move current layer To: layer 5
Move current layer To: layer 6
Name Change
Name: “Black, White”
Name: “Blue, Red, Yellow”
Name: “Content aware patch”
Name: “Foreground to Background”
Name: “High pass”
Name: “Original”
Number Of Passes: 1
ObjectName | Yellow flower |
Opacity: 100%
Open Z:\2011\20111231 Jul og nyttår i Spania\DSC_0059.NEF
Open Z:\2011\20111231 Jul og nyttår i Spania\DSC_0059.psd
Operation: Save
Output Sharpen For: None
Output: Layer Mask
Output: Selection
Parametric Darks: 0
Parametric Highlight Split: 75
Parametric Highlights: 0
Parametric Lights: -36
Parametric Midtone Split: 50
Parametric Shadow Split: 25
Parametric Shadows: 0
Paste
Paste Anti-alias: none
Patch Selection
Patch Selection From: 1,88 cm, -0,2 cm
Patch Selection From: 4,27 cm, -4,57 cm
Patch Tool
PhotographicSensitivity | 100 |
PLUSVersion | 1.2.0 |
point: 0, 0
point: 17,28 cm, 22,49 cm
point: 17,35 cm, 22,49 cm
point: 17,39 cm, 22,51 cm
point: 17,4 cm, 22,51 cm
point: 17,44 cm, 22,49 cm
point: 193, 180
point: 234, 238
point: 255, 255
Points: point list
Post Crop Vignetting Amount: 0
Posterize 1 Layer
Preset Kind: Custom
Preset Kind: Default
Process Version: 101122048
ProfileDescription | sRGB IEC61966-2.1 |
Quality Modification Channel Strength: 0
Quality: 30
Quick Selection
Radius: 4,6 pixels
Radius: 7 pixels
Rating | 4 |
RatingPercent | 0 |
Red Curve: 0, 0, 255, 255
Red Eye: “”
Red Hue: 0
Red Saturation: 0
Redo
Refine Edge
Refine Edge Radius: 0 pixels
Resolution: 240
Reveal All
Right: 48,2 cm
Rights | (C)2011 Knut Arne Gjertsen, all rights reserved |
Saturation | Normal |
Scale: 1
ScaleFactor35efl | 1.5 |
SceneCaptureType | Standard |
SceneType | Directly photographed |
Select black channel Without Make Visible
Select blur
Select Canvas
Select dodge
Select layer “Brightness/Contrast 1” Without Make Visible
Select layer “Content aware patch copy” Without Make Visible
Select layer “Content aware patch” Without Make Visible
Select layer “Gradient Map 1” Without Make Visible
Select layer “Layer 0 copy 2” Without Make Visible
Select layer “Layer 0 copy” Without Make Visible
Select layer “Layer 0” Without Make Visible
Select layer “Layer 1” Without Make Visible
Select layer “Original” Without Make Visible
Select previous history state
Select quick selection
Select spot healing brush
SensingMethod | One-chip color area |
SerialNumber | 6115595 |
Set current adjustment layer To: brightness/contrast
Set current adjustment layer To: curves
Set current adjustment layer To: gradient map
Set current adjustment layer To: threshold
Set current layer To: layer
Set filter effects 1 of current layer filter effects
Set Selection To: all
Set Selection To: none
Set Selection To: polygon
Settings: Custom
Shadow Tint: 0
Shadows 2012: 0
Sharpen Amount: 25
Sharpen Detail: 25
Sharpen Masking: 0
Sharpen Radius: 1
Sharpness | Normal |
Shift Edge: 0%
Show current layer
Show layer “Brightness/Contrast 1”
Show layer “Content aware patch copy”
Show layer “Gradient Map 1”
Show layer “Layer 0”
Show layer “Layer 1”
ShutterSpeed | 1/800 |
ShutterSpeedValue | 1/800 |
Slice Name Components: Filename Component list
Smooth: 0
Smudge Tool
Software | Adobe Bridge CS6 (Windows) |
Space: Gray Gamma 2.2
Split Tone Balance: 0
Split Tone Highlight Hue: 0
Split Tone Highlight Saturation: 0
Split Tone Shadow Hue: 0
Split Tone Shadow Saturation: 0
Subject | Urb. Lomas de Cabo Roig |
SubjectDistanceRange | Unknown |
TD WH: Auto
Threshold 1 Layer
Title | Yellow flower |
Tone Curve: 0, 0, 255, 255
Top: 1,61 cm
Transform Distortion: 0
Transform Horizontal: 0
Transform Rotate: 0
Transform Scale: 100
Transform Vertical: 0
transparency stop
Transparency: transparency stop list
true
Type: brightness/contrast
Type: curves
Type: gradient map
Type: invert
Type: posterize
Type: threshold
Type: user specified color
Undo
Urgency | 1 (most urgent) |
URL | http://goo.gl/GbeFV |
UsageTerms | For consideration only, no reproduction without prior permission |
UserComment | knut.arne.gjertsen@gmail.com |
Vertical Spacer Cells: Auto (Bottom/Right)
Vignetting Amount: 0
WebStatement | http://goo.gl/GbeFV |
White Balance: As Shot
WhiteBalance | Auto |
Whites 2012: 15
With Always Add Alt Attribute
With Always Quote Attributes
With Convert to Grayscale
With Copy Background Image when Saving
With Include Comments
With Include Zero Margins on Body Tag
With Matte
With Optimized
With Save Image Files
With Smart Radius
With Unix Filename Compatibility
With Use Images Subfolder
With Use Source
With Windows Filename Compatibility
With: gradient
Without Adjust Selection
Without Close All Tags
Without Decontaminate Colors
Without Delete Cropped Pixels
Without Embed ICC Profile
Without Generate CSS
Without Interlaced
Without Mac OS 9 Filename Compatibility
Without Output XHTML
Without Quality Channel Text Layers
Without Quality Channel Vector Layers
Without Sample All Layers
Without Save HTML File
Without Smart Radius
Without Transparent
Without Use Legacy
Without View As Background
Writer-Editor | Knut Arne Gjertsen |