Felt | Verdi |
AEBBracketValue | 0 |
AlreadyApplied | True |
Aperture | 13.0 |
ApertureValue | 13.0 |
ApproximateFocusDistance | 4294967295 |
Artist | Helge Brandal |
AutoExposureBracketing | Off |
AutoISO | 100 |
AutoLateralCA | 0 |
BitsPerSample | 8 |
Blacks2012 | 0 |
BlueHue | 0 |
BlueSaturation | 0 |
BulbDuration | 0 |
CameraProfile | Adobe Standard |
CameraType | n/a |
CanonExposureMode | Unknown (-1) |
CanonFirmwareVersion | Firmware Version 00.00 |
CanonFlashMode | n/a |
CanonImageSize | n/a |
CanonImageType | |
Clarity2012 | +55 |
ColorComponents | 3 |
ColorNoiseReduction | 25 |
ColorNoiseReductionDetail | 50 |
ColorSpace | sRGB |
ColorTemperature | 5850 |
ContinuousDrive | Unknown (-1) |
Contrast2012 | +6 |
ControlMode | n/a |
ConvertToGrayscale | False |
CreateDate (1) | 2013:03:09 16:17:04.00 |
CreateDate | 2013:04:19 21:48:05 |
Creator | Helge Brandal |
CreatorTool | Adobe Photoshop Lightroom 4.4 (Windows) |
CustomRendered | Normal |
DateCreated | 2013:03:09 16:17:04.00 |
DateTimeOriginal | 2013:04:19 21:48:05 |
DefringeGreenAmount | 0 |
DefringeGreenHueHi | 60 |
DefringeGreenHueLo | 40 |
DefringePurpleAmount | 0 |
DefringePurpleHueHi | 70 |
DefringePurpleHueLo | 30 |
DigitalZoom | None |
DriveMode | Continuous Shooting |
EasyMode | Unknown (-1) |
ExifImageHeight | 650 |
ExifImageWidth | 919 |
Exposure2012 | 0.00 |
ExposureCompensation | 0 |
ExposureMode | Auto |
ExposureTime | 1/250 |
FileNumber | 0 |
Firmware | 1.1.2 |
Flash | Off, Did not fire |
FlashBits | (none) |
FlashCompensation | 0 |
FlashExposureComp | 0 |
FlashGuideNumber | 0 |
FNumber | 13.0 |
FocalUnits | 32/mm |
FocusMode | Single |
FocusRange | Not Known |
Format | image/tiff |
GradientBasedCorrActive | true |
GradientBasedCorrAmount | 1.000000 |
GradientBasedCorrBrightness | 0.000000 |
GradientBasedCorrClarity2012 | -1.000000 |
GradientBasedCorrContrast2012 | 0.000000 |
GradientBasedCorrDefringe | 0.000000 |
GradientBasedCorrExposure2012 | -0.238000 |
GradientBasedCorrHighlights2012 | 0.000000 |
GradientBasedCorrHue | 181.000000 |
GradientBasedCorrLuminanceNoise | 0.000000 |
GradientBasedCorrMaskFullX | 0.463453 |
GradientBasedCorrMaskFullY | -0.004667 |
GradientBasedCorrMaskValue | 1.000000 |
GradientBasedCorrMaskWhat | Mask/Gradient |
GradientBasedCorrMaskZeroX | 0.459505 |
GradientBasedCorrMaskZeroY | 0.842404 |
GradientBasedCorrMoire | 0.000000 |
GradientBasedCorrSaturation (1) | 0.095240 |
GradientBasedCorrSaturation | 0.020000 |
GradientBasedCorrShadows2012 | 0.000000 |
GradientBasedCorrSharpness | 0.000000 |
GradientBasedCorrTemperature | 0.000000 |
GradientBasedCorrTint | 0.000000 |
GradientBasedCorrWhat | Correction |
GrainAmount | 0 |
GreenHue | 0 |
GreenSaturation | 0 |
HasCrop | False |
HasSettings | True |
Highlights2012 | 0 |
HueAdjustmentAqua | 0 |
HueAdjustmentBlue | 0 |
HueAdjustmentGreen | 0 |
HueAdjustmentMagenta | 0 |
HueAdjustmentOrange | 0 |
HueAdjustmentPurple | 0 |
HueAdjustmentRed | 0 |
HueAdjustmentYellow | 0 |
ImageHeight | 650 |
ImageNumber | 0 |
ImageSize | 919x650 |
ImageWidth | 919 |
Lens (1) | EF70-200mm f/2.8L USM |
Lens | 0.0 mm |
Lens35efl | 0.0 mm |
LensID (1) | 165 |
LensID | n/a |
LensInfo | 70-200mm f/? |
LensManualDistortionAmount | 0 |
LensProfileEnable | 0 |
LensProfileSetup | LensDefaults |
LensSerialNumber | 0000000000 |
LensType | n/a |
LuminanceAdjustmentAqua | 0 |
LuminanceAdjustmentBlue | 0 |
LuminanceAdjustmentGreen | 0 |
LuminanceAdjustmentMagenta | 0 |
LuminanceAdjustmentOrange | 0 |
LuminanceAdjustmentPurple | 0 |
LuminanceAdjustmentRed | 0 |
LuminanceAdjustmentYellow | 0 |
LuminanceSmoothing | 0 |
MacroMode | Unknown (0) |
Make | Canon |
ManualFlashOutput | n/a |
MaxFocalLength | 0 mm |
MeasuredEV | 5.00 |
Megapixels | 0.597 |
MeteringMode | Unknown (-1) |
MinFocalLength | 0 mm |
Model | |
ModifyDate (1) | 2013:04:19 21:10:15+02:00 |
ModifyDate | 2013:04:19 21:48:05 |
NDFilter | n/a |
OpticalZoomCode | n/a |
Orientation | Horizontal (normal) |
ParametricDarks | 0 |
ParametricHighlights | 0 |
ParametricHighlightSplit | 75 |
ParametricLights | 0 |
ParametricMidtoneSplit | 50 |
ParametricShadows | 0 |
ParametricShadowSplit | 25 |
PerspectiveHorizontal | 0 |
PerspectiveRotate | 0.0 |
PerspectiveScale | 100 |
PerspectiveVertical | 0 |
PostCropVignetteAmount | 0 |
ProcessVersion | 6.7 |
ProfileDescription | sRGB v1.31 (Canon) |
Quality | Fine |
RedHue | 0 |
RedSaturation | 0 |
RelatedImageHeight | 650 |
RelatedImageWidth | 919 |
Saturation | 0 |
SaturationAdjustmentAqua | 0 |
SaturationAdjustmentBlue | +13 |
SaturationAdjustmentGreen | 0 |
SaturationAdjustmentMagenta | 0 |
SaturationAdjustmentOrange | 0 |
SaturationAdjustmentPurple | 0 |
SaturationAdjustmentRed | 0 |
SaturationAdjustmentYellow | 0 |
SceneCaptureType | Standard |
SelfTimer | Off |
SequenceNumber | 0 |
SerialNumber | 043023000829 |
Shadows2012 | -19 |
ShadowTint | 0 |
SharpenDetail | 25 |
SharpenEdgeMasking | 0 |
SharpenRadius | +1.0 |
Sharpness | 34 |
ShootingMode | Unknown (-1) |
ShutterSpeed | 1/250 |
ShutterSpeedValue | 1/250 |
SlowShutter | None |
Software | Digital Photo Professional |
SplitToningBalance | 0 |
SplitToningHighlightHue | 0 |
SplitToningHighlightSaturation | 0 |
SplitToningShadowHue | 0 |
SplitToningShadowSaturation | 0 |
TargetAperture | 13 |
TargetExposureTime | 1/251 |
Tint | +15 |
ToneCurveName2012 | Linear |
ToneCurvePV2012 | 0, 0, 255, 255 |
ToneCurvePV2012Blue | 0, 0, 255, 255 |
ToneCurvePV2012Green | 0, 0, 255, 255 |
ToneCurvePV2012Red | 0, 0, 255, 255 |
UserComment | |
Version | 7.4 |
Vibrance | +2 |
VignetteAmount | 0 |
WhiteBalance (1) | Auto |
WhiteBalance (2) | As Shot |
WhiteBalance | Unknown (-1) |
Whites2012 | -29 |
ZoomSourceWidth | 0 |
ZoomTargetWidth | 0 |