Felt | Verdi |
AlreadyApplied | True |
Aperture | 4.0 |
ApertureValue | 4.0 |
ApproximateFocusDistance | 4294967295 |
Artist | Steffen Myhre |
AuthorsPosition | Fotograf |
AutoLateralCA | 0 |
BitsPerSample (1) | 8 8 8 |
BitsPerSample | 8 |
BlackClip | 0.074850 |
Blacks2012 | 0 |
BlueHue | 0 |
BlueSaturation | 0 |
By-line | Steffen Myhre |
By-lineTitle | Fotograf |
CameraProfile | Adobe Standard |
CircleOfConfusion | 0.006 mm |
Clarity2012 | +25 |
ColorComponents | 3 |
ColorNoiseReduction | 25 |
ColorNoiseReductionDetail | 50 |
ColorSaturation | 68.0 |
ColorSpace | Uncalibrated |
ColorTemperature (1) | -1.0 |
ColorTemperature | 2850 |
Contrast2012 | 0 |
ConvertToGrayscale | False |
Copyright | Immage are Copyright © 2012 Steffen Myhre All Right Reserved. Reproduction in whole or part in any form or medium without specific written permission is prohibited by law. |
CopyrightFlag | True |
CopyrightNotice | Immage are Copyright © 2012 Steffen Myhre All Right Reserved. Reproduction in whole or part in any form or medium without speci |
CreateDate | 2010:02:18 04:53:15 |
Creator | Steffen Myhre |
CreatorAddress | PB 5910 leangen |
CreatorCity | Trondheim |
CreatorCountry | Norway |
CreatorPostalCode | 7445 |
CreatorRegion | Trøndelag |
CreatorTool | Adobe Photoshop CS6 (Windows) |
CreatorWorkEmail | Steffen-myhre@tilfeldigfoto.com |
CreatorWorkTelephone | 0047 407 47 724 |
CreatorWorkURL | www.Tilfeldigfoto.com |
CustomRendered | Normal |
DateCreated (1) | 2012:10:10 |
DateCreated | 2012:10:10 03:24:55 |
DateTimeOriginal | 2012:10:10 03:24:55 |
DefringeGreenAmount | 0 |
DefringeGreenHueHi | 60 |
DefringeGreenHueLo | 40 |
DefringePurpleAmount | 0 |
DefringePurpleHueHi | 70 |
DefringePurpleHueLo | 30 |
DOF | inf (179.28 m - inf) |
ExifImageHeight | 800 |
ExifImageWidth | 1200 |
Exposure2012 | 0.00 |
ExposureCompensation | 0 |
ExposureMode | Manual |
ExposureProgram | Manual |
ExposureTime | 30 |
Firmware | 1.1.2 |
Flash | Off, Did not fire |
FlashCompensation | 0 |
FNumber | 4.0 |
FocalLength | 67.0 mm |
FocalLength35efl | 67.0 mm (35 mm equivalent: 321.6 mm) |
Format | image/jpeg |
FOV | 6.4 deg |
Gamma | 1.0 |
GrainAmount | 0 |
GreenHue | 0 |
GreenSaturation | 0 |
HasCrop | False |
HasSettings | True |
Highlights2012 | 0 |
HighlightsSmoothing | 0.0 |
HueAdjustmentAqua | 0 |
HueAdjustmentBlue | 0 |
HueAdjustmentGreen | 0 |
HueAdjustmentMagenta | 0 |
HueAdjustmentOrange | 0 |
HueAdjustmentPurple | 0 |
HueAdjustmentRed | 0 |
HueAdjustmentYellow | 0 |
HyperfocalDistance | 179.28 m |
ImageHeight (1) | 3840 |
ImageHeight | 800 |
ImageNumber | 0 |
ImageSize | 1200x800 |
ImageWidth (1) | 5760 |
ImageWidth | 1200 |
ISO | 100 |
Label | Done |
Lens | EF24-105mm f/4L IS USM |
LensID (1) | 237 |
LensID | Canon EF 24-105mm f/4L IS USM |
LensInfo | 24-105mm f/? |
LensManualDistortionAmount | 0 |
LensModel | EF24-105mm f/4L IS USM |
LensProfileEnable | 0 |
LensProfileSetup | LensDefaults |
LensSerialNumber | 000040b6fe |
LightValue | -0.9 |
LuminanceAdjustmentAqua | 0 |
LuminanceAdjustmentBlue | 0 |
LuminanceAdjustmentGreen | 0 |
LuminanceAdjustmentMagenta | 0 |
LuminanceAdjustmentOrange | 0 |
LuminanceAdjustmentPurple | 0 |
LuminanceAdjustmentRed | 0 |
LuminanceAdjustmentYellow | 0 |
LuminanceSmoothing | 0 |
Luminosity | 1.2 |
Make | Canon |
Marked | True |
MaxApertureValue | 4.0 |
Megapixels | 0.960 |
MeteringMode | Spot |
Method | Details Enhancer |
Microcontrast | 10.0 |
Microsmoothing | 13.4 |
Model | Canon EOS 5D Mark III |
ModifyDate (1) | 2013:01:01 05:35:28+01:00 |
ModifyDate | 2013:01:01 05:35:28 |
ObjectName | 2012 |
Orientation | Horizontal (normal) |
ParametricDarks | 0 |
ParametricHighlights | 0 |
ParametricHighlightSplit | 75 |
ParametricLights | 0 |
ParametricMidtoneSplit | 50 |
ParametricShadows | 0 |
ParametricShadowSplit | 25 |
PerspectiveHorizontal | 0 |
PerspectiveRotate | 0.0 |
PerspectiveScale | 100 |
PerspectiveVertical | 0 |
PhotometricInterpretation | RGB |
PostCropVignetteAmount | 0 |
ProcessVersion | 6.7 |
ProfileDescription | Adobe RGB (1998) |
Rating | 5 |
RawFileName | _12A1197.CR2 |
RecommendedExposureIndex | 100 |
RedHue | 0 |
RedSaturation | 0 |
Rights can be purchased by contacting Tilfeldigfoto.com |
Rights | Immage are Copyright © 2012 Steffen Myhre All Right Reserved. Reproduction in whole or part in any form or medium without specific written permission is prohibited by law. |
Saturation | 0 |
SaturationAdjustmentAqua | 0 |
SaturationAdjustmentBlue | 0 |
SaturationAdjustmentGreen | 0 |
SaturationAdjustmentMagenta | 0 |
SaturationAdjustmentOrange | 0 |
SaturationAdjustmentPurple | 0 |
SaturationAdjustmentRed | 0 |
SaturationAdjustmentYellow | 0 |
SaturationHighlights | 0.0 |
SaturationShadows | -3.7 |
ScaleFactor35efl | 4.8 |
SceneCaptureType | Standard |
SensitivityType | Recommended Exposure Index |
SerialNumber | 053023000732 |
Shadows2012 | 0 |
ShadowsClipping | 20.0 |
ShadowsSmoothing | 0.0 |
ShadowTint | 0 |
SharpenDetail | 25 |
SharpenEdgeMasking | 0 |
SharpenRadius | +1.0 |
Sharpness | 25 |
ShutterSpeed | 30 |
ShutterSpeedValue | 30 |
Smoothing | Very High |
Software | Adobe Photoshop CS6 (Windows) |
SplitToningBalance | 0 |
SplitToningHighlightHue | 0 |
SplitToningHighlightSaturation | 0 |
SplitToningShadowHue | 0 |
SplitToningShadowSaturation | 0 |
Strength | 100.0 |
Tint | +10 |
Title | 2012 |
ToneCurveName2012 | Linear |
ToneCurvePV2012 | 0, 0, 255, 255 |
ToneCurvePV2012Blue | 0, 0, 255, 255 |
ToneCurvePV2012Green | 0, 0, 255, 255 |
ToneCurvePV2012Red | 0, 0, 255, 255 |
URL | http://www.lovdata.no/all/hl-19610512-002.html |
URL_List | |
UsageTerms | All rights reserved.
Version (1) | 3.2 |
Version | 7.1 |
Vibrance | +50 |
VignetteAmount | 0 |
WebStatement | http://www.lovdata.no/all/hl-19610512-002.html |
WhiteBalance | Auto |
WhiteClip | 0.223800 |
Whites2012 | 0 |