Felt | Verdi |
AlreadyApplied | True |
Aperture | 1.4 |
ApertureValue | 1.4 |
ApproximateFocusDistance | 2.37 |
Artist | Kine Bakke |
AutoLateralCA | 0 |
BitsPerSample | 8 |
Blacks2012 | -40 |
BlueHue | 0 |
BlueSaturation | 0 |
By-line | Kine Bakke |
CameraProfile | Adobe Standard |
CFAPattern | [Red,Green][Green,Blue] |
CircleOfConfusion | 0.030 mm |
Clarity2012 | 0 |
ColorComponents | 3 |
ColorNoiseReduction | 25 |
ColorNoiseReductionDetail | 50 |
ColorTemperature | 4800 |
Contrast | Normal |
Contrast2012 | +20 |
ConvertToGrayscale | False |
Copyright | © Kine Bakke |
CopyrightFlag | True |
CopyrightNotice | © Kine Bakke |
CreateDate (1) | 2012:08:30 16:13:34.00 |
CreateDate | 2012:08:30 16:13:34 |
Creator | Kine Bakke |
CreatorCity | Moss |
CreatorCountry | Norway |
CreatorTool | Adobe Photoshop Lightroom 4.1 (Macintosh) |
CreatorWorkEmail | kine@abbandono.no |
CreatorWorkURL | http://abbandono.no |
CropAngle | 0.048666 |
CropBottom | 1 |
CropConstrainToWarp | 0 |
CropHeight | 600 |
CropLeft | 0.000918 |
CropRight | 0.999082 |
CropTop | 0 |
CropUnit | pixels |
CropWidth | 899 |
CustomRendered | Normal |
DateCreated (1) | 2012:08:30 |
DateCreated | 2012:08:30 16:13:34.00 |
DateTimeOriginal | 2012:08:30 16:13:34 |
DefringeGreenAmount | 0 |
DefringeGreenHueHi | 60 |
DefringeGreenHueLo | 40 |
DefringePurpleAmount | 0 |
DefringePurpleHueHi | 70 |
DefringePurpleHueLo | 30 |
DigitalZoomRatio | 1 |
DOF | 0.06 m (2.34 - 2.40 m) |
Exposure2012 | +0.80 |
ExposureCompensation | +2/3 |
ExposureMode | Manual |
ExposureProgram | Manual |
ExposureTime | 1/200 |
Flash | Off, Did not fire |
FNumber | 1.4 |
FocalLength | 85.0 mm |
FocalLength35efl | 85.0 mm (35 mm equivalent: 85.0 mm) |
FocalLengthIn35mmFormat | 85 mm |
Format | image/jpeg |
FOV | 23.9 deg |
GainControl | Low gain up |
GrainAmount | 0 |
GreenHue | 0 |
GreenSaturation | 0 |
HasCrop | True |
HasSettings | True |
Highlights2012 | 0 |
HueAdjustmentAqua | 0 |
HueAdjustmentBlue | 0 |
HueAdjustmentGreen | 0 |
HueAdjustmentMagenta | 0 |
HueAdjustmentOrange | 0 |
HueAdjustmentPurple | 0 |
HueAdjustmentRed | 0 |
HueAdjustmentYellow | 0 |
HyperfocalDistance | 171.76 m |
ImageHeight | 899 |
ImageNumber | 5969 |
ImageSize | 600x899 |
ImageWidth | 600 |
ISO | 500 |
Keywords | 2012, 6, Aurora, Aurora Bjørnland, Aurora Strand, Aurora Strand Bjørnland, Feste, Moss, Rygge, Strand Bjørnland, jente, skolestart |
Lens | 85.0 mm f/1.4 |
LensID (1) | 174 |
LensID | AF-S Nikkor 85mm f/1.4G |
LensInfo | 85mm f/1.4 |
LensManualDistortionAmount | 0 |
LensModel | 85.0 mm f/1.4 |
LensProfileEnable | 0 |
LensProfileSetup | LensDefaults |
LightSource | Unknown |
LightValue | 6.3 |
LuminanceAdjustmentAqua | 0 |
LuminanceAdjustmentBlue | 0 |
LuminanceAdjustmentGreen | 0 |
LuminanceAdjustmentMagenta | 0 |
LuminanceAdjustmentOrange | 0 |
LuminanceAdjustmentPurple | 0 |
LuminanceAdjustmentRed | 0 |
LuminanceAdjustmentYellow | 0 |
LuminanceSmoothing | 0 |
Make | NIKON CORPORATION |
Marked | True |
MaxApertureValue | 1.4 |
Megapixels | 0.539 |
MeteringMode | Center-weighted average |
Model | NIKON D800 |
ModifyDate (1) | 2012:08:30 22:39:17+02:00 |
ModifyDate | 2012:08:30 22:39:17 |
ParametricDarks | 0 |
ParametricHighlights | 0 |
ParametricHighlightSplit | 75 |
ParametricLights | 0 |
ParametricMidtoneSplit | 50 |
ParametricShadows | 0 |
ParametricShadowSplit | 25 |
PerspectiveHorizontal | 0 |
PerspectiveRotate | 0.0 |
PerspectiveScale | 100 |
PerspectiveVertical | 0 |
PostCropVignetteAmount | 0 |
ProcessVersion | 6.7 |
ProfileDescription | sRGB IEC61966-2.1 |
Rating | 5 |
RedHue | 0 |
RedSaturation | 0 |
Rights | © Kine Bakke |
Saturation (1) | -52 |
Saturation | Normal |
SaturationAdjustmentAqua | 0 |
SaturationAdjustmentBlue | 0 |
SaturationAdjustmentGreen | 0 |
SaturationAdjustmentMagenta | 0 |
SaturationAdjustmentOrange | -19 |
SaturationAdjustmentPurple | 0 |
SaturationAdjustmentRed | -19 |
SaturationAdjustmentYellow | -19 |
ScaleFactor35efl | 1.0 |
SceneCaptureType | Standard |
SceneType | Directly photographed |
SensingMethod | One-chip color area |
SensitivityType | Recommended Exposure Index |
SerialNumber | 6010877 |
Shadows2012 | -58 |
ShadowTint | 0 |
SharpenDetail | 25 |
SharpenEdgeMasking | 0 |
SharpenRadius | +1.0 |
Sharpness (1) | 66 |
Sharpness | Normal |
ShutterSpeed | 1/200 |
ShutterSpeedValue | 1/200 |
Software | Adobe Photoshop Lightroom 4.1 (Macintosh) |
SplitToningBalance | 0 |
SplitToningHighlightHue | 0 |
SplitToningHighlightSaturation | 0 |
SplitToningShadowHue | 0 |
SplitToningShadowSaturation | 0 |
Subject | 2012, 6, Aurora, Aurora Bjørnland, Aurora Strand, Aurora Strand Bjørnland, Feste, Moss, Rygge, Strand Bjørnland, jente, skolestart |
SubjectDistanceRange | Unknown |
Tint | +46 |
ToneCurveName2012 | Linear |
ToneCurvePV2012 | 0, 0, 255, 255 |
ToneCurvePV2012Blue | 0, 0, 255, 255 |
ToneCurvePV2012Green | 0, 0, 255, 255 |
ToneCurvePV2012Red | 0, 0, 255, 255 |
URL | http://abbandono.no |
UsageTerms | All right reserved |
Version | 7.1 |
Vibrance | +13 |
VignetteAmount | 0 |
WebStatement | http://abbandono.no |
WhiteBalance (1) | As Shot |
WhiteBalance | Auto |
Whites2012 | -4 |