Felt | Verdi |
AlreadyApplied | True |
Aperture | 4.0 |
ApertureValue | 4.0 |
ApproximateFocusDistance | 8.29 |
Artist | Elisabeth_Broch |
BitsPerSample (1) | 16 16 16 |
BitsPerSample | 8 |
BlueHue | 0 |
BlueSaturation | 0 |
Brightness | 0 |
By-line | Elisabeth_Broch |
CameraProfile | Adobe Standard |
ChromaticAberrationB | 0 |
ChromaticAberrationR | 0 |
CircleOfConfusion | 0.027 mm |
Clarity | 0 |
ColorComponents | 3 |
ColorMode | RGB |
ColorNoiseReduction | 25 |
ColorNoiseReductionDetail | 50 |
ColorSpace | sRGB |
ColorTemperature | 5600 |
Contrast | +53 |
ConvertToGrayscale | False |
Copyright | Elisabeth_Broch |
CopyrightNotice | Elisabeth_Broch |
CreateDate (1) | 2012:09:14 13:25:38.98-07:00 |
CreateDate | 2012:09:14 13:25:38 |
Creator | Elisabeth_Broch |
CreatorTool | Adobe Photoshop Lightroom |
CustomRendered | Normal |
DateCreated (1) | 2012:09:14 |
DateCreated | 2012:09:14 13:25:38.098 |
DateTimeOriginal | 2012:09:14 13:25:38 |
Defringe | 0 |
DOF | 3.12 m (7.01 - 10.13 m) |
ExifImageHeight | 807 |
ExifImageWidth | 1210 |
Exposure | -1.60 |
ExposureCompensation | 0 |
ExposureMode | Auto |
ExposureProgram | Aperture-priority AE |
ExposureTime | 1/300 |
FillLight | 0 |
Firmware | 1.0.8 |
Flash | On, Fired |
FlashCompensation | 0.5 |
FNumber | 4.0 |
FocalLength | 70.0 mm |
FocalLength35efl | 70.0 mm (35 mm equivalent: 77.6 mm) |
Format | image/jpeg |
FOV | 26.1 deg |
GradientBasedCorrActive | true |
GradientBasedCorrAmount | 1.000000 |
GradientBasedCorrBrightness | 0.000000 |
GradientBasedCorrClarity | -0.500000 |
GradientBasedCorrContrast | 0.000000 |
GradientBasedCorrExposure | -0.187500 |
GradientBasedCorrHue | 0.000000 |
GradientBasedCorrMaskFullX (1) | 0.332910 |
GradientBasedCorrMaskFullX (2) | 0.333059 |
GradientBasedCorrMaskFullX (3) | 0.578724 |
GradientBasedCorrMaskFullX (4) | 0.076575 |
GradientBasedCorrMaskFullX (5) | 0.551305 |
GradientBasedCorrMaskFullX (6) | 0.114480 |
GradientBasedCorrMaskFullX (7) | 0.551017 |
GradientBasedCorrMaskFullX | 0.114553 |
GradientBasedCorrMaskFullY (1) | 0.417158 |
GradientBasedCorrMaskFullY (2) | 0.922142 |
GradientBasedCorrMaskFullY (3) | 0.667404 |
GradientBasedCorrMaskFullY (4) | 0.666017 |
GradientBasedCorrMaskFullY (5) | 0.387624 |
GradientBasedCorrMaskFullY (6) | 0.385125 |
GradientBasedCorrMaskFullY (7) | 0.952120 |
GradientBasedCorrMaskFullY | 0.951076 |
GradientBasedCorrMaskValue | 1.000000 |
GradientBasedCorrMaskWhat | Mask/Gradient |
GradientBasedCorrMaskZeroX (1) | 0.332910 |
GradientBasedCorrMaskZeroX (2) | 0.333059 |
GradientBasedCorrMaskZeroX (3) | 0.419068 |
GradientBasedCorrMaskZeroX (4) | 0.254001 |
GradientBasedCorrMaskZeroX (5) | 0.447465 |
GradientBasedCorrMaskZeroX (6) | 0.215976 |
GradientBasedCorrMaskZeroX (7) | 0.446097 |
GradientBasedCorrMaskZeroX | 0.215708 |
GradientBasedCorrMaskZeroY (1) | 0.583140 |
GradientBasedCorrMaskZeroY (2) | 0.746031 |
GradientBasedCorrMaskZeroY (3) | 0.667404 |
GradientBasedCorrMaskZeroY (4) | 0.666017 |
GradientBasedCorrMaskZeroY (5) | 0.614710 |
GradientBasedCorrMaskZeroY (6) | 0.616235 |
GradientBasedCorrMaskZeroY (7) | 0.717194 |
GradientBasedCorrMaskZeroY | 0.718904 |
GradientBasedCorrSaturation | 0.000000 |
GradientBasedCorrSharpness | 0.000000 |
GradientBasedCorrWhat | Correction |
GrainAmount | 0 |
GreenHue | 0 |
GreenSaturation | 0 |
HasCrop | False |
HasSettings | True |
HighlightRecovery | 13 |
HueAdjustmentAqua | 0 |
HueAdjustmentBlue | 0 |
HueAdjustmentGreen | 0 |
HueAdjustmentMagenta | 0 |
HueAdjustmentOrange | 0 |
HueAdjustmentPurple | 0 |
HueAdjustmentRed | 0 |
HueAdjustmentYellow | 0 |
HyperfocalDistance | 45.18 m |
ICCProfileName | sRGB IEC61966-2.1 |
ImageHeight (1) | 3264 |
ImageHeight | 807 |
ImageNumber | 0 |
ImageSize | 1210x807 |
ImageWidth (1) | 4896 |
ImageWidth | 1210 |
ISO | 3200 |
Lens | EF70-200mm f/2.8L IS II USM |
LensID (1) | 251 |
LensID | Canon EF 70-200mm f/2.8L IS II USM |
LensInfo | 70-200mm f/? |
LensManualDistortionAmount | 0 |
LensModel | EF70-200mm f/2.8L IS II USM |
LensProfileEnable | 0 |
LensProfileSetup | LensDefaults |
LightValue | 7.2 |
LuminanceAdjustmentAqua | 0 |
LuminanceAdjustmentBlue | 0 |
LuminanceAdjustmentGreen | 0 |
LuminanceAdjustmentMagenta | 0 |
LuminanceAdjustmentOrange | 0 |
LuminanceAdjustmentPurple | 0 |
LuminanceAdjustmentRed | 0 |
LuminanceAdjustmentYellow | 0 |
LuminanceSmoothing | 0 |
Make | Canon |
MaxApertureValue | 2.8 |
Megapixels | 0.976 |
MeteringMode | Partial |
Model | Canon EOS-1D Mark IV |
ModifyDate (1) | 2012:09:23 07:33:03-07:00 |
ModifyDate | 2012:09:23 07:33:03 |
Orientation | Horizontal (normal) |
ParametricDarks | -71 |
ParametricHighlights | 0 |
ParametricHighlightSplit | 75 |
ParametricLights | 0 |
ParametricMidtoneSplit | 50 |
ParametricShadows | -50 |
ParametricShadowSplit | 25 |
PerspectiveHorizontal | 0 |
PerspectiveRotate | 0.0 |
PerspectiveScale | 100 |
PerspectiveVertical | 0 |
PhotometricInterpretation | RGB |
PlanarConfiguration | Chunky |
PostCropVignetteAmount | 0 |
ProcessVersion | 5.7 |
ProfileDescription | sRGB IEC61966-2.1 |
RedHue | 0 |
RedSaturation | 0 |
Rights | Elisabeth_Broch |
Saturation | 0 |
SaturationAdjustmentAqua | 0 |
SaturationAdjustmentBlue | 0 |
SaturationAdjustmentGreen | 0 |
SaturationAdjustmentMagenta | 0 |
SaturationAdjustmentOrange | 0 |
SaturationAdjustmentPurple | 0 |
SaturationAdjustmentRed | 0 |
SaturationAdjustmentYellow | 0 |
ScaleFactor35efl | 1.1 |
SceneCaptureType | Standard |
SensitivityType | Unknown |
SerialNumber | 1031000429 |
Shadows | 100 |
ShadowTint | 0 |
SharpenDetail | 25 |
SharpenEdgeMasking | 0 |
SharpenRadius | +1.0 |
Sharpness | 25 |
ShutterSpeed | 1/300 |
ShutterSpeedValue | 1/300 |
Software | Adobe Photoshop CS5 Macintosh |
SplitToningBalance | 0 |
SplitToningHighlightHue | 0 |
SplitToningHighlightSaturation | 0 |
SplitToningShadowHue | 0 |
SplitToningShadowSaturation | 0 |
SubjectDistance | 8.29 m |
Tint | +29 |
ToneCurve | 0, 0, 32, 22, 64, 56, 128, 128, 192, 196, 255, 255 |
ToneCurveName | Medium Contrast |
URL_List | |
Version | 6.2 |
Vibrance | 0 |
VignetteAmount | 0 |
WhiteBalance (1) | As Shot |
WhiteBalance | Auto |