Felt | Verdi |
AlreadyApplied | True |
Aperture | 5.0 |
ApertureValue | 5.0 |
ApproximateFocusDistance | 1.23 |
Artist | Picasa |
BitsPerSample | 8 |
BlueHue | 0 |
BlueSaturation | 0 |
Brightness | +53 |
By-line | Picasa |
CameraProfile | Embedded |
ChromaticAberrationB | 0 |
ChromaticAberrationR | 0 |
CircleOfConfusion | 0.019 mm |
Clarity | +72 |
ColorComponents | 3 |
ColorNoiseReduction | 41 |
ColorNoiseReductionDetail | 61 |
Contrast | +20 |
ConvertToGrayscale | False |
CreateDate (1) | 2012:06:27 11:03:05.83 |
CreateDate | 2012:06:27 11:03:05 |
Creator | Picasa |
CreatorTool | Adobe Photoshop Lightroom 3.4 |
CustomRendered | Normal |
DateCreated (1) | 2012:06:27 |
DateCreated | 2012:06:27 11:03:05.83 |
DateTimeOriginal | 2012:06:27 11:03:05 |
Defringe | 0 |
DOF | 0.06 m (1.20 - 1.26 m) |
ExifImageHeight | 4752 |
ExifImageWidth | 3168 |
Exposure | -0.23 |
ExposureCompensation | 0 |
ExposureMode | Auto |
ExposureProgram | Program AE |
ExposureTime | 1/125 |
FillLight | 38 |
Firmware | 1.0.9 |
Flash | No Flash |
FlashCompensation | 0 |
FNumber | 5.0 |
FocalLength | 70.0 mm |
FocalLength35efl | 70.0 mm (35 mm equivalent: 111.1 mm) |
FOV | 18.4 deg |
GrainAmount | 0 |
GreenHue | 0 |
GreenSaturation | 0 |
HasCrop | False |
HasSettings | True |
HighlightRecovery | 29 |
HueAdjustmentAqua | +2 |
HueAdjustmentBlue | +2 |
HueAdjustmentGreen | 0 |
HueAdjustmentMagenta | 0 |
HueAdjustmentOrange | 0 |
HueAdjustmentPurple | 0 |
HueAdjustmentRed | 0 |
HueAdjustmentYellow | 0 |
HyperfocalDistance | 51.79 m |
ImageHeight | 4752 |
ImageNumber | 0 |
ImageSize | 3168x4752 |
ImageWidth | 3168 |
IncrementalTemperature | -20 |
IncrementalTint | -35 |
ISO | 100 |
Lens | EF24-105mm f/4L IS USM |
LensID (1) | 237 |
LensID | Canon EF 24-105mm f/4L IS USM |
LensInfo | 24-105mm f/? |
LensManualDistortionAmount | 0 |
LensModel | EF24-105mm f/4L IS USM |
LensProfileEnable | 0 |
LensProfileSetup | LensDefaults |
LightValue | 11.6 |
LuminanceAdjustmentAqua | +59 |
LuminanceAdjustmentBlue | +61 |
LuminanceAdjustmentGreen | 0 |
LuminanceAdjustmentMagenta | +25 |
LuminanceAdjustmentOrange | +39 |
LuminanceAdjustmentPurple | +64 |
LuminanceAdjustmentRed | +43 |
LuminanceAdjustmentYellow | +18 |
LuminanceNoiseReductionContrast | 7 |
LuminanceNoiseReductionDetail | 50 |
LuminanceSmoothing | 16 |
Make | Canon |
MaxApertureValue | 4.0 |
Megapixels | 15.1 |
MeteringMode | Multi-segment |
Model | Canon EOS 500D |
ModifyDate (1) | 2012:06:27 15:39:00+02:00 |
ModifyDate | 2012:06:27 15:39:00 |
ParametricDarks | 0 |
ParametricHighlights | 0 |
ParametricHighlightSplit | 75 |
ParametricLights | 0 |
ParametricMidtoneSplit | 50 |
ParametricShadows | 0 |
ParametricShadowSplit | 25 |
PerspectiveHorizontal | 0 |
PerspectiveRotate | 0.0 |
PerspectiveScale | 100 |
PerspectiveVertical | 0 |
PostCropVignetteAmount | -29 |
PostCropVignetteFeather | 95 |
PostCropVignetteHighlightContrast | 0 |
PostCropVignetteMidpoint | 80 |
PostCropVignetteRoundness | 0 |
PostCropVignetteStyle | 1 |
ProcessVersion | 5.7 |
RedHue | 0 |
RedSaturation | 0 |
RelatedImageHeight | 4752 |
RelatedImageWidth | 3168 |
Saturation | +3 |
SaturationAdjustmentAqua | +11 |
SaturationAdjustmentBlue | +9 |
SaturationAdjustmentGreen | -66 |
SaturationAdjustmentMagenta | -20 |
SaturationAdjustmentOrange | -59 |
SaturationAdjustmentPurple | -50 |
SaturationAdjustmentRed | -61 |
SaturationAdjustmentYellow | -52 |
ScaleFactor35efl | 1.6 |
SceneCaptureType | Standard |
SerialNumber | 980370323 |
Shadows | 8 |
ShadowTint | 0 |
SharpenDetail | 44 |
SharpenEdgeMasking | 0 |
SharpenRadius | +1.1 |
Sharpness | 57 |
ShutterSpeed | 1/125 |
ShutterSpeedValue | 1/125 |
Software | Adobe Photoshop Lightroom 3.4 |
SplitToningBalance | 0 |
SplitToningHighlightHue | 232 |
SplitToningHighlightSaturation | 0 |
SplitToningShadowHue | 12 |
SplitToningShadowSaturation | 21 |
SubjectDistance | 1.23 m |
ToneCurve | 0, 0, 32, 22, 64, 56, 128, 128, 192, 196, 255, 255 |
ToneCurveName | Medium Contrast |
Version | 6.4 |
Vibrance | +8 |
VignetteAmount | -42 |
VignetteMidpoint | 30 |
WhiteBalance (1) | Custom |
WhiteBalance | Auto |