Felt | Verdi |
100
2011-07-20T15:06:45+02:00 File _MG_7098.jpg saved
2012-03-25T21:33:43+02:00 File _MG_7098.jpg opened
2012-03-25T21:37:45+02:00 File 12_fevik.jpg saved
Absolute Grain Size: 1,5
Adjustment: levels adjustment list
AlreadyApplied | True |
Angle: 0°
Aperture | 2.0 |
ApertureValue | 2.0 |
Apply Filter in New Layer
Artist | Photographer: Andreas Diederich |
As: Camera Raw
BitsPerSample | 8 |
Black and White Film
Blacks: 5
Blue Hue: 0
Blue Saturation: 0
Blue: “BlueCurve: 2 0 0 0 0 0 0 1 1 ”
BlueHue | 0 |
BlueSaturation | 0 |
Blur Opacity: 0
Blur Radius: 5
Bottom: 24,55 cm
Bottom: 30,96 cm
Brightness | +90 |
Brightness: 90
By-line | Photographer: Andreas Diederich |
Camera Profile: “Adobe Standard”
CameraProfile | Adobe Standard |
Category: “B&W Films - Low Contrast (grain off)”
Channel Mixer: “41 31 28 1”
Channel: composite channel
Chromatic Aberration B: 0
Chromatic Aberration R: 0
ChromaticAberrationB | 0 |
ChromaticAberrationR | 0 |
CircleOfConfusion | 0.031 mm |
Clarity | 0 |
Clarity: 0
Color Contrast: 0
Color Noise Reduction: 25
ColorComponents | 3 |
ColorMode | RGB |
ColorNoiseReduction | 25 |
ColorSpace | Uncalibrated |
ColorTemperature | 5500 |
Contrast | +45 |
Contrast: 45
ConvertToGrayscale | False |
Copyright | Copyright: Andreas Diederich |
CopyrightNotice | Copyright: Andreas Diederich |
CreateDate (1) | 2011:06:11 19:56:43.60+02:00 |
CreateDate | 2011:06:11 19:56:43 |
Creator | Photographer: Andreas Diederich |
Crop
Crop Angle: 0
Crop Bottom: 0,947
Crop Height: 3
Crop Left: 0,084
Crop Right: 0,887
Crop To: rectangle
Crop Top: 0,143
Crop Unit: Ratio
Crop Width: 2
CropAngle | 0 |
CropBottom | 0.946581 |
CropHeight | 3 |
CropLeft | 0.084046 |
CropRight | 0.887464 |
CropTop | 0.143162 |
CropUnit | Unknown (3) |
CropWidth | 2 |
CustomRendered | Normal |
DateTimeDigitized | 2011:06:11 19:56:43.60+02:00 |
DateTimeOriginal (1) | 2011:06:11 19:56:43.60+02:00 |
DateTimeOriginal | 2011:06:11 19:56:43 |
Defringe | 0 |
Defringe: 0
Delete current layer
Delete Layer
Depth: 8 Bits/channel
DOF | 4.01 m (7.26 - 11.27 m) |
ExifImageHeight | 620 |
ExifImageWidth | 930 |
Exposure 2 Black And White Film true
Exposure | 0.00 |
Exposure: 0
ExposureCompensation | +1 |
ExposureMode | Auto |
ExposureProgram | Aperture-priority AE |
ExposureTime | 1/1600 |
false
Fill Light: 3
FillLight | 3 |
Film Format: 135 Format
Firmware | 2.0.4 |
Flash | Off, Did not fire |
FlashCompensation | 0 |
FlashFired | False |
FlashFunction | False |
FlashMode | Off |
FlashRedEyeMode | False |
FlashReturn | No return detection |
FNumber | 2.0 |
FocalLength | 50.0 mm |
FocalLength35efl | 50.0 mm (35 mm equivalent: 48.8 mm) |
Format | image/jpeg |
FOV | 40.5 deg |
Gamma: 1,06
Grain Strength: 0
GrainAmount | 0 |
Green Hue: 0
Green Saturation: 0
Green: “GreenCurve: 2 0 0 0 0 0 0 1 1 ”
GreenHue | 0 |
GreenSaturation | 0 |
Halation Opacity: 0
Halation Spread: 20
HasCrop | True |
HasSettings | True |
Hide current layer
Highlight: 26,78
HighlightRecovery | 0 |
Hue Adjust Aqua: 0
Hue Adjust Blue: 0
Hue Adjust Green: 0
Hue Adjust Magenta: 0
Hue Adjust Orange: 0
Hue Adjust Purple: 0
Hue Adjust Red: 0
Hue Adjust Yellow: 0
HueAdjustmentAqua | 0 |
HueAdjustmentBlue | 0 |
HueAdjustmentGreen | 0 |
HueAdjustmentMagenta | 0 |
HueAdjustmentOrange | 0 |
HueAdjustmentPurple | 0 |
HueAdjustmentRed | 0 |
HueAdjustmentYellow | 0 |
HyperfocalDistance | 40.60 m |
ICCProfileName | Adobe RGB (1998) |
Image Size
Image Size Width: 2100 pixels
Image Size Width: 930 pixels
ImageHeight | 620 |
ImageNumber | 0 |
ImageSize | 930x620 |
ImageWidth | 930 |
Ink 1 Color: “RGB: 60 30 0 ”
Ink 1 Position: 50
Ink 1 Strength: 0
Ink 2 Color: “RGB: 0 0 60 ”
Ink 2 Position: 20
Ink 2 Strength: 0
Interpolation: bicubic
ISO | 100 |
Left: 0 cm
Left: 10,92 cm
Lens | EF50mm f/1.2L USM |
LensID (1) | 241 |
LensID | Canon EF 50mm f/1.2L USM |
LensInfo | 50mm f/? |
Levels
levels adjustment
Levels Preset Kind: Custom
Levels Preset Kind: Default
LightValue | 12.6 |
Local Adjustments: “”
Luminance Adjust Aqua: 0
Luminance Adjust Blue: 0
Luminance Adjust Green: 0
Luminance Adjust Magenta: 0
Luminance Adjust Orange: 0
Luminance Adjust Purple: 0
Luminance Adjust Red: 0
Luminance Adjust Yellow: 0
Luminance Smoothing: 0
LuminanceAdjustmentAqua | 0 |
LuminanceAdjustmentBlue | 0 |
LuminanceAdjustmentGreen | 0 |
LuminanceAdjustmentMagenta | 0 |
LuminanceAdjustmentOrange | 0 |
LuminanceAdjustmentPurple | 0 |
LuminanceAdjustmentRed | 0 |
LuminanceAdjustmentYellow | 0 |
LuminanceSmoothing | 0 |
Make | Canon |
Master Opacity Change
MaxApertureValue | 1.2 |
Megapixels | 0.577 |
Merge Visible
MeteringMode | Multi-segment |
Midtone: 33,33
Model | Canon EOS 5D Mark II |
Model: “Canon EOS 5D Mark II”
ModifyDate (1) | 2012:03:25 21:37:45+02:00 |
ModifyDate | 2012:03:25 21:37:45 |
Opacity: 0%
Opacity: 15%
Opacity: 26%
Opacity: 30%
Opacity: 64%
Open Macintosh HD:Users:adied:Bryllup 2011:06-11 Kristina og Morten:50mm_03:_MG_7098.CR2
Open Macintosh HD:Users:adied:Pictures:Bryllup 2011:06-11 Kristina og Morten:04 Fest:_MG_7098.jpg
Orientation | Horizontal (normal) |
Output Sharpen For: None
Overall Intensity: 100
OwnerName | Andreas Diederich |
Parametric Darks: 0
Parametric Highlight Split: 75
Parametric Highlights: 0
Parametric Lights: 0
Parametric Midtone Split: 50
Parametric Shadow Split: 25
Parametric Shadows: 0
ParametricDarks | 0 |
ParametricHighlights | 0 |
ParametricHighlightSplit | 75 |
ParametricLights | 0 |
ParametricMidtoneSplit | 50 |
ParametricShadows | 0 |
ParametricShadowSplit | 25 |
Play action “Dirty Diana (texture)” of set “TRA2 - The Revenge”
Play action “Get Faded (summer)” of set “TRA2 - The Revenge”
Play action “Get Faded (winter)” of set “TRA2 - The Revenge”
Play action “Lux (hard)” of set “TRA2 - The Revenge”
Play action “Slice Like A Ninja (Sharpen)” of set “TRA2 - The Revenge”
Play action “Sparta” of set “TRA2 - The Revenge”
Play action “Troy” of set “TRA2 - The Revenge”
Post Crop Vignetting Amount: 0
PostCropVignetteAmount | 0 |
ProcessVersion | 5.0 |
ProfileDescription | Adobe RGB (1998) |
Push Processing: 0
Rating | 0 |
RawFileName | _MG_7098.CR2 |
Recovery: 0
Red Eye: “”
Red Hue: 0
Red Saturation: 0
Red: “RedCurve: 2 0 0 0 0 0 0 1 1 ”
RedHue | 0 |
RedSaturation | 0 |
Relative Grain Size: 0,95
Resolution: 240
RGB: “RGBCurve: 5 0 0 0 0 0 0 0.113821 0.0882353 0.300813 0.298319 0.552846 0.579832 1 1 ”
Right: 45,21 cm
Right: 47,75 cm
Rights | Copyright: Andreas Diederich |
Roughness: 20
Saturation Adjust Aqua: 0
Saturation Adjust Blue: 0
Saturation Adjust Green: 0
Saturation Adjust Magenta: 0
Saturation Adjust Orange: 0
Saturation Adjust Purple: 0
Saturation Adjust Red: 0
Saturation Adjust Yellow: 0
Saturation | 0 |
Saturation: 0
SaturationAdjustmentAqua | 0 |
SaturationAdjustmentBlue | 0 |
SaturationAdjustmentGreen | 0 |
SaturationAdjustmentMagenta | 0 |
SaturationAdjustmentOrange | 0 |
SaturationAdjustmentPurple | 0 |
SaturationAdjustmentRed | 0 |
SaturationAdjustmentYellow | 0 |
Scale: 1
ScaleFactor35efl | 1.0 |
SceneCaptureType | Standard |
Select RGB channel Without Make Visible
SerialNumber | 1330808299 |
Set current layer To: layer
Setting: “Ilford Delta 3200”
Settings: Custom
Shadow Tint: 0
Shadow: 30,6
Shadows | 5 |
ShadowTint | 0 |
Sharpen Amount: 0
Sharpen Amount: 25
Sharpen Detail: 25
Sharpen Masking: 0
Sharpen Radius: 1
Sharpen Radius: 25
Sharpen Threshold: 0
SharpenDetail | 25 |
SharpenEdgeMasking | 0 |
SharpenRadius | +1.0 |
Sharpness | 25 |
Show current layer
ShutterSpeed | 1/1600 |
ShutterSpeedValue | 1/1600 |
SidecarForExtension | CR2 |
Software | Adobe Photoshop CS4 Macintosh |
Space: Adobe RGB (1998)
Split Tone Balance: 0
Split Tone Highlight Hue: 0
Split Tone Highlight Saturation: 0
Split Tone Shadow Hue: 0
Split Tone Shadow Saturation: 0
SplitToningBalance | 0 |
SplitToningHighlightHue | 0 |
SplitToningHighlightSaturation | 0 |
SplitToningShadowHue | 0 |
SplitToningShadowSaturation | 0 |
SubjectDistance | 8.83 m |
Target Height: 2 cm
Target Resolution: 0 per cm
Target Width: 3 cm
Tint | +12 |
Tone Curve: 0, 0, 32, 22, 64, 56, 128, 128, 192, 196, 255, 255
ToneCurve | 0, 0, 32, 22, 64, 56, 128, 128, 192, 196, 255, 255 |
ToneCurveName | Medium Contrast |
Top: 0 cm
Top: 0,82 cm
true
Undo
URL_List | |
Version | 5.7 |
Vibrance | 0 |
Vibrance: 0
VignetteAmount | +70 |
VignetteMidpoint | 25 |
Vignetting Amount: 70
Vignetting Midpoint: 25
White Balance: As Shot
WhiteBalance (2) | As Shot |
WhiteBalance | Auto |
With Auto
With Automatic Grain Size
With Constrain Proportions
With Create New Layer
With Scale Styles
Without Convert to Grayscale
Without Modified
Without User Setting
“AlienSkin Exposure 2 Black and White”
“Black and White Film”