Felt | Verdi |
AlreadyApplied | True |
Aperture | 13.0 |
ApertureValue | 13.0 |
ApproximateFocusDistance | 4294967295 |
Artist | Helge A. Hafstad |
AuthorsPosition | Photographer |
AutoLateralCA | 0 |
BitsPerSample | 8 |
Blacks2012 | +1 |
BlueHue | 0 |
BlueSaturation | 0 |
Brightness | 0 |
By-line | Helge A. Hafstad |
By-lineTitle | Photographer |
CameraProfile | Embedded |
Caption-Abstract | F16 at Rygge Airshow 2007 |
CFAPattern | [Green,Blue][Red,Green] |
CircleOfConfusion | 0.020 mm |
Clarity | 0 |
Clarity2012 | 0 |
ColorComponents | 3 |
ColorNoiseReduction | 0 |
ColorSpace | sRGB |
Contrast (1) | 0 |
Contrast | Normal |
Contrast2012 | +25 |
ConvertToGrayscale | False |
Copyright | © 2007 Helge A. Hafstad |
CopyrightFlag | True |
CopyrightNotice | © 2007 Helge A. Hafstad |
CreateDate (1) | 2007:08:26 16:26:45.70+02:00 |
CreateDate | 2007:08:26 16:26:45 |
Creator | Helge A. Hafstad |
CreatorAddress | Skogbrynet 19e |
CreatorCity | Oslo |
CreatorCountry | Norway |
CreatorPostalCode | NO-0283 |
CreatorTool | Adobe Photoshop Lightroom 4.0 (Windows) |
Creatortool | Microsoft Windows Photo Gallery 6.0.6000.16386 |
CreatorWorkEmail | yellowleaf@online.no |
CreatorWorkTelephone | +47 95719090 / +47 22505560 |
CreatorWorkURL | www.yellowleaf.no |
CustomRendered | Normal |
DateCreated (1) | 2007:08:26 |
DateCreated | 2007:08:26 16:26:45.70+02:00 |
DateTimeOriginal | 2007:08:26 16:26:45 |
Defringe | 0 |
Description | F16 at Rygge Airshow 2007 |
DigitalZoomRatio | 1 |
DOF | inf (345.62 m - inf) |
Exposure | 0.00 |
Exposure2012 | -1.30 |
ExposureCompensation | 0 |
ExposureMode | Auto |
ExposureProgram | Not Defined |
ExposureTime | 1/4000 |
FillLight | 0 |
Flash | No Flash |
FNumber | 13.0 |
FocalLength | 300.0 mm |
FocalLength35efl | 300.0 mm (35 mm equivalent: 450.0 mm) |
FocalLengthIn35mmFormat | 450 mm |
Format | image/jpeg |
FOV | 4.6 deg |
GainControl | High gain up |
GrainAmount | 0 |
GreenHue | 0 |
GreenSaturation | 0 |
HasCrop | False |
HasSettings | True |
HighlightRecovery | 0 |
Highlights2012 | 0 |
HueAdjustmentAqua | 0 |
HueAdjustmentBlue | 0 |
HueAdjustmentGreen | 0 |
HueAdjustmentMagenta | 0 |
HueAdjustmentOrange | 0 |
HueAdjustmentPurple | 0 |
HueAdjustmentRed | 0 |
HueAdjustmentYellow | 0 |
HyperfocalDistance | 345.62 m |
ImageDescription | F16 at Rygge Airshow 2007 |
ImageHeight | 655 |
ImageNumber | 2593 |
ImageSize | 1000x655 |
ImageWidth | 1000 |
IncrementalTemperature | 0 |
IncrementalTint | 0 |
ISO | 1600 |
Keywords | Aerobatics, Air Show, Aircraft, Aviation, Blue, Cloudscape, Contrails, Danger, Europe, F-16, Flight, Flying, Gray, Military, Nordic, North Europe, Norway, Performance, Scandinavia, Sky |
LastKeywordXMP | Aircraft, Contrails, Air Show |
Lens | 70.0-300.0 mm f/4.0-5.6 |
LensID (1) | 38 |
LensID | Sigma 70-300mm F4-5.6 DG Macro |
LensInfo | 70-300mm f/4-5.6 |
LensManualDistortionAmount | 0 |
LensModel | 70.0-300.0 mm f/4.0-5.6 |
LensProfileEnable | 0 |
LensProfileSetup | LensDefaults |
LightSource | Unknown |
LightValue | 15.4 |
LuminanceAdjustmentAqua | 0 |
LuminanceAdjustmentBlue | 0 |
LuminanceAdjustmentGreen | 0 |
LuminanceAdjustmentMagenta | 0 |
LuminanceAdjustmentOrange | 0 |
LuminanceAdjustmentPurple | 0 |
LuminanceAdjustmentRed | 0 |
LuminanceAdjustmentYellow | 0 |
LuminanceNoiseReductionContrast | 0 |
LuminanceNoiseReductionDetail | 50 |
LuminanceSmoothing | 12 |
Make | NIKON CORPORATION |
Marked | True |
MaxApertureValue | 5.7 |
Megapixels | 0.655 |
MeteringMode | Multi-segment |
Model | NIKON D80 |
ModifyDate (1) | 2012:03:14 22:29:55+01:00 |
ModifyDate | 2012:03:14 22:29:55 |
ObjectName | RNLAF F-16 High Alpha Flyby |
ParametricDarks | 0 |
ParametricHighlights | 0 |
ParametricHighlightSplit | 75 |
ParametricLights | 0 |
ParametricMidtoneSplit | 50 |
ParametricShadows | 0 |
ParametricShadowSplit | 25 |
PerspectiveHorizontal | 0 |
PerspectiveRotate | 0.0 |
PerspectiveScale | 100 |
PerspectiveVertical | 0 |
PostCropVignetteAmount | 0 |
ProcessVersion | 6.7 |
ProfileDescription | Adobe RGB (1998) |
RedHue | 0 |
RedSaturation | 0 |
Rights | © 2007 Helge A. Hafstad |
Saturation (1) | 0 |
Saturation | Normal |
SaturationAdjustmentAqua | 0 |
SaturationAdjustmentBlue | 0 |
SaturationAdjustmentGreen | 0 |
SaturationAdjustmentMagenta | 0 |
SaturationAdjustmentOrange | 0 |
SaturationAdjustmentPurple | 0 |
SaturationAdjustmentRed | 0 |
SaturationAdjustmentYellow | 0 |
ScaleFactor35efl | 1.5 |
SceneCaptureType | Standard |
SceneType | Directly photographed |
SensingMethod | One-chip color area |
SerialNumber | 4125117 |
Shadows | 0 |
Shadows2012 | 0 |
ShadowTint | 0 |
SharpenDetail | 25 |
SharpenEdgeMasking | 0 |
SharpenRadius | +1.0 |
Sharpness (1) | 0 |
Sharpness | Normal |
ShutterSpeed | 1/4000 |
ShutterSpeedValue | 1/4000 |
Software (1) | Microsoft Windows Photo Gallery 6.0.6000.16386 |
Software | Adobe Photoshop Lightroom 4.0 (Windows) |
SplitToningBalance | 0 |
SplitToningHighlightHue | 0 |
SplitToningHighlightSaturation | 0 |
SplitToningShadowHue | 0 |
SplitToningShadowSaturation | 0 |
Subject | Aerobatics, Air Show, Aircraft, Aviation, Blue, Cloudscape, Contrails, Danger, Europe, F-16, Flight, Flying, Gray, Military, Nordic, North Europe, Norway, Performance, Scandinavia, Sky |
SubjectDistance | 4294967295 m |
SubjectDistanceRange | Unknown |
Title | RNLAF F-16 High Alpha Flyby |
ToneCurve | 0, 0, 255, 255 |
ToneCurveBlue | 0, 0, 255, 255 |
ToneCurveGreen | 0, 0, 255, 255 |
ToneCurveName | Linear |
ToneCurveName2012 | Linear |
ToneCurvePV2012 | 0, 0, 255, 255 |
ToneCurvePV2012Blue | 0, 0, 255, 255 |
ToneCurvePV2012Green | 0, 0, 255, 255 |
ToneCurvePV2012Red | 0, 0, 255, 255 |
ToneCurveRed | 0, 0, 255, 255 |
UsageTerms | All rights reserved |
Version | 7.0 |
Vibrance | 0 |
VignetteAmount | 0 |
WhiteBalance (1) | As Shot |
WhiteBalance | Auto |
Whites2012 | +29 |