Felt | Verdi |
AlreadyApplied | True |
Artist | Paul Guanio-Uluru |
BitsPerSample | 8 |
BlueHue | 0 |
BlueSaturation | 0 |
Brightness | +50 |
By-line | Paul Guanio-Uluru |
CameraProfile | Adobe Standard |
Caption-Abstract | OLYMPUS DIGITAL CAMERA |
CFAPattern | [Red,Green][Green,Blue] |
ChromaticAberrationB | 0 |
ChromaticAberrationR | 0 |
Clarity | +35 |
ColorComponents | 3 |
ColorNoiseReduction | 25 |
ColorSpace | Uncalibrated |
ColorTemperature | 4150 |
Contrast (2) | +55 |
Contrast | High |
ConvertToGrayscale | False |
Copyright | Paul Guanio-Uluru |
CopyrightNotice | Paul Guanio-Uluru |
CreateDate (1) | 2011:02:10 20:24:04+01:00 |
CreateDate | 2011:02:10 20:24:04 |
Creator | Paul Guanio-Uluru |
CreatorTool | Version 1.1 |
CropAngle | 0 |
CropBottom | 0.939302 |
CropLeft | 0 |
CropRight | 0.906712 |
CropTop | 0.004552 |
CustomRendered | Normal |
DateTimeDigitized | 2011:02:10 20:24:04+01:00 |
DateTimeOriginal (1) | 2011:02:10 20:24:04+01:00 |
DateTimeOriginal | 2011:02:10 20:24:04 |
Defringe | 0 |
Description | OLYMPUS DIGITAL CAMERA |
DigitalZoomRatio | 1 |
ExifImageHeight (1) | 2827 |
ExifImageHeight | 768 |
ExifImageWidth (1) | 3656 |
ExifImageWidth | 993 |
Exposure | +0.15 |
ExposureCompensation | 0 |
ExposureMode | Manual |
ExposureProgram | Manual |
ExposureTime | 1/250 |
FillLight | 15 |
Flash | On, Did not fire |
FlashCompensation | 0 |
FlashFired | False |
FlashFunction | False |
FlashMode | On |
FlashRedEyeMode | False |
FlashReturn | No return detection |
GainControl | None |
GrainAmount | 0 |
GreenHue | 0 |
GreenSaturation | 0 |
HasCrop | True |
HasSettings | True |
HighlightRecovery | 0 |
HueAdjustmentAqua | 0 |
HueAdjustmentBlue | 0 |
HueAdjustmentGreen | 0 |
HueAdjustmentMagenta | 0 |
HueAdjustmentOrange | 0 |
HueAdjustmentPurple | 0 |
HueAdjustmentRed | 0 |
HueAdjustmentYellow | 0 |
IFD0_Offset | 1054 |
ImageDataSize | 505938 |
ImageDescription | OLYMPUS DIGITAL CAMERA |
ImageHeight (1) | 2827 |
ImageHeight | 768 |
ImageSize | 993x768 |
ImageWidth (1) | 3656 |
ImageWidth | 993 |
ISO | 100 |
LightSource | Unknown |
LuminanceAdjustmentAqua | 0 |
LuminanceAdjustmentBlue | 0 |
LuminanceAdjustmentGreen | 0 |
LuminanceAdjustmentMagenta | 0 |
LuminanceAdjustmentOrange | 0 |
LuminanceAdjustmentPurple | 0 |
LuminanceAdjustmentRed | 0 |
LuminanceAdjustmentYellow | 0 |
LuminanceSmoothing | 0 |
Make | OLYMPUS IMAGING CORP. |
MakerNoteVersion | 2.10 |
MaxApertureValue | 1.0 |
Megapixels | 0.763 |
MeteringMode | Multi-segment |
Model | E-P2 |
ModifyDate (1) | 2011:02:10 20:59:25+01:00 |
ModifyDate | 2011:02:10 20:04:-553648128 |
NEFBitDepth | n/a (JPEG) |
NikonCaptureVersion | Capture NX 2.2.6 M |
Orientation | Horizontal (normal) |
PaintCorrectionActive | true |
PaintCorrectionAmount | 1.000000 |
PaintCorrectionBrightness (1) | 0.265000 |
PaintCorrectionBrightness | 0.010000 |
PaintCorrectionClarity | 0.130000 |
PaintCorrectionContrast | 0.000000 |
PaintCorrectionExposure (1) | 0.225000 |
PaintCorrectionExposure | -0.387500 |
PaintCorrectionHue | 0.000000 |
PaintCorrectionMaskCenterWeight | 0.000000 |
PaintCorrectionMaskFlow | 0.637168 |
PaintCorrectionMaskRadius | 0.329999 |
PaintCorrectionMaskValue | 1.000000 |
PaintCorrectionMaskWhat | Mask/Paint |
PaintCorrectionSaturation (1) | 0.460000 |
PaintCorrectionSaturation | 0.000000 |
PaintCorrectionSharpness (1) | 0.950000 |
PaintCorrectionSharpness | 0.130000 |
PaintCorrectionWhat | Correction |
ParametricDarks | -8 |
ParametricHighlights | +35 |
ParametricHighlightSplit | 75 |
ParametricLights | +10 |
ParametricMidtoneSplit | 50 |
ParametricShadows | -30 |
ParametricShadowSplit | 25 |
PostCropVignetteAmount | 0 |
PreviewIFD_Offset | 954 |
ProcessVersion | 5.0 |
ProfileDescription | sRGB IEC61966-2.1 |
Rating | 0 |
RawFileName | _2102218.dng |
RedHue | 0 |
RedSaturation | 0 |
Rights | Paul Guanio-Uluru |
Saturation (2) | +48 |
Saturation | High |
SaturationAdjustmentAqua | 0 |
SaturationAdjustmentBlue | 0 |
SaturationAdjustmentGreen | 0 |
SaturationAdjustmentMagenta | 0 |
SaturationAdjustmentOrange | 0 |
SaturationAdjustmentPurple | 0 |
SaturationAdjustmentRed | 0 |
SaturationAdjustmentYellow | 0 |
SceneCaptureType | Standard |
SerialNumber | H87506001 |
Shadows | 8 |
ShadowTint | 0 |
SharpenDetail | 25 |
SharpenEdgeMasking | 0 |
SharpenRadius | +0.9 |
Sharpness (2) | 150 |
Sharpness | Hard |
ShutterSpeed | 1/250 |
ShutterSpeedValue (1) | 1/250 |
ShutterSpeedValue | 3.4 |
Software | Capture NX 2.2.6 M |
SplitToningBalance | 0 |
SplitToningHighlightHue | 0 |
SplitToningHighlightSaturation | 0 |
SplitToningShadowHue | 0 |
SplitToningShadowSaturation | 0 |
Tint | +38 |
ToneCurve | 0, 0, 32, 22, 64, 56, 128, 128, 192, 196, 255, 255 |
ToneCurveName | Medium Contrast |
Version | 5.7 |
Vibrance | +23 |
VignetteAmount | 0 |
WhiteBalance (2) | Custom |
WhiteBalance | Auto |