Felt | Verdi |
AlreadyApplied | True |
Aperture | 3.5 |
ApertureValue | 3.5 |
Artist | ANETTE LAWRENCE |
BitsPerSample | 8 |
BlueHue | 0 |
BlueSaturation | 0 |
Brightness | +50 |
By-line | ANETTE LAWRENCE |
By-lineTitle | |
CameraProfile | ACR 4.4 |
Caption-Abstract | |
Category | |
CFAPattern | [Red,Green][Green,Blue] |
ChromaticAberrationB | 0 |
ChromaticAberrationR | 0 |
City | |
Clarity | +2 |
ColorComponents | 3 |
ColorMode | RGB |
ColorNoiseReduction | 25 |
ColorSpace (1) | sRGB |
ColorSpace | Uncalibrated |
ColorTemperature | 6150 |
Contrast | +44 |
ConvertToGrayscale | False |
Copyright | Anette Lawrence |
CopyrightNotice | Anette Lawrence |
Country-PrimaryLocationCode | |
Country-PrimaryLocationName | |
CreateDate (1) | 2010:08:10 17:11:52.47+02:00 |
CreateDate | 2010:08:10 17:11:52 |
Creator | ANETTE LAWRENCE |
CreatorTool | Capture NX 1.3.0 W |
Credit | |
DateCreated | |
DateSent | |
DateTimeDigitized | 2010:08:10 17:11:52+02:00 |
DateTimeOriginal (1) | 2010:08:10 17:11:52+02:00 |
DateTimeOriginal | 2010:08:10 17:11:52 |
Defringe | 0 |
Destination | |
ExifImageHeight (1) | 4256 |
ExifImageHeight | 1000 |
ExifImageWidth (1) | 2832 |
ExifImageWidth | 665 |
ExpirationDate | |
ExpirationTime | |
Exposure | 0.00 |
ExposureCompensation | 0 |
ExposureProgram | Manual |
ExposureTime | 1/60 |
FileFormat | No ObjectData |
FileVersion | 0 |
FillLight | 0 |
Flash | No Flash |
FlashFired | False |
FlashFunction | False |
FlashMode | Unknown |
FlashRedEyeMode | False |
FlashReturn | No return detection |
FNumber | 3.5 |
FocalLength | 85.0 mm |
FocalLength35efl | 85.0 mm |
Format | image/jpeg |
GreenHue | 0 |
GreenSaturation | 0 |
HasCrop | False |
HasSettings | True |
Headline | |
HighlightRecovery | 33 |
HueAdjustmentAqua | 0 |
HueAdjustmentBlue | 0 |
HueAdjustmentGreen | 0 |
HueAdjustmentMagenta | 0 |
HueAdjustmentOrange | 0 |
HueAdjustmentPurple | 0 |
HueAdjustmentRed | 0 |
HueAdjustmentYellow | 0 |
ICCProfileName | Nikon sRGB 4.0.0.3001 |
IFD0_Offset | 998 |
ImageDataSize | 477582 |
ImageHeight | 1000 |
ImageNumber | 45820 |
ImageSize | 665x1000 |
ImageWidth | 665 |
ISO | 800 |
LanguageIdentifier | |
Lens | 85.0 mm f/1.8 |
LensInfo | 85mm f/1.8 |
LightSource | Flash |
LightValue | 6.5 |
LuminanceAdjustmentAqua | 0 |
LuminanceAdjustmentBlue | 0 |
LuminanceAdjustmentGreen | 0 |
LuminanceAdjustmentMagenta | 0 |
LuminanceAdjustmentOrange | 0 |
LuminanceAdjustmentPurple | 0 |
LuminanceAdjustmentRed | 0 |
LuminanceAdjustmentYellow | 0 |
LuminanceSmoothing | 0 |
Make | NIKON CORPORATION |
MakerNoteVersion | 2.10 |
MaxApertureValue | 1.7 |
Megapixels | 0.665 |
MeteringMode | Center-weighted average |
Model | NIKON D3 |
ModifyDate (1) | 2010:08:11 14:38:01+02:00 |
ModifyDate | 2011:01:03 18:40:51 |
NEFBitDepth | n/a (JPEG) |
NikonCaptureVersion | Capture NX 1.3.0 W |
ObjectName | |
Orientation | Horizontal (normal) |
OriginalTransmissionReference | |
OriginatingProgram | |
ParametricDarks | 0 |
ParametricHighlights | 0 |
ParametricHighlightSplit | 75 |
ParametricLights | 0 |
ParametricMidtoneSplit | 50 |
ParametricShadows | 0 |
ParametricShadowSplit | 25 |
PostCropVignetteAmount | 0 |
PreviewIFD_Offset | 898 |
ProductID | |
ProfileDescription | Nikon sRGB 4.0.0.3001 |
ProgramVersion | |
Province-State | |
Rating | 0 |
RawFileName | _NGW5354.NEF |
RedHue | 0 |
RedSaturation | 0 |
ReleaseDate | |
ReleaseTime | |
Rights | Anette Lawrence |
Saturation | 0 |
SaturationAdjustmentAqua | 0 |
SaturationAdjustmentBlue | 0 |
SaturationAdjustmentGreen | 0 |
SaturationAdjustmentMagenta | 0 |
SaturationAdjustmentOrange | 0 |
SaturationAdjustmentPurple | 0 |
SaturationAdjustmentRed | 0 |
SaturationAdjustmentYellow | 0 |
SceneType | Directly photographed |
SensingMethod | One-chip color area |
SerialNumber | 2025934 |
ServiceIdentifier | |
Shadows | 25 |
ShadowTint | 0 |
SharpenDetail | 25 |
SharpenEdgeMasking | 0 |
SharpenRadius | +1.0 |
Sharpness | 25 |
ShutterSpeed | 1/60 |
ShutterSpeedValue | 0.7 |
SidecarForExtension | NEF |
Software | Capture NX 1.3.0 W |
Source | |
SpecialInstructions | |
SplitToningBalance | 0 |
SplitToningHighlightHue | 0 |
SplitToningHighlightSaturation | 0 |
SplitToningShadowHue | 0 |
SplitToningShadowSaturation | 0 |
TimeSent | |
Tint | -6 |
ToneCurve | 0, 0, 32, 22, 64, 56, 128, 128, 192, 196, 255, 255 |
ToneCurveName | Medium Contrast |
Version | 5.0 |
Vibrance | 0 |
VignetteAmount | 0 |
WhiteBalance | As Shot |
Writer-Editor | |