Felt | Verdi |
AlreadyApplied | True |
Aperture | 11.0 |
ApertureValue | 11.0 |
BitsPerSample | 8 |
BlackClip | 0.332900 |
BlueHue | 0 |
BlueSaturation | 0 |
Brightness | +2 |
CameraProfile | Embedded |
CaptionWriter | Marius Laksholm |
Category (1) | Tin |
Category | Ting og tang |
ChromaticAberrationB | 0 |
ChromaticAberrationR | 0 |
Clarity | +20 |
ColorComponents | 3 |
ColorNoiseReduction | 0 |
ColorSaturation | 61.0 |
ColorTemperature | 0.5 |
Contrast | +16 |
ConvertToGrayscale | False |
Copyright | Marius Laksholm |
CopyrightFlag | True |
CopyrightNotice | Marius Laksholm |
CreateDate | 2010:12:31 16:54:54+01:00 |
CreatorTool | Adobe Photoshop Lightroom 3.3 |
DateTimeOriginal (1) | 2010:12:31 16:54:54+01:00 |
DateTimeOriginal | 2010:12:31 16:54:54 |
Defringe | 0 |
ExifImageHeight | 793 |
ExifImageWidth | 1200 |
Exposure | 0.00 |
ExposureTime | 1 |
FillLight | 0 |
FNumber | 11.0 |
FocalLength | 18.0 mm |
FocalLength35efl | 18.0 mm |
Gamma | 1.0 |
GrainAmount | 0 |
GreenHue | 0 |
GreenSaturation | 0 |
HasCrop | False |
HasSettings | True |
Headline | Fremtidsrommet |
HighlightRecovery | 0 |
HighlightsSmoothing | 0.0 |
HueAdjustmentAqua | 0 |
HueAdjustmentBlue | 0 |
HueAdjustmentGreen | 0 |
HueAdjustmentMagenta | 0 |
HueAdjustmentOrange | 0 |
HueAdjustmentPurple | 0 |
HueAdjustmentRed | 0 |
HueAdjustmentYellow | 0 |
ImageHeight | 793 |
ImageSize | 1200x793 |
ImageWidth | 1200 |
IncrementalTemperature | 0 |
IncrementalTint | 0 |
ISO | 200 |
Keywords | 31.12.2010, Fantastisk himmel, Fargerikt |
Label | Fremtidsrommet |
LensManualDistortionAmount | 0 |
LensProfileChromaticAberrationScale | 100 |
LensProfileDistortionScale | 108 |
LensProfileEnable | 1 |
LensProfileFilename | NIKON D3X (Nikon FX 14-24mm f2.8 G ED).lcp |
LensProfileName | Adobe (Nikon AF-S NIKKOR 14-24mm f/2.8G ED) |
LensProfileSetup | Custom |
LensProfileVignettingScale | 103 |
LightValue | 5.9 |
LuminanceAdjustmentAqua | 0 |
LuminanceAdjustmentBlue | 0 |
LuminanceAdjustmentGreen | 0 |
LuminanceAdjustmentMagenta | 0 |
LuminanceAdjustmentOrange | 0 |
LuminanceAdjustmentPurple | 0 |
LuminanceAdjustmentRed | 0 |
LuminanceAdjustmentYellow | 0 |
LuminanceSmoothing | 0 |
Luminosity | -1.8 |
Marked | True |
Megapixels | 0.952 |
Method | Details Enhancer |
Microcontrast | 8.9 |
Microsmoothing | 2.0 |
Model | NIKON D90 |
ModifyDate (1) | 2011:01:01 01:12:01+01:00 |
ModifyDate | 2011:01:01 01:12:01 |
ParametricDarks | 0 |
ParametricHighlights | 0 |
ParametricHighlightSplit | 75 |
ParametricLights | 0 |
ParametricMidtoneSplit | 50 |
ParametricShadows | 0 |
ParametricShadowSplit | 25 |
PerspectiveHorizontal | 0 |
PerspectiveRotate | 0.0 |
PerspectiveScale | 100 |
PerspectiveVertical | 0 |
PostCropVignetteAmount | 0 |
ProcessVersion | 5.7 |
ProfileDescription | sRGB IEC61966-2.1 |
Rating | 5 |
RedHue | 0 |
RedSaturation | 0 |
Rights | Marius Laksholm |
Saturation | +8 |
SaturationAdjustmentAqua | 0 |
SaturationAdjustmentBlue | 0 |
SaturationAdjustmentGreen | 0 |
SaturationAdjustmentMagenta | 0 |
SaturationAdjustmentOrange | 0 |
SaturationAdjustmentPurple | 0 |
SaturationAdjustmentRed | 0 |
SaturationAdjustmentYellow | 0 |
SaturationHighlights | 4.2 |
SaturationShadows | 4.2 |
SensitivityType | Unknown |
Shadows | 5 |
ShadowsClipping | 0.0 |
ShadowsSmoothing | 0.0 |
ShadowTint | 0 |
SharpenDetail | 25 |
SharpenEdgeMasking | 0 |
SharpenRadius | +1.0 |
Sharpness | 0 |
ShutterSpeed | 1 |
ShutterSpeedValue | 1 |
Smoothing | 0.0 |
SmoothingMode | Slider |
SplitToningBalance | +36 |
SplitToningHighlightHue | 360 |
SplitToningHighlightSaturation | 34 |
SplitToningShadowHue | 0 |
SplitToningShadowSaturation | 5 |
Strength | 88.0 |
Subject | 31.12.2010, Fantastisk himmel, Fargerikt |
SubjectCode | Fremtidsrommet |
ToneCurve | 0, 0, 255, 255 |
ToneCurveName | Linear |
UsageTerms | liten@liten.org |
Version (1) | 4.0 |
Version | 6.3 |
Vibrance | +10 |
VignetteAmount | 0 |
WhiteBalance | As Shot |
WhiteClip | 0.951900 |
Writer-Editor | Marius Laksholm |