Felt | Verdi |
AlreadyApplied | True |
Aperture | 3.5 |
ApertureValue | 3.5 |
BitsPerSample | 8 |
BlackClip | 0.000000 |
BlueHue | 0 |
BlueSaturation | 0 |
Brightness | 0 |
CameraProfile | Embedded |
CaptionWriter | Marius Laksholm |
Category (1) | Tin |
Category | Ting og tang |
ChromaticAberrationB | 0 |
ChromaticAberrationR | 0 |
Clarity | -1 |
ColorComponents | 3 |
ColorNoiseReduction | 0 |
ColorSaturation | 56.0 |
ColorTemperature | -3.3 |
Contrast | 0 |
ConvertToGrayscale | False |
Copyright | Marius Laksholm |
CopyrightFlag | True |
CopyrightNotice | Marius Laksholm |
CreateDate | 2010:05:11 23:08:35+02:00 |
CreatorTool | Adobe Photoshop Lightroom |
DateTimeOriginal (1) | 2010:05:11 23:08:35+02:00 |
DateTimeOriginal | 2010:05:11 23:08:35 |
Defringe | 0 |
ExifImageHeight | 2866 |
ExifImageWidth | 4309 |
Exposure | 0.00 |
ExposureTime | 8 |
FillLight | 0 |
FNumber | 3.5 |
FocalLength | 18.0 mm |
FocalLength35efl | 18.0 mm |
Gamma | 1.0 |
GrainAmount | 0 |
GreenHue | 0 |
GreenSaturation | 0 |
HasCrop | False |
HasSettings | True |
Headline | Fremtidsrommet |
HighlightRecovery | 100 |
HighlightsSmoothing | 6.0 |
HueAdjustmentAqua | 0 |
HueAdjustmentBlue | 0 |
HueAdjustmentGreen | 0 |
HueAdjustmentMagenta | 0 |
HueAdjustmentOrange | 0 |
HueAdjustmentPurple | 0 |
HueAdjustmentRed | 0 |
HueAdjustmentYellow | 0 |
ImageHeight | 2866 |
ImageSize | 4309x2866 |
ImageWidth | 4309 |
IncrementalTemperature | 0 |
IncrementalTint | 0 |
ISO | 200 |
Label | Fremtidsrommet |
LensManualDistortionAmount | 0 |
LensProfileEnable | 0 |
LensProfileSetup | LensDefaults |
LightValue | -0.4 |
LuminanceAdjustmentAqua | 0 |
LuminanceAdjustmentBlue | 0 |
LuminanceAdjustmentGreen | 0 |
LuminanceAdjustmentMagenta | 0 |
LuminanceAdjustmentOrange | 0 |
LuminanceAdjustmentPurple | 0 |
LuminanceAdjustmentRed | 0 |
LuminanceAdjustmentYellow | 0 |
LuminanceSmoothing | 0 |
Luminosity | -2.2 |
Marked | True |
Megapixels | 12.3 |
Method | Details Enhancer |
Microcontrast | -1.2 |
Microsmoothing | 2.0 |
Model | NIKON D90 |
ModifyDate (1) | 2010:12:19 02:16:15+01:00 |
ModifyDate | 2010:12:19 02:16:15 |
ParametricDarks | +9 |
ParametricHighlights | -1 |
ParametricHighlightSplit | 75 |
ParametricLights | 0 |
ParametricMidtoneSplit | 50 |
ParametricShadows | 0 |
ParametricShadowSplit | 25 |
PerspectiveHorizontal | 0 |
PerspectiveRotate | 0.0 |
PerspectiveScale | 100 |
PerspectiveVertical | 0 |
PostCropVignetteAmount | 0 |
ProcessVersion | 5.7 |
ProfileDescription | sRGB IEC61966-2.1 |
RedHue | 0 |
RedSaturation | 0 |
Rights | Marius Laksholm |
Saturation | 0 |
SaturationAdjustmentAqua | 0 |
SaturationAdjustmentBlue | 0 |
SaturationAdjustmentGreen | 0 |
SaturationAdjustmentMagenta | 0 |
SaturationAdjustmentOrange | 0 |
SaturationAdjustmentPurple | 0 |
SaturationAdjustmentRed | 0 |
SaturationAdjustmentYellow | 0 |
SaturationHighlights | 1.4 |
SaturationShadows | 0.5 |
Shadows | 0 |
ShadowsClipping | 0.0 |
ShadowsSmoothing | 0.0 |
ShadowTint | 0 |
SharpenDetail | 25 |
SharpenEdgeMasking | 0 |
SharpenRadius | +1.0 |
Sharpness | 3 |
ShutterSpeed | 8 |
ShutterSpeedValue | 8 |
Smoothing | 0.1 |
SmoothingMode | Slider |
SplitToningBalance | 0 |
SplitToningHighlightHue | 0 |
SplitToningHighlightSaturation | 0 |
SplitToningShadowHue | 0 |
SplitToningShadowSaturation | 0 |
Strength | 81.0 |
SubjectCode | Fremtidsrommet |
ToneCurve | 0, 0, 255, 255 |
ToneCurveName | Linear |
UsageTerms | liten@liten.org |
Version (1) | 4.0 |
Version | 6.1 |
Vibrance | 0 |
VignetteAmount | 0 |
WhiteBalance | As Shot |
WhiteClip | 0.152900 |
Writer-Editor | Marius Laksholm |