Felt | Verdi |
AlreadyApplied | True |
Aperture | 16.0 |
ApertureValue | 16.0 |
BitsPerSample | 8 |
BlueHue | 0 |
BlueSaturation | 0 |
Brightness | +40 |
CameraProfile | Adobe Standard |
CFAPattern | [Red,Green][Green,Blue] |
ChromaticAberrationB | 0 |
ChromaticAberrationR | 0 |
CircleOfConfusion | 0.020 mm |
Clarity | +56 |
ColorComponents | 3 |
ColorNoiseReduction | 10 |
ColorNoiseReductionDetail | 50 |
ColorTemperature | 3609 |
Contrast (2) | +47 |
Contrast | Normal |
ConvertToGrayscale | True |
CreateDate (1) | 2010:09:25 15:14:32.49+02:00 |
CreateDate | 2010:09:25 15:14:32 |
CreatorTool | Adobe Photoshop Lightroom |
CropAngle | 0 |
CropBottom | 1 |
CropConstrainToWarp | 0 |
CropHeight | 1500 |
CropLeft | 0.252831 |
CropRight | 0.917011 |
CropTop | 0 |
CropUnit | pixels |
CropWidth | 1500 |
CustomRendered | Normal |
DateTimeDigitized | 2010:09:25 15:14:32.49+02:00 |
DateTimeOriginal (1) | 2010:09:25 15:14:32.49+02:00 |
DateTimeOriginal | 2010:09:25 15:14:32 |
Defringe | 0 |
DigitalZoomRatio | 1 |
DOF | 0.009 m (0.446 - 0.455 m) |
ExifImageHeight | 1500 |
ExifImageWidth | 1500 |
Exposure | +0.28 |
ExposureCompensation | 0 |
ExposureMode | Auto |
ExposureProgram | Shutter speed priority AE |
ExposureTime | 1/160 |
FillLight | 45 |
Flash | No Flash |
FlashFired | False |
FlashFunction | False |
FlashMode | Unknown |
FlashRedEyeMode | False |
FlashReturn | No return detection |
FNumber | 16.0 |
FocalLength | 105.0 mm |
FocalLength35efl | 105.0 mm (35 mm equivalent: 157.0 mm) |
FocalLengthIn35mmFormat | 157 mm |
FOV | 13.1 deg |
GainControl | Low gain up |
GrainAmount | 0 |
GrayMixerAqua | -13 |
GrayMixerBlue | +6 |
GrayMixerGreen | -19 |
GrayMixerMagenta | -1 |
GrayMixerOrange | -15 |
GrayMixerPurple | +9 |
GrayMixerRed | -10 |
GrayMixerYellow | -16 |
GreenHue | 0 |
GreenSaturation | 0 |
HasCrop | True |
HasSettings | True |
HighlightRecovery | 100 |
HyperfocalDistance | 34.29 m |
ImageHeight | 1500 |
ImageNumber | 4031 |
ImageSize | 1500x1500 |
ImageWidth | 1500 |
ISO | 400 |
Keywords | Bie, d300, macro, monochrome |
Lens | 105.0 mm f/2.8 |
LensID (1) | 138 |
LensID | AF-S VR Micro-Nikkor 105mm f/2.8G IF-ED |
LensInfo | 105mm f/2.8 |
LensManualDistortionAmount | 0 |
LensProfileEnable | 0 |
LensProfileSetup | LensDefaults |
LightSource | Unknown |
LightValue | 13.3 |
LuminanceSmoothing | 0 |
Make | NIKON CORPORATION |
MaxApertureValue | 3.4 |
Megapixels | 2.2 |
MeteringMode | Spot |
Model | NIKON D300 |
ModifyDate (1) | 2010:12:13 17:27:38+01:00 |
ModifyDate | 2010:12:13 17:27:38 |
ParametricDarks | -24 |
ParametricHighlights | +20 |
ParametricHighlightSplit | 90 |
ParametricLights | -3 |
ParametricMidtoneSplit | 52 |
ParametricShadows | +33 |
ParametricShadowSplit | 25 |
PerspectiveHorizontal | 0 |
PerspectiveRotate | 0.0 |
PerspectiveScale | 100 |
PerspectiveVertical | 0 |
PostCropVignetteAmount | -31 |
PostCropVignetteFeather | 50 |
PostCropVignetteHighlightContrast | 0 |
PostCropVignetteMidpoint | 50 |
PostCropVignetteRoundness | 0 |
PostCropVignetteStyle | 1 |
ProcessVersion | 5.7 |
ProfileDescription | sRGB IEC61966-2.1 |
RedHue | 0 |
RedSaturation | 0 |
Saturation | Normal |
ScaleFactor35efl | 1.5 |
SceneCaptureType | Standard |
SceneType | Directly photographed |
SensingMethod | One-chip color area |
SerialNumber | 4058436 |
Shadows | 25 |
ShadowTint | 0 |
SharpenDetail | 25 |
SharpenEdgeMasking | 0 |
SharpenRadius | +1.0 |
Sharpness (2) | 10 |
Sharpness | Normal |
ShutterSpeed | 1/160 |
ShutterSpeedValue | 1/160 |
Software | Ver.1.00 |
SplitToningBalance | +44 |
SplitToningHighlightHue | 37 |
SplitToningHighlightSaturation | 26 |
SplitToningShadowHue | 215 |
SplitToningShadowSaturation | 50 |
Subject | Bie, d300, macro, monochrome |
SubjectDistance | 0.45 m |
SubjectDistanceRange | Unknown |
Tint | -99 |
ToneCurve | 0, 0, 32, 22, 64, 56, 128, 128, 192, 196, 255, 255 |
ToneCurveName | Medium Contrast |
Version | 6.1 |
VignetteAmount | 0 |
WhiteBalance (2) | Custom |
WhiteBalance | Auto |