Felt | Verdi |
AlreadyApplied | True |
Aperture | 4.0 |
ApertureValue | 4.0 |
ApproximateFocusDistance | 1.68 |
Artist | Aasmund Mosseng |
BitsPerSample | 8 |
BlueHue | 0 |
BlueSaturation | 0 |
Brightness | +50 |
By-line | Aasmund Mosseng |
CameraProfile | Adobe Standard |
ChromaticAberrationB | 0 |
ChromaticAberrationR | 0 |
CircleOfConfusion | 0.030 mm |
Clarity | +19 |
ColorComponents | 3 |
ColorMode | RGB |
ColorNoiseReduction | 25 |
ColorNoiseReductionDetail | 50 |
ColorSpace | sRGB |
ColorTemperature | 5800 |
Contrast (1) | +39 |
Contrast | Normal |
ConvertToGrayscale | False |
Copyright | Aasmund Mosseng |
CopyrightNotice | Aasmund Mosseng |
CreateDate (1) | 2010:10:27 11:13:04.96+02:00 |
CreateDate | 2010:10:27 11:13:04 |
Creator | Aasmund Mosseng |
CreatorTool | Capture NX 2.2.4 W |
CustomRendered | Normal |
DateCreated (1) | 2010:10:27 |
DateCreated | 2010:10:27 11:13:04.096 |
DateTimeOriginal | 2010:10:27 11:13:04 |
Defringe | 0 |
DigitalZoomRatio | 1 |
DOF | 0.03 m (1.66 - 1.70 m) |
ExifImageHeight | 600 |
ExifImageWidth | 900 |
Exposure | -0.10 |
ExposureCompensation | 0 |
ExposureMode | Manual |
ExposureProgram | Manual |
ExposureTime | 1/200 |
FillLight | 4 |
Flash | No Flash |
FNumber | 4.0 |
FocalLength | 135.0 mm |
FocalLength35efl | 135.0 mm (35 mm equivalent: 135.0 mm) |
FocalLengthIn35mmFormat | 135 mm |
Format | image/jpeg |
FOV | 15.2 deg |
GainControl | Low gain up |
GrainAmount | 0 |
GreenHue | 0 |
GreenSaturation | 0 |
HasCrop | False |
HasSettings | True |
HighlightRecovery | 28 |
HueAdjustmentAqua | 0 |
HueAdjustmentBlue | 0 |
HueAdjustmentGreen | 0 |
HueAdjustmentMagenta | 0 |
HueAdjustmentOrange | 0 |
HueAdjustmentPurple | 0 |
HueAdjustmentRed | 0 |
HueAdjustmentYellow | 0 |
HyperfocalDistance | 151.64 m |
ICCProfileName | sRGB IEC61966-2.1 |
ImageHeight | 600 |
ImageNumber | 3831 |
ImageSize | 900x600 |
ImageWidth | 900 |
ISO | 400 |
Lens | 135.0 mm f/2.0 |
LensID (1) | 78 |
LensID | AF DC-Nikkor 135mm f/2D |
LensInfo | 135mm f/2 |
LensManualDistortionAmount | 0 |
LensModel | 135.0 mm f/2.0 |
LensProfileEnable | 0 |
LensProfileSetup | LensDefaults |
LightSource | Unknown |
LightValue | 9.6 |
LuminanceAdjustmentAqua | 0 |
LuminanceAdjustmentBlue | 0 |
LuminanceAdjustmentGreen | 0 |
LuminanceAdjustmentMagenta | 0 |
LuminanceAdjustmentOrange | 0 |
LuminanceAdjustmentPurple | 0 |
LuminanceAdjustmentRed | 0 |
LuminanceAdjustmentYellow | 0 |
LuminanceSmoothing | 0 |
Make | NIKON CORPORATION |
MaxApertureValue | 2.0 |
Megapixels | 0.540 |
MeteringMode | Spot |
Model | NIKON D700 |
ModifyDate (1) | 2010:10:31 21:42:42+01:00 |
ModifyDate | 2010:10:31 21:42:42 |
Orientation | Horizontal (normal) |
ParametricDarks | -3 |
ParametricHighlights | +10 |
ParametricHighlightSplit | 75 |
ParametricLights | +3 |
ParametricMidtoneSplit | 50 |
ParametricShadows | -7 |
ParametricShadowSplit | 25 |
PerspectiveHorizontal | 0 |
PerspectiveRotate | 0.0 |
PerspectiveScale | 100 |
PerspectiveVertical | 0 |
PostCropVignetteAmount | -14 |
PostCropVignetteFeather | 58 |
PostCropVignetteHighlightContrast | 0 |
PostCropVignetteMidpoint | 50 |
PostCropVignetteRoundness | 0 |
PostCropVignetteStyle | 1 |
ProcessVersion | 5.7 |
ProfileDescription | sRGB IEC61966-2.1 |
Rating | 0 |
RawFileName | _DSC3800.NEF |
RedHue | 0 |
RedSaturation | 0 |
Rights | Aasmund Mosseng |
Saturation (1) | 0 |
Saturation | Normal |
SaturationAdjustmentAqua | 0 |
SaturationAdjustmentBlue | 0 |
SaturationAdjustmentGreen | 0 |
SaturationAdjustmentMagenta | 0 |
SaturationAdjustmentOrange | 0 |
SaturationAdjustmentPurple | 0 |
SaturationAdjustmentRed | 0 |
SaturationAdjustmentYellow | 0 |
ScaleFactor35efl | 1.0 |
SceneCaptureType | Standard |
SceneType | Directly photographed |
SensingMethod | One-chip color area |
SensitivityType | Unknown |
SerialNumber | 2222541 |
Shadows | 8 |
ShadowTint | 0 |
SharpenDetail | 25 |
SharpenEdgeMasking | 0 |
SharpenRadius | +1.0 |
Sharpness (1) | 25 |
Sharpness | Normal |
ShutterSpeed | 1/200 |
ShutterSpeedValue | 1/200 |
SidecarForExtension | NEF |
Software | Adobe Photoshop CS5 Windows |
SplitToningBalance | 0 |
SplitToningHighlightHue | 0 |
SplitToningHighlightSaturation | 0 |
SplitToningShadowHue | 0 |
SplitToningShadowSaturation | 0 |
SubjectDistance | 1.68 m |
SubjectDistanceRange | Unknown |
Tint | -5 |
ToneCurve | 0, 0, 32, 22, 64, 56, 128, 128, 192, 196, 255, 255 |
ToneCurveName | Medium Contrast |
URL_List | |
UserComment | (c)Aasmund Mosseng+4792224928 |
Version | 6.2 |
Vibrance | +24 |
VignetteAmount | 0 |
WhiteBalance (1) | Custom |
WhiteBalance | Auto |