Felt | Verdi |
AlreadyApplied | True |
Aperture | 10.0 |
ApertureValue | 10.0 |
AuthorsPosition | Photographer |
BitsPerSample | 8 |
BlueHue | 0 |
BlueSaturation | 0 |
Brightness | +50 |
By-line | Knut Jenssen |
By-lineTitle | Photographer |
CameraProfile | Adobe Standard |
CFAPattern | [Red,Green][Green,Blue] |
ChromaticAberrationB | 0 |
ChromaticAberrationR | 0 |
CircleOfConfusion | 0.020 mm |
Clarity | +61 |
ColorComponents | 3 |
ColorNoiseReduction | 25 |
ColorNoiseReductionDetail | 50 |
ColorTemperature | 2000 |
Contrast (2) | +71 |
Contrast | Normal |
ConvertToGrayscale | False |
Copyright | Knut Jenssen |
CopyrightFlag | True |
CopyrightNotice | Knut Jenssen |
CreateDate (1) | 2010:04:01 13:34:37.79+02:00 |
CreateDate | 2010:04:01 13:34:37 |
Creator | Knut Jenssen |
CreatorAddress | Glimmervegen 48 |
CreatorCity | Tromsø |
CreatorCountry | Norway |
CreatorPostalCode | 9022 |
CreatorRegion | Krokelvdalen |
CreatorTool | Adobe Photoshop Lightroom |
CreatorWorkEmail | knix_jenssen@hotmail.com |
CreatorWorkTelephone | +4798899369 |
CropAngle | 0 |
CropBottom | 1 |
CropHeight | 2848 |
CropLeft | 0.025682 |
CropRight | 0.897271 |
CropTop | 0 |
CropUnit | pixels |
CropWidth | 3737 |
CustomRendered | Normal |
DateTimeDigitized | 2010:04:01 13:34:37.79+02:00 |
DateTimeOriginal (1) | 2010:04:01 13:34:37.79+02:00 |
DateTimeOriginal | 2010:04:01 13:34:37 |
Defringe | 0 |
DigitalZoomRatio | 1 |
DOF | 0.57 m (2.41 - 2.97 m) |
ExifImageHeight | 2848 |
ExifImageWidth | 3737 |
Exposure | 0.00 |
ExposureCompensation | 0 |
ExposureMode | Manual |
ExposureProgram | Manual |
ExposureTime | 1/250 |
FillLight | 0 |
Flash | No Flash |
FlashFired | False |
FlashFunction | False |
FlashMode | Unknown |
FlashRedEyeMode | False |
FlashReturn | No return detection |
FNumber | 10.0 |
FocalLength | 70.0 mm |
FocalLength35efl | 70.0 mm (35 mm equivalent: 105.0 mm) |
FocalLengthIn35mmFormat | 105 mm |
FOV | 19.5 deg |
GainControl | None |
GrainAmount | 0 |
GreenHue | 0 |
GreenSaturation | 0 |
HasCrop | True |
HasSettings | True |
HighlightRecovery | 0 |
HueAdjustmentAqua | +82 |
HueAdjustmentBlue | +75 |
HueAdjustmentGreen | +15 |
HueAdjustmentMagenta | -6 |
HueAdjustmentOrange | +13 |
HueAdjustmentPurple | -33 |
HueAdjustmentRed | -100 |
HueAdjustmentYellow | +24 |
HyperfocalDistance | 24.46 m |
ImageHeight | 2848 |
ImageNumber | 18249 |
ImageSize | 3737x2848 |
ImageWidth | 3737 |
ISO | 100 |
Lens | 70.0-200.0 mm f/2.8 |
LensID (1) | 119 |
LensID | AF-S VR Zoom-Nikkor 70-200mm f/2.8G IF-ED |
LensInfo | 70-200mm f/2.8 |
LightSource | Unknown |
LightValue | 14.6 |
LuminanceAdjustmentAqua | 0 |
LuminanceAdjustmentBlue | 0 |
LuminanceAdjustmentGreen | 0 |
LuminanceAdjustmentMagenta | 0 |
LuminanceAdjustmentOrange | 0 |
LuminanceAdjustmentPurple | 0 |
LuminanceAdjustmentRed | 0 |
LuminanceAdjustmentYellow | 0 |
LuminanceSmoothing | 0 |
Make | NIKON CORPORATION |
Marked | True |
MaxApertureValue | 2.8 |
Megapixels | 10.6 |
MeteringMode | Multi-segment |
Model | NIKON D2X |
ModifyDate (1) | 2010:04:01 17:25:00+02:00 |
ModifyDate | 2010:04:01 17:25:00 |
ParametricDarks | 0 |
ParametricHighlights | 0 |
ParametricHighlightSplit | 75 |
ParametricLights | 0 |
ParametricMidtoneSplit | 50 |
ParametricShadows | 0 |
ParametricShadowSplit | 25 |
PostCropVignetteAmount | 0 |
ProcessVersion | 5.7 |
ProfileDescription | sRGB IEC61966-2.1 |
RedHue | 0 |
RedSaturation | 0 |
Rights | Knut Jenssen |
Saturation (2) | 0 |
Saturation | Normal |
SaturationAdjustmentAqua | 0 |
SaturationAdjustmentBlue | 0 |
SaturationAdjustmentGreen | 0 |
SaturationAdjustmentMagenta | -1 |
SaturationAdjustmentOrange | 0 |
SaturationAdjustmentPurple | 0 |
SaturationAdjustmentRed | -90 |
SaturationAdjustmentYellow | 0 |
ScaleFactor35efl | 1.5 |
SceneCaptureType | Standard |
SceneType | Directly photographed |
SensingMethod | One-chip color area |
SerialNumber | 5013986 |
Shadows | 5 |
ShadowTint | 0 |
SharpenDetail | 46 |
SharpenEdgeMasking | 48 |
SharpenRadius | +0.9 |
Sharpness (2) | 83 |
Sharpness | Normal |
ShutterSpeed | 1/250 |
ShutterSpeedValue | 1/250 |
Software | Ver.2.00 |
SplitToningBalance | 0 |
SplitToningHighlightHue | 0 |
SplitToningHighlightSaturation | 0 |
SplitToningShadowHue | 0 |
SplitToningShadowSaturation | 0 |
SubjectDistance | 2.66 m |
SubjectDistanceRange | Unknown |
Tint | -150 |
ToneCurve | 0, 0, 32, 22, 64, 56, 128, 128, 192, 196, 255, 255 |
ToneCurveName | Medium Contrast |
UsageTerms | all rights reserved |
Version | 6.0 |
Vibrance | -54 |
VignetteAmount | 0 |
WhiteBalance (2) | Custom |
WhiteBalance | Auto |