Felt | Verdi |
AlreadyApplied | True |
Aperture | 22.0 |
ApertureValue | 22.0 |
BitsPerSample | 8 |
BlueHue | 0 |
BlueSaturation | 0 |
Brightness | 0 |
CameraProfile | Adobe Standard |
CFAPattern | [Green,Blue][Red,Green] |
ChromaticAberrationB | 0 |
ChromaticAberrationR | 0 |
CircleOfConfusion | 0.020 mm |
Clarity | +48 |
ColorComponents | 3 |
ColorNoiseReduction | 25 |
ColorTemperature | 4857 |
Contrast (2) | +82 |
Contrast | Normal |
ConvertToGrayscale | False |
CreateDate (1) | 2010:03:20 17:28:09.00+01:00 |
CreateDate | 2010:03:20 17:28:09 |
CreatorTool | Adobe Photoshop Lightroom |
CropAngle | 0 |
CropBottom | 0.984985 |
CropHeight | 598 |
CropLeft | 0 |
CropRight | 0.942943 |
CropTop | 0.042042 |
CropUnit | pixels |
CropWidth | 900 |
CustomRendered | Normal |
DateTimeDigitized | 2010:03:20 17:28:09.00+01:00 |
DateTimeOriginal (1) | 2010:03:20 17:28:09.00+01:00 |
DateTimeOriginal | 2010:03:20 17:28:09 |
Defringe | 0 |
DigitalZoomRatio | 1 |
DOF | inf (3.00 m - inf) |
ExifImageHeight | 598 |
ExifImageWidth | 900 |
Exposure | +0.57 |
ExposureCompensation | +2/3 |
ExposureMode | Auto |
ExposureProgram | Aperture-priority AE |
ExposureTime | 0.6 |
FillLight | 0 |
Flash | No Flash |
FlashFired | False |
FlashFunction | False |
FlashMode | Unknown |
FlashRedEyeMode | False |
FlashReturn | No return detection |
FNumber | 22.0 |
FocalLength | 50.0 mm |
FocalLength35efl | 50.0 mm (35 mm equivalent: 75.0 mm) |
FocalLengthIn35mmFormat | 75 mm |
FOV | 27.0 deg |
GainControl | None |
GreenHue | 0 |
GreenSaturation | 0 |
HasCrop | True |
HasSettings | True |
HighlightRecovery | 0 |
HueAdjustmentAqua | 0 |
HueAdjustmentBlue | 0 |
HueAdjustmentGreen | 0 |
HueAdjustmentMagenta | 0 |
HueAdjustmentOrange | 0 |
HueAdjustmentPurple | 0 |
HueAdjustmentRed | 0 |
HueAdjustmentYellow | 0 |
HyperfocalDistance | 5.67 m |
ImageHeight | 598 |
ImageNumber | 3404 |
ImageSize | 900x598 |
ImageWidth | 900 |
ISO | 100 |
Lens | 50.0 mm f/1.8 |
LensID (1) | 118 |
LensID | AF Nikkor 50mm f/1.8D |
LensInfo | 50mm f/1.8 |
LightSource | Unknown |
LightValue | 9.7 |
LuminanceAdjustmentAqua | 0 |
LuminanceAdjustmentBlue | 0 |
LuminanceAdjustmentGreen | 0 |
LuminanceAdjustmentMagenta | 0 |
LuminanceAdjustmentOrange | 0 |
LuminanceAdjustmentPurple | 0 |
LuminanceAdjustmentRed | 0 |
LuminanceAdjustmentYellow | 0 |
LuminanceSmoothing | 37 |
Make | NIKON CORPORATION |
MaxApertureValue | 1.7 |
Megapixels | 0.538 |
MeteringMode | Multi-segment |
Model | NIKON D90 |
ModifyDate (1) | 2010:03:20 23:59:51+01:00 |
ModifyDate | 2010:03:20 23:59:51 |
ParametricDarks | 0 |
ParametricHighlights | 0 |
ParametricHighlightSplit | 75 |
ParametricLights | 0 |
ParametricMidtoneSplit | 50 |
ParametricShadows | 0 |
ParametricShadowSplit | 25 |
PostCropVignetteAmount | 0 |
ProfileDescription | Adobe RGB (1998) |
RedHue | 0 |
RedSaturation | 0 |
Saturation (2) | 0 |
Saturation | Normal |
SaturationAdjustmentAqua | 0 |
SaturationAdjustmentBlue | 0 |
SaturationAdjustmentGreen | 0 |
SaturationAdjustmentMagenta | 0 |
SaturationAdjustmentOrange | 0 |
SaturationAdjustmentPurple | 0 |
SaturationAdjustmentRed | 0 |
SaturationAdjustmentYellow | 0 |
ScaleFactor35efl | 1.5 |
SceneCaptureType | Landscape |
SceneType | Directly photographed |
SensingMethod | One-chip color area |
SerialNumber | 6280865 |
Shadows | 74 |
ShadowTint | 0 |
SharpenDetail | 61 |
SharpenEdgeMasking | 60 |
SharpenRadius | +0.6 |
Sharpness (2) | 86 |
Sharpness | Normal |
ShutterSpeed | 0.6 |
ShutterSpeedValue | 0.6 |
Software | Ver.1.00 |
SplitToningBalance | 0 |
SplitToningHighlightHue | 0 |
SplitToningHighlightSaturation | 0 |
SplitToningShadowHue | 0 |
SplitToningShadowSaturation | 0 |
SubjectDistance | 6.31 m |
SubjectDistanceRange | Unknown |
Tint | +6 |
ToneCurve | 0, 0, 32, 22, 64, 56, 128, 128, 192, 196, 255, 255 |
ToneCurveName | Medium Contrast |
Version | 5.6 |
Vibrance | +2 |
VignetteAmount | 0 |
WhiteBalance (2) | Custom |
WhiteBalance | Auto |