Felt | Verdi |
AlreadyApplied | True |
Aperture | 4.0 |
ApertureValue | 4.0 |
BitsPerSample | 8 |
BlueHue | +11 |
BlueSaturation | -70 |
Brightness | +57 |
CameraProfile | ACR 3.3 |
CFAPattern | [Green,Red][Blue,Green] |
ChromaticAberrationB | 0 |
ChromaticAberrationR | 0 |
CircleOfConfusion | 0.020 mm |
Clarity | +50 |
ColorComponents | 3 |
ColorNoiseReduction | 43 |
ColorTemperature | 12500 |
Contrast (2) | +25 |
Contrast | Low |
ConvertToGrayscale | False |
Copyright | Espen Seierstad |
CopyrightFlag | True |
CopyrightNotice | Espen Seierstad |
CreateDate (1) | 2008:06:10 22:21:16.90+02:00 |
CreateDate | 2008:06:10 22:21:16 |
CreatorTool | Adobe Photoshop Lightroom |
CropAngle | 0 |
CropBottom | 0.701888 |
CropHeight | 1491 |
CropLeft | 0 |
CropRight | 0.770297 |
CropTop | 0.126543 |
CropUnit | pixels |
CropWidth | 2983 |
CustomRendered | Normal |
DateTimeDigitized | 2008:06:10 22:21:16.90+02:00 |
DateTimeOriginal (1) | 2008:06:10 22:21:16.90+02:00 |
DateTimeOriginal | 2008:06:10 22:21:16 |
Defringe | 0 |
DigitalZoomRatio | 1 |
DOF | inf (2201.60 m - inf) |
ExifImageHeight | 1491 |
ExifImageWidth | 2983 |
Exposure | +0.57 |
ExposureCompensation | -2 |
ExposureMode | Auto |
ExposureProgram | Program AE |
ExposureTime | 1/20 |
FillLight | 0 |
Flash | No Flash |
FlashFired | False |
FlashFunction | False |
FlashMode | Unknown |
FlashRedEyeMode | False |
FlashReturn | No return detection |
FNumber | 4.0 |
FocalLength | 420.0 mm |
FocalLength35efl | 420.0 mm (35 mm equivalent: 630.0 mm) |
FocalLengthIn35mmFormat | 630 mm |
FOV | 3.3 deg |
GainControl | High gain up |
GradientBasedCorrActive | true |
GradientBasedCorrAmount | 1.000000 |
GradientBasedCorrBrightness | 0.000000 |
GradientBasedCorrClarity | 0.000000 |
GradientBasedCorrContrast | 0.000000 |
GradientBasedCorrExposure (1) | -0.350000 |
GradientBasedCorrExposure | -0.225000 |
GradientBasedCorrHue | 116.000000 |
GradientBasedCorrMaskFullX (1) | 0.472118 |
GradientBasedCorrMaskFullX | 0.778123 |
GradientBasedCorrMaskFullY (1) | 0.722055 |
GradientBasedCorrMaskFullY | 0.432613 |
GradientBasedCorrMaskValue | 1.000000 |
GradientBasedCorrMaskWhat | Mask/Gradient |
GradientBasedCorrMaskZeroX (1) | 0.472971 |
GradientBasedCorrMaskZeroX | 0.657380 |
GradientBasedCorrMaskZeroY (1) | 0.496637 |
GradientBasedCorrMaskZeroY | 0.430941 |
GradientBasedCorrSaturation | 0.000000 |
GradientBasedCorrSharpness | 0.000000 |
GradientBasedCorrWhat | Correction |
GreenHue | +11 |
GreenSaturation | +25 |
HasCrop | True |
HasSettings | True |
HighlightRecovery | 0 |
HueAdjustmentAqua | 0 |
HueAdjustmentBlue | 0 |
HueAdjustmentGreen | 0 |
HueAdjustmentMagenta | 0 |
HueAdjustmentOrange | 0 |
HueAdjustmentPurple | 0 |
HueAdjustmentRed | +2 |
HueAdjustmentYellow | 0 |
HyperfocalDistance | 2201.61 m |
ImageHeight | 1491 |
ImageNumber | 9061 |
ImageSize | 2983x1491 |
ImageWidth | 2983 |
ISO | 1000 |
Keywords | Animals, Beast of prey, Coniferous forest, Europe, Finland, Forest, Kuhmo, Landscape, Mammal, Mammals, Nature, Nordic, Pine, Pine forest, Wolf |
Label | Green |
Lens | 420.0 mm f/4.0 |
LensInfo | 420mm f/4 |
LightSource | Unknown |
LightValue | 5.0 |
LuminanceAdjustmentAqua | 0 |
LuminanceAdjustmentBlue | 0 |
LuminanceAdjustmentGreen | 0 |
LuminanceAdjustmentMagenta | 0 |
LuminanceAdjustmentOrange | 0 |
LuminanceAdjustmentPurple | 0 |
LuminanceAdjustmentRed | 0 |
LuminanceAdjustmentYellow | 0 |
LuminanceSmoothing | 68 |
Make | NIKON CORPORATION |
Marked | True |
MaxApertureValue | 4.0 |
Megapixels | 4.4 |
MeteringMode | Multi-segment |
Model | NIKON D200 |
ModifyDate (1) | 2010:03:16 18:57:17+01:00 |
ModifyDate | 2010:03:16 18:57:17 |
PaintCorrectionActive | true |
PaintCorrectionAmount | 1.000000 |
PaintCorrectionBrightness | 0.000000 |
PaintCorrectionClarity | -0.075000 |
PaintCorrectionContrast | 1.000000 |
PaintCorrectionExposure | 0.025000 |
PaintCorrectionHue | 116.000000 |
PaintCorrectionMaskCenterWeight (5) | 0.218559 |
PaintCorrectionMaskCenterWeight | 0.019522 |
PaintCorrectionMaskFlow | 1.000000 |
PaintCorrectionMaskRadius (1) | 0.011588 |
PaintCorrectionMaskRadius (5) | 0.006987 |
PaintCorrectionMaskRadius | 0.011478 |
PaintCorrectionMaskValue | 1.000000 |
PaintCorrectionMaskWhat | Mask/Paint |
PaintCorrectionSaturation | 0.000000 |
PaintCorrectionSharpness | 0.500000 |
PaintCorrectionWhat | Correction |
ParametricDarks | -50 |
ParametricHighlights | 0 |
ParametricHighlightSplit | 45 |
ParametricLights | +45 |
ParametricMidtoneSplit | 31 |
ParametricShadows | -52 |
ParametricShadowSplit | 19 |
PostCropVignetteAmount | 0 |
ProfileDescription | sRGB IEC61966-2.1 |
Rating | 3 |
RedHue | +96 |
RedSaturation | +3 |
Rights | Espen Seierstad |
Saturation (2) | -62 |
Saturation | Normal |
SaturationAdjustmentAqua | 0 |
SaturationAdjustmentBlue | 0 |
SaturationAdjustmentGreen | 0 |
SaturationAdjustmentMagenta | 0 |
SaturationAdjustmentOrange | 0 |
SaturationAdjustmentPurple | 0 |
SaturationAdjustmentRed | 0 |
SaturationAdjustmentYellow | 0 |
ScaleFactor35efl | 1.5 |
SceneCaptureType | Standard |
SceneType | Directly photographed |
SensingMethod | One-chip color area |
Shadows | 11 |
ShadowTint | +8 |
SharpenDetail | 0 |
SharpenEdgeMasking | 19 |
SharpenRadius | +0.5 |
Sharpness (2) | 105 |
Sharpness | Hard |
ShutterSpeed | 1/20 |
ShutterSpeedValue | 1/20 |
Software | Ver.2.00 |
SplitToningBalance | 0 |
SplitToningHighlightHue | 0 |
SplitToningHighlightSaturation | 0 |
SplitToningShadowHue | 0 |
SplitToningShadowSaturation | 0 |
Subject | Animals, Beast of prey, Coniferous forest, Europe, Finland, Forest, Kuhmo, Landscape, Mammal, Mammals, Nature, Nordic, Pine, Pine forest, Wolf |
SubjectDistance | 4294967295 m |
SubjectDistanceRange | Unknown |
Tint | +35 |
ToneCurve | 0, 0, 255, 255 |
ToneCurveName | Linear |
UserComment | Espen Seierstad |
Version | 5.6 |
Vibrance | -14 |
VignetteAmount | -61 |
VignetteMidpoint | 34 |
WhiteBalance (2) | Custom |
WhiteBalance | Auto |