Felt | Verdi |
AlreadyApplied | True |
Aperture | 5.6 |
ApertureValue | 5.6 |
BitsPerSample | 8 |
BlueHue | 0 |
BlueSaturation | 0 |
Brightness | +53 |
CameraProfile | ACR 4.6 |
CFAPattern | [Green,Blue][Red,Green] |
ChromaticAberrationB | 0 |
ChromaticAberrationR | 0 |
CircleOfConfusion | 0.020 mm |
Clarity | -3 |
ColorComponents | 1 |
ColorMode | RGB |
ColorNoiseReduction | 25 |
ColorSpace (1) | Unknown (-1) |
ColorSpace | Uncalibrated |
ColorTemperature | 4400 |
Contrast (2) | +51 |
Contrast | Normal |
ConvertToGrayscale | True |
CopyrightFlag | False |
CreateDate (1) | 2010:01:13 22:08:11+01:00 |
CreateDate | 2009:10:24 04:07:10 |
CreatorTool | Adobe Photoshop CS3 Windows |
CustomRendered | Normal |
DateTimeDigitized | 2009:10:24 04:07:10.00+02:00 |
DateTimeOriginal (1) | 2009:10:24 04:07:10.00+02:00 |
DateTimeOriginal | 2009:10:24 04:07:10 |
Defringe | 0 |
DigitalZoomRatio | 1 |
ExifImageHeight | 2043 |
ExifImageWidth | 3076 |
Exposure | -0.40 |
ExposureCompensation | -1/3 |
ExposureMode | Manual |
ExposureProgram | Manual |
ExposureTime | 1/125 |
FillLight | 0 |
Flash | No Flash |
FlashFired | False |
FlashFunction | False |
FlashMode | Unknown |
FlashRedEyeMode | False |
FlashReturn | No return detection |
FNumber | 5.6 |
FocalLength | 105.0 mm |
FocalLength35efl | 105.0 mm (35 mm equivalent: 157.0 mm) |
FocalLengthIn35mmFormat | 157 mm |
Format | image/jpeg |
FOV | 13.1 deg |
GainControl | Low gain up |
GrayMixerAqua | -19 |
GrayMixerBlue | +8 |
GrayMixerGreen | -26 |
GrayMixerMagenta | +5 |
GrayMixerOrange | -17 |
GrayMixerPurple | +15 |
GrayMixerRed | -7 |
GrayMixerYellow | -21 |
GreenHue | 0 |
GreenSaturation | 0 |
HasCrop | False |
HasSettings | True |
HighlightRecovery | 55 |
HyperfocalDistance | 97.97 m |
ICCProfileName | Adobe RGB (1998) |
ImageHeight | 2043 |
ImageNumber | 9263 |
ImageSize | 3076x2043 |
ImageWidth | 3076 |
ISO | 500 |
Lens | 18.0-105.0 mm f/3.5-5.6 |
LensInfo | 18-105mm f/3.5-5.6 |
LightSource | Unknown |
LightValue | 9.6 |
LuminanceSmoothing | 0 |
Make | NIKON CORPORATION |
MaxApertureValue | 5.7 |
Megapixels | 6.3 |
MeteringMode | Spot |
Model | NIKON D90 |
ModifyDate (1) | 2010:01:13 22:08:11+01:00 |
ModifyDate | 2010:01:13 22:08:11 |
Orientation | Horizontal (normal) |
ParametricDarks | 0 |
ParametricHighlights | +33 |
ParametricHighlightSplit | 75 |
ParametricLights | -2 |
ParametricMidtoneSplit | 50 |
ParametricShadows | -48 |
ParametricShadowSplit | 25 |
PostCropVignetteAmount | 0 |
ProfileDescription | Adobe RGB (1998) |
Rating | 0 |
RawFileName | DSC_0122.NEF |
RedHue | 0 |
RedSaturation | 0 |
Saturation | Normal |
ScaleFactor35efl | 1.5 |
SceneCaptureType | Standard |
SceneType | Directly photographed |
SensingMethod | One-chip color area |
SerialNumber | 6172372 |
Shadows | 8 |
ShadowTint | 0 |
SharpenDetail | 25 |
SharpenEdgeMasking | 0 |
SharpenRadius | +1.0 |
Sharpness (2) | 25 |
Sharpness | Normal |
ShutterSpeed | 1/125 |
ShutterSpeedValue | 1/125 |
SidecarForExtension | NEF |
Software | Adobe Photoshop CS3 Windows |
SplitToningBalance | -37 |
SplitToningHighlightHue | 56 |
SplitToningHighlightSaturation | 73 |
SplitToningShadowHue | 42 |
SplitToningShadowSaturation | 0 |
SubjectDistanceRange | Unknown |
Tint | +8 |
ToneCurve | 0, 0, 32, 22, 64, 56, 128, 128, 192, 196, 255, 255 |
ToneCurveName | Medium Contrast |
URL_List | |
Version | 4.6 |
VignetteAmount | 0 |
WhiteBalance (2) | As Shot |
WhiteBalance | Auto |