Felt | Verdi |
AlreadyApplied | True |
Aperture | 6.3 |
ApertureValue | 6.3 |
BitsPerSample | 8 |
BlueHue | 0 |
BlueSaturation | 0 |
Brightness | +11 |
CameraProfile | Embedded |
ChromaticAberrationB | 0 |
ChromaticAberrationR | 0 |
CircleOfConfusion | 0.006 mm |
Clarity | +26 |
ColorComponents | 1 |
ColorNoiseReduction | 100 |
Contrast (2) | 0 |
Contrast | High |
ConvertToGrayscale | False |
Copyright | nyinnsikt.com |
CopyrightFlag | True |
CopyrightNotice | nyinnsikt.com |
CreateDate (1) | 2009:09:07 13:50:52+02:00 |
CreateDate | 2009:09:07 13:50:52 |
CreatorTool | Adobe Photoshop Lightroom |
CropAngle | -1.31988 |
CropBottom | 0.95254 |
CropHeight | 2107 |
CropLeft | 0.022016 |
CropRight | 0.977984 |
CropTop | 0.04746 |
CropUnit | pixels |
CropWidth | 3746 |
CustomRendered | Custom |
DateTimeDigitized | 2009:09:07 13:50:52+02:00 |
DateTimeOriginal (1) | 2009:09:07 13:50:52+02:00 |
DateTimeOriginal | 2009:09:07 13:50:52 |
Defringe | 0 |
DigitalZoomRatio | 0 |
ExifImageHeight | 3746 |
ExifImageWidth | 2107 |
Exposure | 0.00 |
ExposureCompensation | -0.66 |
ExposureMode | Auto |
ExposureProgram | Aperture-priority AE |
ExposureTime | 1/320 |
FillLight | 0 |
Flash | Off, Did not fire |
FlashFired | False |
FlashFunction | False |
FlashMode | Off |
FlashRedEyeMode | False |
FlashReturn | No return detection |
FNumber | 6.3 |
FocalLength | 5.1 mm |
FocalLength35efl | 5.1 mm (35 mm equivalent: 24.0 mm) |
FocalLengthIn35mmFormat | 24 mm |
FOV | 73.7 deg |
GainControl | None |
GreenHue | 0 |
GreenSaturation | 0 |
HasCrop | True |
HasSettings | True |
HighlightRecovery | 0 |
HueAdjustmentAqua | 0 |
HueAdjustmentBlue | 0 |
HueAdjustmentGreen | 0 |
HueAdjustmentMagenta | 0 |
HueAdjustmentOrange | 0 |
HueAdjustmentPurple | 0 |
HueAdjustmentRed | 0 |
HueAdjustmentYellow | 0 |
HyperfocalDistance | 0.65 m |
ImageHeight | 3746 |
ImageSize | 2107x3746 |
ImageWidth | 2107 |
IncrementalTemperature | 0 |
IncrementalTint | 0 |
ISO | 80 |
LightSource | Unknown |
LightValue | 14.0 |
LuminanceAdjustmentAqua | 0 |
LuminanceAdjustmentBlue | 0 |
LuminanceAdjustmentGreen | 0 |
LuminanceAdjustmentMagenta | 0 |
LuminanceAdjustmentOrange | 0 |
LuminanceAdjustmentPurple | 0 |
LuminanceAdjustmentRed | 0 |
LuminanceAdjustmentYellow | 0 |
LuminanceSmoothing | 100 |
Make | LEICA |
Marked | True |
MaxApertureValue | 2.0 |
Megapixels | 7.9 |
MeteringMode | Multi-segment |
Model | D-LUX 4 |
ModifyDate (1) | 2009:09:16 23:11:30+02:00 |
ModifyDate | 2009:09:16 23:11:30 |
ObjectName | Rekkverk |
ParametricDarks | +5 |
ParametricHighlights | +60 |
ParametricHighlightSplit | 75 |
ParametricLights | +26 |
ParametricMidtoneSplit | 50 |
ParametricShadows | -7 |
ParametricShadowSplit | 25 |
PostCropVignetteAmount | 0 |
ProfileDescription | sRGB IEC61966-2.1 |
RedHue | 0 |
RedSaturation | 0 |
Rights | nyinnsikt.com |
Saturation (2) | 0 |
Saturation | Normal |
SaturationAdjustmentAqua | 0 |
SaturationAdjustmentBlue | 0 |
SaturationAdjustmentGreen | 0 |
SaturationAdjustmentMagenta | 0 |
SaturationAdjustmentOrange | 0 |
SaturationAdjustmentPurple | 0 |
SaturationAdjustmentRed | 0 |
SaturationAdjustmentYellow | 0 |
ScaleFactor35efl | 4.7 |
SceneCaptureType | Standard |
SceneType | Directly photographed |
SensingMethod | One-chip color area |
Shadows | 0 |
ShadowTint | 0 |
SharpenDetail | 25 |
SharpenEdgeMasking | 0 |
SharpenRadius | +1.0 |
Sharpness (2) | 0 |
Sharpness | Hard |
ShutterSpeed | 1/320 |
ShutterSpeedValue | 1/320 |
Software | Ver.1.2 |
SplitToningBalance | 0 |
SplitToningHighlightHue | 0 |
SplitToningHighlightSaturation | 0 |
SplitToningShadowHue | 0 |
SplitToningShadowSaturation | 0 |
Title | Rekkverk |
ToneCurve | 0, 0, 255, 255 |
ToneCurveName | Linear |
Version | 5.2 |
Vibrance | 0 |
VignetteAmount | 0 |
WhiteBalance (2) | As Shot |
WhiteBalance | Auto |