Felt | Verdi |
AlreadyApplied | True |
Aperture | 3.2 |
ApertureValue | 3.2 |
AuthorsPosition | Photographer |
BitsPerSample | 8 |
BlueHue | 0 |
BlueSaturation | 0 |
Brightness | 0 |
By-line | Thomas Russ Arnestad |
By-lineTitle | Photographer |
CameraProfile | Embedded |
ChromaticAberrationB | 0 |
ChromaticAberrationR | 0 |
CircleOfConfusion | 0.006 mm |
Clarity | 0 |
ColorComponents | 1 |
ColorNoiseReduction | 0 |
Contrast | +31 |
ConvertToGrayscale | False |
Copyright | Copyright of Thomas Russ Arnestad |
CopyrightNotice | Copyright of Thomas Russ Arnestad |
CreateDate (1) | 2008:09:07 12:32:40+02:00 |
CreateDate | 2008:09:07 12:32:40 |
Creator | Thomas Russ Arnestad |
CreatorAddress | Kløversvingen 1 |
CreatorCity | Langhus |
CreatorCountry | Norway |
CreatorPostalCode | 1405 |
CreatorRegion | Akershus |
CreatorTool | Adobe Photoshop Lightroom |
CreatorWorkEmail | info@arnestadphotography.no |
CreatorWorkTelephone | +4741235130 |
CreatorWorkURL | www.arnestadphotography.no |
DateTimeDigitized | 2008:09:07 12:32:40+02:00 |
DateTimeOriginal (1) | 2008:09:07 12:32:40+02:00 |
DateTimeOriginal | 2008:09:07 12:32:40 |
Defringe | 0 |
DOF | 0.17 m (1.32 - 1.49 m) |
ExifImageHeight | 960 |
ExifImageWidth | 1280 |
Exposure | +0.08 |
ExposureCompensation | 0 |
ExposureTime | 1/50 |
FillLight | 2 |
Firmware | 1.01 |
Flash | No Flash |
FlashCompensation | 0 |
FlashFired | False |
FlashFunction | False |
FlashMode | Unknown |
FlashRedEyeMode | False |
FlashReturn | No return detection |
FNumber | 3.2 |
FocalLength | 21.0 mm |
FocalLength35efl | 21.0 mm (35 mm equivalent: 102.9 mm) |
FOV | 19.9 deg |
GreenHue | 0 |
GreenSaturation | 0 |
HasCrop | False |
HasSettings | True |
HighlightRecovery | 22 |
HueAdjustmentAqua | 0 |
HueAdjustmentBlue | 0 |
HueAdjustmentGreen | 0 |
HueAdjustmentMagenta | 0 |
HueAdjustmentOrange | 0 |
HueAdjustmentPurple | 0 |
HueAdjustmentRed | 0 |
HueAdjustmentYellow | 0 |
HyperfocalDistance | 22.46 m |
ImageHeight | 960 |
ImageSize | 1280x960 |
ImageWidth | 1280 |
IncrementalTemperature | 0 |
IncrementalTint | 0 |
Keywords | europa, prague, praha |
Lens | 7.0-21.0 mm |
LensInfo | 7-21mm f/? |
LuminanceAdjustmentAqua | 0 |
LuminanceAdjustmentBlue | 0 |
LuminanceAdjustmentGreen | 0 |
LuminanceAdjustmentMagenta | 0 |
LuminanceAdjustmentOrange | 0 |
LuminanceAdjustmentPurple | 0 |
LuminanceAdjustmentRed | 0 |
LuminanceAdjustmentYellow | 0 |
LuminanceSmoothing | 0 |
Make | Canon |
Marked | True |
MaxApertureValue | 2.0 |
Megapixels | 1.2 |
MeteringMode | Center-weighted average |
Model | Canon PowerShot G1 |
ModifyDate (1) | 2008:10:13 12:18:20+02:00 |
ModifyDate | 2008:10:13 12:18:20 |
ParametricDarks | 0 |
ParametricHighlights | 0 |
ParametricHighlightSplit | 75 |
ParametricLights | 0 |
ParametricMidtoneSplit | 50 |
ParametricShadows | 0 |
ParametricShadowSplit | 25 |
PostCropVignetteAmount | 0 |
ProfileDescription | Adobe RGB (1998) |
Rating | 1 |
RedHue | 0 |
RedSaturation | 0 |
Rights | Copyright of Thomas Russ Arnestad |
Saturation | 0 |
SaturationAdjustmentAqua | 0 |
SaturationAdjustmentBlue | 0 |
SaturationAdjustmentGreen | 0 |
SaturationAdjustmentMagenta | 0 |
SaturationAdjustmentOrange | 0 |
SaturationAdjustmentPurple | 0 |
SaturationAdjustmentRed | 0 |
SaturationAdjustmentYellow | 0 |
ScaleFactor35efl | 4.9 |
SensingMethod | One-chip color area |
Shadows | 13 |
ShadowTint | 0 |
SharpenDetail | 25 |
SharpenEdgeMasking | 0 |
SharpenRadius | +1.0 |
Sharpness | 0 |
ShutterSpeed | 1/50 |
ShutterSpeedValue | 1/50 |
SplitToningBalance | 0 |
SplitToningHighlightHue | 0 |
SplitToningHighlightSaturation | 0 |
SplitToningShadowHue | 0 |
SplitToningShadowSaturation | 0 |
Subject | europa, prague, praha |
SubjectDistance | 1.399 m |
ToneCurve | 0, 0, 255, 255 |
ToneCurveName | Linear |
Version | 4.5 |
Vibrance | 0 |
VignetteAmount | 0 |
WhiteBalance | As Shot |