Felt | Verdi |
AlreadyApplied | True |
Aperture | 9.0 |
ApertureValue | 9.0 |
Artist | Thomas Russ Arnestad |
AuthorsPosition | Photographer |
BitsPerSample | 8 |
BlackClip | 1.513800 |
BlueHue | 0 |
BlueSaturation | 0 |
Brightness | +34 |
By-line | Thomas Russ Arnestad |
By-lineTitle | Photographer |
CameraProfile | Embedded |
ChromaticAberrationB | 0 |
ChromaticAberrationR | 0 |
Clarity | 0 |
ColorComponents | 1 |
ColorMode | RGB |
ColorNoiseReduction | 0 |
ColorSaturation | 63 |
ColorSpace (1) | Unknown (-1) |
ColorSpace | Uncalibrated |
ColorTemperature | 0 |
Contrast | +16 |
ConvertToGrayscale | True |
Copyright | Copyright of Thomas Russ Arnestad |
CopyrightFlag | False |
CopyrightNotice | Copyright of Thomas Russ Arnestad |
CreateDate | 2008:10:05 00:07:49+02:00 |
Creator | Thomas Russ Arnestad |
CreatorTool | Adobe Photoshop CS3 Macintosh |
DateTimeOriginal (1) | 2008:09:05 15:29:31+02:00 |
DateTimeOriginal | 2008:09:05 15:29:31 |
Defringe | 0 |
ExifImageHeight | 1280 |
ExifImageWidth | 850 |
Exposure | 0.00 |
ExposureTime | 1/80 |
FillLight | 17 |
FNumber | 9.0 |
FocalLength | 26.0 mm |
FocalLength35efl | 26.0 mm |
Format | image/jpeg |
Gamma | 1.231144 |
GrayMixerAqua | -6 |
GrayMixerBlue | -35 |
GrayMixerGreen | -50 |
GrayMixerMagenta | +2 |
GrayMixerOrange | -35 |
GrayMixerPurple | +13 |
GrayMixerRed | -8 |
GrayMixerYellow | -4 |
GreenHue | 0 |
GreenSaturation | 0 |
HasCrop | False |
HasSettings | True |
HighlightRecovery | 0 |
HighlightsSmoothing | 52 |
ICCProfileName | Adobe RGB (1998) |
ImageHeight (1) | 3000 |
ImageHeight | 1280 |
ImageSize | 850x1280 |
ImageWidth (1) | 1993 |
ImageWidth | 850 |
IncrementalTemperature | 0 |
IncrementalTint | 0 |
ISO | 200 |
Keywords | europa, prague, praha |
LightValue | 11.7 |
LuminanceSmoothing | 0 |
Luminosity | 7 |
Megapixels | 1.1 |
Method | Details Enhancer |
Microcontrast | 10 |
Microsmoothing | 2 |
Model | NIKON D300 |
ModifyDate (1) | 2008:10:05 00:07:49+02:00 |
ModifyDate | 2008:10:05 00:07:49 |
Orientation | Horizontal (normal) |
ParametricDarks | -13 |
ParametricHighlights | +44 |
ParametricHighlightSplit | 75 |
ParametricLights | +4 |
ParametricMidtoneSplit | 50 |
ParametricShadows | 0 |
ParametricShadowSplit | 25 |
PostCropVignetteAmount | 0 |
ProfileDescription | Adobe RGB (1998) |
RedHue | 0 |
RedSaturation | 0 |
Rights | Copyright of Thomas Russ Arnestad |
SaturationHighlights | 0 |
SaturationShadows | 0 |
Shadows | 7 |
ShadowsClipping | 0 |
ShadowsSmoothing | 0 |
ShadowTint | 0 |
SharpenDetail | 25 |
SharpenEdgeMasking | 0 |
SharpenRadius | +1.0 |
Sharpness | 0 |
ShutterSpeed | 1/80 |
ShutterSpeedValue | 1/80 |
Smoothing | High |
Software | Adobe Photoshop CS3 Macintosh |
SplitToningBalance | 0 |
SplitToningHighlightHue | 0 |
SplitToningHighlightSaturation | 0 |
SplitToningShadowHue | 0 |
SplitToningShadowSaturation | 0 |
Strength | 95 |
Subject | europa, prague, praha |
ToneCurve | 0, 0, 255, 255 |
ToneCurveName | Linear |
URL_List | |
Version (1) | 3.0 |
Version | 4.5 |
VignetteAmount | -33 |
VignetteMidpoint | 46 |
WhiteBalance | As Shot |
WhiteClip | 0.181050 |