Felt | Verdi |
2024-02-10T17:05:16+01:00 File 20230318_Drone-550-5276.psd saved
2024-02-10T17:40:46+01:00 File 20230318_Drone-550-5276.psd opened
2024-02-10T17:41:01+01:00 File 20230318_Drone-550-5276NY.psd saved
AlreadyApplied | True |
Aperture | 2.4 |
ApertureValue | 2.4 |
Artist | Igor Kostin |
AutoLateralCA | 0 |
BitsPerSample | 8 |
Blacks2012 | +1 |
BlueHue | 0 |
BlueSaturation | 0 |
BrightnessValue | 7.29473083 |
By-line | Igor Kostin |
CameraProfile | Embedded |
CircleOfConfusion | 0.003 mm |
City | Bodø |
Clarity2012 | +2 |
ColorComponents | 3 |
ColorGradeBlending | 50 |
ColorGradeGlobalHue | 0 |
ColorGradeGlobalLum | 0 |
ColorGradeGlobalSat | 0 |
ColorGradeHighlightLum | 0 |
ColorGradeMidtoneHue | 46 |
ColorGradeMidtoneLum | 0 |
ColorGradeMidtoneSat | 1 |
ColorGradeShadowLum | 0 |
ColorNoiseReduction | 0 |
ColorSpace | Uncalibrated |
ColorTransform | YCbCr |
CompatibleVersion | 251658240 |
Contrast2012 | 0 |
ConvertToGrayscale | False |
Copyright | All rights reserved |
CopyrightFlag | True |
CopyrightNotice | All rights reserved |
Country | Norway |
Country-PrimaryLocationCode | NO |
Country-PrimaryLocationName | Norway |
CountryCode | NO |
CreateDate (1) | 2022:06:04 22:03:41.018+02:00 |
CreateDate | 2022:06:04 22:03:41 |
Creator | Igor Kostin |
CreatorCity | Bodø |
CreatorCountry | Norway |
CreatorTool | Adobe Photoshop Lightroom Classic 13.1 (Macintosh) |
CropAngle | 0 |
CropBottom | 1 |
CropConstrainToWarp | 0 |
CropLeft | 0 |
CropRight | 1 |
CropTop | 0 |
CurveRefineSaturation | 100 |
DateCreated (1) | 2022:06:04 |
DateCreated | 2022:06:04 22:03:41 |
DateTimeOriginal | 2022:06:04 22:03:41 |
DefringeGreenAmount | 0 |
DefringeGreenHueHi | 60 |
DefringeGreenHueLo | 40 |
DefringePurpleAmount | 0 |
DefringePurpleHueHi | 70 |
DefringePurpleHueLo | 30 |
Dehaze | 0 |
DigitalZoomRatio | 1.029972752 |
Exposure2012 | 0.00 |
ExposureCompensation | -0.733 |
ExposureMode | Auto |
ExposureProgram | Program AE |
ExposureTime | 1/400 |
Flash | Off, Did not fire |
FNumber | 2.4 |
FocalLength | 1.5 mm |
FocalLength35efl | 1.5 mm (35 mm equivalent: 14.0 mm) |
FocalLengthIn35mmFormat | 14 mm |
Format | image/jpeg |
FOV | 104.3 deg |
GPSAltitude (1) | 2.964660645 m |
GPSAltitude | 2.9 m Above Sea Level |
GPSAltitudeRef | Above Sea Level |
GPSDestBearing | 143.0733262 |
GPSDestBearingRef | True North |
GPSHPositioningError | 3.535533905 m |
GPSImgDirection | 143.0733262 |
GPSImgDirectionRef | True North |
GPSLatitude (1) | 67 deg 16' 33.47" |
GPSLatitude | 67 deg 16' 33.47" N |
GPSLatitudeRef | North |
GPSLongitude (1) | 14 deg 34' 11.52" |
GPSLongitude | 14 deg 34' 11.52" E |
GPSLongitudeRef | East |
GPSPosition | 67 deg 16' 33.47" N, 14 deg 34' 11.52" E |
GPSSpeed | 0 |
GPSSpeedRef | km/h |
GrainAmount | 0 |
GrayMixerBlue | +73 |
GrayMixerGreen | +79 |
GrayMixerMagenta | +22 |
GrayMixerOrange | +27 |
GrayMixerPurple | +9 |
GrayMixerRed | +46 |
GrayMixerYellow | +71 |
GreenHue | 0 |
GreenSaturation | 0 |
HasCrop | False |
HasSettings | True |
HDREditMode | 0 |
Highlights2012 | 0 |
HueAdjustmentAqua | -15 |
HueAdjustmentBlue | -24 |
HueAdjustmentGreen | +9 |
HueAdjustmentMagenta | -8 |
HueAdjustmentOrange | -8 |
HueAdjustmentPurple | +11 |
HueAdjustmentRed | -4 |
HueAdjustmentYellow | -12 |
HyperfocalDistance | 0.30 m |
ImageHeight | 1536 |
ImageSize | 2048x1536 |
ImageWidth | 2048 |
IncrementalTemperature | 0 |
IncrementalTint | 0 |
ISO | 32 |
Keywords | 2022, @igorkostin74, Bodø, Canon, CanonEOSR, Digital, Landscape, Natur, Nordland, Norge, Norway, Sørfold, exposure, travel |
Lens | iPhone 12 Pro back triple camera 1.54mm f/2.4 |
LensInfo (1) | 1.53999996185121-6mm f/1.6-2.4 |
LensInfo | 1.539999962-6mm f/1.6-2.4 |
LensMake | Apple |
LensManualDistortionAmount | 0 |
LensModel | iPhone 12 Pro back triple camera 1.54mm f/2.4 |
LensProfileEnable | 0 |
LightValue | 12.8 |
LuminanceAdjustmentAqua | +9 |
LuminanceAdjustmentBlue | +26 |
LuminanceAdjustmentGreen | +4 |
LuminanceAdjustmentMagenta | +4 |
LuminanceAdjustmentOrange | 0 |
LuminanceAdjustmentPurple | +2 |
LuminanceAdjustmentRed | +2 |
LuminanceAdjustmentYellow | 0 |
LuminanceSmoothing | 0 |
Make | Apple |
Marked | True |
Megapixels | 3.1 |
MeteringMode | Spot |
Model | iPhone 12 Pro |
ModifyDate (1) | 2024:02:10 17:46:29+01:00 |
ModifyDate | 2024:02:10 17:46:29 |
OverrideLookVignette | False |
ParametricDarks | 0 |
ParametricHighlights | 0 |
ParametricHighlightSplit | 75 |
ParametricLights | 0 |
ParametricMidtoneSplit | 50 |
ParametricShadows | 0 |
ParametricShadowSplit | 25 |
PerspectiveAspect | 0 |
PerspectiveHorizontal | 0 |
PerspectiveRotate | 0.0 |
PerspectiveScale | 100 |
PerspectiveUpright | 0 |
PerspectiveVertical | 0 |
PerspectiveX | 0.00 |
PerspectiveY | 0.00 |
PointColors | -1.000000, -1.000000, -1.000000, -1.000000, -1.000000, -1.000000, -1.000000, -1.000000, -1.000000, -1.000000, -1.000000, -1.000000, -1.000000, -1.000000, -1.000000, -1.000000, -1.000000, -1.000000, -1.000000 |
PostCropVignetteAmount | 0 |
PreservedFileName | IMG_0461.HEIC |
ProcessVersion | 15.4 |
ProfileDescription | Display P3 |
Province-State | Nordland |
Rating | 5 |
RawFileName | 20230318_Drone-550-5276NY.psd |
RedHue | 0 |
RedSaturation | 0 |
Rights | All rights reserved |
Saturation | +2 |
SaturationAdjustmentAqua | 0 |
SaturationAdjustmentBlue | 0 |
SaturationAdjustmentGreen | 0 |
SaturationAdjustmentMagenta | 0 |
SaturationAdjustmentOrange | 0 |
SaturationAdjustmentPurple | 0 |
SaturationAdjustmentRed | +3 |
SaturationAdjustmentYellow | 0 |
ScaleFactor35efl | 9.1 |
SceneType | Directly photographed |
SensingMethod | One-chip color area |
Shadows2012 | 0 |
ShadowTint | 0 |
Sharpness | 0 |
ShutterSpeed | 1/400 |
ShutterSpeedValue | 1/400 |
Software | Adobe Photoshop Lightroom Classic 13.1 (Macintosh) |
SplitToningBalance | 0 |
SplitToningHighlightHue | 43 |
SplitToningHighlightSaturation | 7 |
SplitToningShadowHue | 235 |
SplitToningShadowSaturation | 30 |
State | Nordland |
Subject | 2022, @igorkostin74, Bodø, Canon, CanonEOSR, Digital, Landscape, Natur, Nordland, Norge, Norway, Sørfold, exposure, travel |
SubjectArea | 2391 1112 752 753 |
Texture | +1 |
ToneCurveName2012 | Custom |
ToneCurvePV2012 | 0, 0, 136, 129, 255, 255 |
ToneCurvePV2012Blue | 0, 0, 255, 255 |
ToneCurvePV2012Green | 0, 0, 255, 255 |
ToneCurvePV2012Red | 0, 0, 255, 255 |
UsageTerms | Please contact |
Version | 16.1 |
Vibrance | +8 |
VignetteAmount | 0 |
WeightedFlatSubject | 2022, @igorkostin74, Bodø, Canon, CanonEOSR, Digital, Landscape, Natur, Nordland, Norge, Norway, Sørfold, exposure, travel |
WhiteBalance (1) | As Shot |
WhiteBalance | Auto |
Whites2012 | +1 |