Felt | Verdi |
AlreadyApplied | True |
Aperture | 1.8 |
ApertureValue | 1.8 |
Artist | Vidar Lennart Fredhim |
AutoLateralCA | 0 |
BitsPerSample | 8 |
Blacks2012 | 0 |
BlueHue | 0 |
BlueSaturation | 0 |
By-line | Vidar Lennart Fredhim |
CameraProfile | Adobe Standard |
CameraProfilesApertureValue | 1.695994 |
CameraProfilesAuthor | Adobe |
CameraProfilesAutoScale | False |
CameraProfilesCameraPrettyName | Nikon Z 6 2 |
CameraProfilesCameraRawProfile | True |
CameraProfilesFocalLength | 50 |
CameraProfilesFocusDistance | 10000 |
CameraProfilesLens | 50mm f/1.8G |
CameraProfilesLensPrettyName | 50mm f/1.8G |
CameraProfilesMake | NIKON CORPORATION |
CameraProfilesModel | NIKON Z 6_2 |
CameraProfilesPerspectiveModelRadialDistortParam1 | -0.103123 |
CameraProfilesPerspectiveModelRadialDistortParam2 | 0.055281 |
CameraProfilesPerspectiveModelRadialDistortParam3 | 0.119397 |
CameraProfilesPerspectiveModelScaleFactor | 1.00077 |
CameraProfilesPerspectiveModelVersion | 2 |
CameraProfilesProfileName | Camera Settings |
CameraProfilesSensorFormatFactor | 1.002437 |
CameraProfilesUniqueCameraModel | Nikon Z 6 2 |
CFAPattern | [Red,Green][Green,Blue] |
CircleOfConfusion | 0.030 mm |
City | Lübeck |
Clarity2012 | +23 |
ColorComponents | 3 |
ColorGradeBlending | 50 |
ColorGradeGlobalHue | 0 |
ColorGradeGlobalLum | 0 |
ColorGradeGlobalSat | 0 |
ColorGradeHighlightLum | 0 |
ColorGradeMidtoneHue | 0 |
ColorGradeMidtoneLum | 0 |
ColorGradeMidtoneSat | 0 |
ColorGradeShadowLum | 0 |
ColorNoiseReduction | 0 |
ColorSpace | sRGB |
ColorTemperature | 3754 |
ColorTransform | YCbCr |
Contrast | Normal |
Contrast2012 | +53 |
Copyright | Vidar Lennart Fredheim |
CopyrightNotice | Vidar Lennart Fredheim |
Country | Germany |
Country-PrimaryLocationCode | DE |
Country-PrimaryLocationName | Germany |
CountryCode | DE |
CreateDate (1) | 2024:01:30 17:31:46.73+01:00 |
CreateDate | 2024:01:30 17:31:46 |
Creator | Vidar Lennart Fredhim |
CreatorTool | Adobe Photoshop Lightroom Classic 13.2 (Windows) |
CropAngle | -0.29 |
CropBottom | 0.711494 |
CropConstrainToWarp | 0 |
CropLeft | 0.46457 |
CropRight | 0.850618 |
CropTop | 0.280899 |
CustomRendered | Custom |
DateCreated (1) | 2024:01:30 |
DateCreated | 2024:01:30 17:31:46.73+01:00 |
DateTimeOriginal | 2024:01:30 17:31:46 |
Dehaze | 0 |
DistortionCorrectionAlreadyApplied | True |
EnhanceDenoiseAlreadyApplied | True |
EnhanceDenoiseLumaAmount | 58 |
EnhanceDenoiseVersion | 251658240 |
EnhanceDetailsAlreadyApplied | True |
EnhanceDetailsVersion | 218300416 |
Exposure2012 | +1.75 |
ExposureCompensation | 0 |
ExposureMode | Manual |
ExposureProgram | Manual |
ExposureTime | 1/200 |
Flash | No Flash |
FNumber | 1.8 |
FocalLength | 50.0 mm |
FocalLength35efl | 50.0 mm (35 mm equivalent: 50.0 mm) |
FocalLengthIn35mmFormat | 50 mm |
Format | image/jpeg |
FOV | 39.6 deg |
GainControl | Low gain up |
GPSLatitude (1) | 53 deg 51' 56.89" |
GPSLatitude | 53 deg 51' 56.89" N |
GPSLatitudeRef | North |
GPSLongitude (1) | 10 deg 41' 19.71" |
GPSLongitude | 10 deg 41' 19.71" E |
GPSLongitudeRef | East |
GPSPosition | 53 deg 51' 56.89" N, 10 deg 41' 19.71" E |
GPSVersionID | 2.2.0.0 |
GrainAmount | 0 |
GrayMixerAqua | 0 |
GrayMixerBlue | 0 |
GrayMixerGreen | 0 |
GrayMixerMagenta | 0 |
GrayMixerOrange | +57 |
GrayMixerPurple | 0 |
GrayMixerRed | 0 |
GrayMixerYellow | +35 |
GreenHue | 0 |
GreenSaturation | 0 |
HasCrop | True |
HasSettings | True |
HDREditMode | 0 |
Highlights2012 | -26 |
HyperfocalDistance | 46.23 m |
ImageHeight | 2048 |
ImageNumber | 8211 |
ImageSize | 1536x2048 |
ImageWidth | 1536 |
ISO | 1000 |
Keywords | 2024, Januar, Lübeck, Tyskland, kveld, lys |
Lens | 50mm f/1.8G |
LensInfo | 50mm f/1.8 |
LensManualDistortionAmount | 0 |
LensModel | 50mm f/1.8G |
LensProfileDistortionScale | 100 |
LensProfileEnable | 1 |
LensProfileIsEmbedded | True |
LensProfileName | Camera Settings |
LensProfileSetup | LensDefaults |
LensProfileVignettingScale | 100 |
LightSource | Unknown |
LightValue | 6.0 |
Location | Innenstadt |
LookAmount | 1 |
LookGroup | Profiles |
LookName | Adobe Monochrome |
LookParametersCameraProfile | Adobe Standard |
LookParametersClarity2012 | +8 |
LookParametersConvertToGrayscale | True |
LookParametersLookTable | 73ED6C18DDE909DD7EA2D771F5AC282D |
LookParametersProcessVersion | 15.4 |
LookParametersToneCurvePV2012 | 0, 0, 64, 56, 128, 128, 192, 197, 255, 255 |
LookParametersToneCurvePV2012Blue | 0, 0, 255, 255 |
LookParametersToneCurvePV2012Green | 0, 0, 255, 255 |
LookParametersToneCurvePV2012Red | 0, 0, 255, 255 |
LookParametersVersion | 16.2 |
LookSupportsAmount | false |
LookSupportsMonochrome | false |
LookSupportsOutputReferred | false |
LuminanceSmoothing | 0 |
Make | NIKON CORPORATION |
Megapixels | 3.1 |
MeteringMode | Spot |
Model | NIKON Z 6_2 |
ModifyDate (1) | 2024:02:26 21:03:58+01:00 |
ModifyDate | 2024:02:26 21:03:58 |
OverrideLookVignette | False |
ParametricDarks | 0 |
ParametricHighlights | 0 |
ParametricHighlightSplit | 75 |
ParametricLights | 0 |
ParametricMidtoneSplit | 50 |
ParametricShadows | 0 |
ParametricShadowSplit | 25 |
PerspectiveAspect | 0 |
PerspectiveHorizontal | 0 |
PerspectiveRotate | 0.0 |
PerspectiveScale | 100 |
PerspectiveUpright | 0 |
PerspectiveVertical | 0 |
PerspectiveX | 0.00 |
PerspectiveY | 0.00 |
Pick | 0 |
PointColors | -1.000000, -1.000000, -1.000000, -1.000000, -1.000000, -1.000000, -1.000000, -1.000000, -1.000000, -1.000000, -1.000000, -1.000000, -1.000000, -1.000000, -1.000000, -1.000000, -1.000000, -1.000000, -1.000000 |
PostCropVignetteAmount | 0 |
PreservedFileName | _DSC2350.NEF |
ProcessVersion | 15.4 |
ProfileDescription | sRGB IEC61966-2.1 |
Province-State | Schleswig-Holstein |
Rating | 2 |
RawFileName | 20240130-_DSC2350-Enhanced-NR.dng |
RecommendedExposureIndex | 1000 |
RedHue | 0 |
RedSaturation | 0 |
Rights | Vidar Lennart Fredheim |
Saturation | Normal |
ScaleFactor35efl | 1.0 |
SceneCaptureType | Standard |
SceneType | Directly photographed |
SensingMethod | One-chip color area |
SensitivityType | Recommended Exposure Index |
SerialNumber | 6001609 |
Shadows2012 | +2 |
ShadowTint | 0 |
SharpenDetail | 65 |
SharpenEdgeMasking | 66 |
SharpenRadius | +1.0 |
Sharpness (1) | 50 |
Sharpness | Normal |
ShutterSpeed | 1/200 |
ShutterSpeedValue | 1/200 |
Software | Adobe Photoshop Lightroom Classic 13.2 (Windows) |
SplitToningBalance | 0 |
SplitToningHighlightHue | 0 |
SplitToningHighlightSaturation | 0 |
SplitToningShadowHue | 0 |
SplitToningShadowSaturation | 0 |
State | Schleswig-Holstein |
Sub-location | Innenstadt |
Subject | 2024, Januar, Lübeck, Tyskland, kveld, lys |
SubjectDistanceRange | Unknown |
Texture | +30 |
Tint | +13 |
ToneCurveName2012 | Linear |
ToneCurvePV2012 | 0, 0, 255, 255 |
ToneCurvePV2012Blue | 0, 0, 255, 255 |
ToneCurvePV2012Green | 0, 0, 255, 255 |
ToneCurvePV2012Red | 0, 0, 255, 255 |
Version | 16.2 |
VignetteAmount | 0 |
WeightedFlatSubject | kveld, Januar, 2024, Lübeck, Tyskland, lys |
WhiteBalance (1) | Custom |
WhiteBalance | Auto |
Whites2012 | +11 |