Felt | Verdi |
AlreadyApplied | True |
Aperture | 13.0 |
ApertureValue | 13.0 |
ApproximateFocusDistance | 4294967295 |
AutoLateralCA | 0 |
BitsPerSample (3) | 8 8 8 |
BitsPerSample (4) | 16, 16, 16 |
BitsPerSample | 16 16 16 |
Blacks2012 | -9 |
BlueHue | 0 |
BlueSaturation | 0 |
CameraProfile | Adobe Standard |
ChromaticityChannel1 | 0.64 0.33 |
ChromaticityChannel2 | 0.21001 0.71001 |
ChromaticityChannel3 | 0.14999 0.06 |
ChromaticityChannels | 3 |
ChromaticityColorant | Unknown (0) |
CircleOfConfusion | 0.007 mm |
Clarity2012 | +37 |
ColorMode | RGB |
ColorNoiseReduction | 81 |
ColorNoiseReductionDetail | 50 |
ColorNoiseReductionSmoothness | 99 |
ColorSpace | Uncalibrated |
ColorTemperature | 5100 |
Contrast2012 | 0 |
ConvertToGrayscale | False |
CreateDate | 2019:01:04 17:10:20 |
CreatorTool | Adobe Photoshop Lightroom Classic 8.0 (Macintosh) |
CropAngle | -0.136292 |
CropBottom | 0.897668 |
CropConstrainToWarp | 0 |
CropLeft | 0.058625 |
CropRight | 0.976536 |
CropTop | 0.00327 |
CustomRendered | Normal |
DateCreated (1) | 2019:01:04 17:10:20.068 |
DateCreated | 2019:01:04 |
DateTimeOriginal | 2019:01:04 17:10:20 |
DefringeGreenAmount | 0 |
DefringeGreenHueHi | 60 |
DefringeGreenHueLo | 40 |
DefringePurpleAmount | 0 |
DefringePurpleHueHi | 70 |
DefringePurpleHueLo | 30 |
Dehaze | 0 |
DOF | inf (15.77 m - inf) |
ExifImageHeight | 911 |
ExifImageWidth | 1400 |
Exposure2012 | +1.00 |
ExposureCompensation | 0 |
ExposureMode | Auto |
ExposureProgram (1) | Unknown (9) |
ExposureProgram | Bulb |
ExposureTime | 91 |
Firmware | 1.0.3 |
Flash | Off, Did not fire |
FlashCompensation | 0 |
FlashFired | False |
FlashFunction | False |
FlashMode | Off |
FlashRedEyeMode | False |
FlashReturn | No return detection |
FNumber | 13.0 |
FocalLength | 37.0 mm |
FocalLength35efl | 37.0 mm (35 mm equivalent: 166.4 mm) |
Format | image/tiff |
FOV | 12.3 deg |
GradientBasedCorrActive | true |
GradientBasedCorrAmount | 1.000000 |
GradientBasedCorrBrightness | 0.000000 |
GradientBasedCorrClarity2012 | 0.000000 |
GradientBasedCorrContrast2012 | -0.004627 |
GradientBasedCorrCorrectionRangeMaskColorAmount | 0.500000 |
GradientBasedCorrCorrectionRangeMaskDepthFeather | 0.500000 |
GradientBasedCorrCorrectionRangeMaskDepthMax | 1.000000 |
GradientBasedCorrCorrectionRangeMaskDepthMin | 0.000000 |
GradientBasedCorrCorrectionRangeMaskLumFeather | 0.500000 |
GradientBasedCorrCorrectionRangeMaskLumMax | 1.000000 |
GradientBasedCorrCorrectionRangeMaskLumMin | 0.000000 |
GradientBasedCorrCorrectionRangeMaskType | 0 |
GradientBasedCorrCorrectionRangeMaskVersion | +2 |
GradientBasedCorrDefringe | -0.734716 |
GradientBasedCorrExposure2012 | -0.418272 |
GradientBasedCorrHighlights2012 | 0.017578 |
GradientBasedCorrHue | 0.000000 |
GradientBasedCorrLocalBlacks2012 | 0.004096 |
GradientBasedCorrLocalDehaze | 0.000000 |
GradientBasedCorrLocalWhites2012 | 0.008192 |
GradientBasedCorrLuminanceNoise | 0.000000 |
GradientBasedCorrMaskFullX | 0.451349 |
GradientBasedCorrMaskFullY | 0.097729 |
GradientBasedCorrMaskValue | 1.000000 |
GradientBasedCorrMaskWhat | Mask/Gradient |
GradientBasedCorrMaskZeroX | 0.454580 |
GradientBasedCorrMaskZeroY | 0.815856 |
GradientBasedCorrMoire | 0.000000 |
GradientBasedCorrSaturation | 0.000000 |
GradientBasedCorrShadows2012 | 0.012705 |
GradientBasedCorrSharpness | 0.000000 |
GradientBasedCorrTemperature | -0.056356 |
GradientBasedCorrTint | -0.033563 |
GradientBasedCorrWhat | Correction |
GrainAmount | 0 |
GreenHue | 0 |
GreenSaturation | 0 |
HasCrop | True |
HasSettings | True |
Highlights2012 | -83 |
HueAdjustmentAqua | 0 |
HueAdjustmentBlue | 0 |
HueAdjustmentGreen | 0 |
HueAdjustmentMagenta | 0 |
HueAdjustmentOrange | 0 |
HueAdjustmentPurple | 0 |
HueAdjustmentRed | 0 |
HueAdjustmentYellow | 0 |
HyperfocalDistance | 15.77 m |
ICCProfileName | Adobe98 |
ImageHeight (1) | 456 |
ImageHeight (2) | 228 |
ImageHeight (3) | 114 |
ImageHeight (4) | 3734 |
ImageHeight | 911 |
ImageNumber | 0 |
ImageSize | 1400x911 |
ImageWidth (1) | 700 |
ImageWidth (2) | 350 |
ImageWidth (3) | 175 |
ImageWidth (4) | 5718 |
ImageWidth | 1400 |
ISO | 400 |
Label | Blue |
Lens | 24-70mm |
LensID (1) | 137 |
LensID | Sigma 24-70mm f/2.8 IF EX DG HSM or Tamron SP 24-70mm f/2.8 Di VC USD |
LensInfo (1) | 24 |
LensInfo (2) | 24-70mm f/? |
LensInfo | 24-70mm f/0 |
LensManualDistortionAmount | 0 |
LensModel | 24-70mm |
LensProfileEnable | 0 |
LensProfileSetup | LensDefaults |
LensSerialNumber | 0000000000 |
LightValue | -1.1 |
LookAmount | 1.000000 |
LookGroup | Profiles |
LookName | Adobe Color |
LookParametersCameraProfile | Adobe Standard |
LookParametersConvertToGrayscale | False |
LookParametersLookTable | E1095149FDB39D7A057BAB208837E2E1 |
LookParametersProcessVersion | 11.0 |
LookParametersToneCurvePV2012 | 0, 0, 22, 16, 40, 35, 127, 127, 224, 230, 240, 246, 255, 255 |
LookParametersToneCurvePV2012Blue | 0, 0, 255, 255 |
LookParametersToneCurvePV2012Green | 0, 0, 255, 255 |
LookParametersToneCurvePV2012Red | 0, 0, 255, 255 |
LookParametersVersion | 11.0 |
LookSupportsAmount | false |
LookSupportsMonochrome | false |
LookSupportsOutputReferred | false |
LuminanceAdjustmentAqua | 0 |
LuminanceAdjustmentBlue | 0 |
LuminanceAdjustmentGreen | 0 |
LuminanceAdjustmentMagenta | +5 |
LuminanceAdjustmentOrange | +4 |
LuminanceAdjustmentPurple | +4 |
LuminanceAdjustmentRed | +68 |
LuminanceAdjustmentYellow | 0 |
LuminanceNoiseReductionContrast | 0 |
LuminanceNoiseReductionDetail | 50 |
LuminanceSmoothing | 71 |
Make | Canon |
MaxApertureValue | 2.8 |
Megapixels | 1.3 |
MeteringMode | Multi-segment |
Model | Canon EOS 6D Mark II |
ModifyDate (1) | 2023:10:04 10:31:32+02:00 |
ModifyDate | 2023:10:04 10:31:32 |
Orientation | Horizontal (normal) |
OverrideLookVignette | False |
PaintCorrectionActive | true |
PaintCorrectionAmount | 1.000000 |
PaintCorrectionBrightness | 0.000000 |
PaintCorrectionClarity2012 | 0.000000 |
PaintCorrectionContrast2012 (1) | 0.005840 |
PaintCorrectionContrast2012 | -0.004627 |
PaintCorrectionCorrectionRangeMaskColorAmount | 0.500000 |
PaintCorrectionCorrectionRangeMaskDepthFeather | 0.500000 |
PaintCorrectionCorrectionRangeMaskDepthMax | 1.000000 |
PaintCorrectionCorrectionRangeMaskDepthMin | 0.000000 |
PaintCorrectionCorrectionRangeMaskLumFeather | 0.500000 |
PaintCorrectionCorrectionRangeMaskLumMax | 1.000000 |
PaintCorrectionCorrectionRangeMaskLumMin | 0.000000 |
PaintCorrectionCorrectionRangeMaskType | 0 |
PaintCorrectionCorrectionRangeMaskVersion | +2 |
PaintCorrectionDefringe (1) | -0.932456 |
PaintCorrectionDefringe | -0.734716 |
PaintCorrectionExposure2012 (1) | 0.022982 |
PaintCorrectionExposure2012 (2) | 1.000000 |
PaintCorrectionExposure2012 (3) | 0.466095 |
PaintCorrectionExposure2012 | 0.440382 |
PaintCorrectionHighlights2012 (1) | -0.918120 |
PaintCorrectionHighlights2012 | 0.008075 |
PaintCorrectionHue | 0.000000 |
PaintCorrectionLocalBlacks2012 | -0.316710 |
PaintCorrectionLocalDehaze | 0.000000 |
PaintCorrectionLocalWhites2012 | -0.084686 |
PaintCorrectionLuminanceNoise | 0.000000 |
PaintCorrectionMaskCenterWeight (1) | 0.231358 |
PaintCorrectionMaskCenterWeight | 0.012796 |
PaintCorrectionMaskFlow (1) | 0.531698 |
PaintCorrectionMaskFlow | 0.526995 |
PaintCorrectionMaskRadius (1) | 0.006835 |
PaintCorrectionMaskRadius (2) | 0.065116 |
PaintCorrectionMaskRadius | 0.101174 |
PaintCorrectionMaskValue (1) | 0.921593 |
PaintCorrectionMaskValue | 0.625188 |
PaintCorrectionMaskWhat | Mask/Paint |
PaintCorrectionMoire | 0.000000 |
PaintCorrectionSaturation | 0.000000 |
PaintCorrectionShadows2012 | 0.000000 |
PaintCorrectionSharpness | 0.000000 |
PaintCorrectionTemperature | -0.056356 |
PaintCorrectionTint | -0.033563 |
PaintCorrectionWhat | Correction |
ParametricDarks | 0 |
ParametricHighlights | 0 |
ParametricHighlightSplit | 75 |
ParametricLights | 0 |
ParametricMidtoneSplit | 50 |
ParametricShadows | 0 |
ParametricShadowSplit | 25 |
PerspectiveAspect | 0 |
PerspectiveHorizontal | 0 |
PerspectiveRotate | 0.0 |
PerspectiveScale | 100 |
PerspectiveUpright | 0 |
PerspectiveVertical | 0 |
PerspectiveX | 0.00 |
PerspectiveY | 0.00 |
PhotometricInterpretation | RGB |
PlanarConfiguration | Chunky |
PostCropVignetteAmount | 0 |
ProcessVersion | 11.0 |
ProfileDescription | Adobe98 |
Rating | 5 |
RawFileName | _MG_7679.CR2 |
RecommendedExposureIndex | 400 |
RedHue | 0 |
RedSaturation | 0 |
RowsPerStrip (1) | 456 |
RowsPerStrip (2) | 228 |
RowsPerStrip (3) | 114 |
RowsPerStrip | 911 |
SamplesPerPixel | 3 |
Saturation | 0 |
SaturationAdjustmentAqua | 0 |
SaturationAdjustmentBlue | 0 |
SaturationAdjustmentGreen | 0 |
SaturationAdjustmentMagenta | 0 |
SaturationAdjustmentOrange | 0 |
SaturationAdjustmentPurple | 0 |
SaturationAdjustmentRed | 0 |
SaturationAdjustmentYellow | 0 |
ScaleFactor35efl | 4.5 |
SceneCaptureType | Standard |
SensitivityType (1) | 2 |
SensitivityType | Recommended Exposure Index |
SerialNumber | 123051000020 |
Shadows2012 | 0 |
ShadowTint | 0 |
SharpenDetail | 25 |
SharpenEdgeMasking | 0 |
SharpenRadius | +1.0 |
Sharpness | 40 |
ShutterSpeed | 91 |
ShutterSpeedValue | 91 |
Software | Adobe Photoshop 25.0 (Macintosh) |
SplitToningBalance | 0 |
SplitToningHighlightHue | 0 |
SplitToningHighlightSaturation | 0 |
SplitToningShadowHue | 0 |
SplitToningShadowSaturation | 0 |
StripByteCounts (1) | 7652400 |
StripByteCounts (2) | 957600 |
StripByteCounts (3) | 239400 |
StripByteCounts | 59850 |
StripOffsets (1) | 78726 |
StripOffsets (2) | 7731904 |
StripOffsets (3) | 8689712 |
StripOffsets | 8929320 |
SubfileType (1) | Full-resolution Image |
SubfileType | Reduced-resolution image |
This work is licensed under the Creative Commons Attribution-Share Alike 3.0 United States License. To view a copy of this license, visit http://creativecommons.org/licenses/by-sa/3.0/us/ or send a letter to Creative Commons, 171 Second Street, Suite 300, San Francisco, California, 94105, USA. |
Tint | +10 |
ToneCurve | 0, 0, 255, 255 |
ToneCurveBlue | 0, 0, 255, 255 |
ToneCurveGreen | 0, 0, 255, 255 |
ToneCurveName | Linear |
ToneCurveName2012 | Linear |
ToneCurvePV2012 | 0, 0, 255, 255 |
ToneCurvePV2012Blue | 0, 0, 255, 255 |
ToneCurvePV2012Green | 0, 0, 255, 255 |
ToneCurvePV2012Red | 0, 0, 255, 255 |
ToneCurveRed | 0, 0, 255, 255 |
ToneMapStrength | 0 |
URL_List | |
Version | 11.0 |
Vibrance | 0 |
VignetteAmount | 0 |
WhiteBalance (1) | Manual |
WhiteBalance | As Shot |
Whites2012 | 0 |