Felt | Verdi |
2023-07-25T13:03:28+02:00 File 20230417_Looking back.psd saved
2023-07-25T13:11:15+02:00 File 20230417_Looking back.psd saved
AlreadyApplied | True |
Aperture | 7.1 |
ApertureValue | 7.1 |
ApproximateFocusDistance | 4294967295 |
Artist | Igor Kostin |
AutoLateralCA | 0 |
BitsPerSample | 8 |
Blacks2012 | -15 |
BlueHue | 0 |
BlueSaturation | 0 |
By-line | Igor Kostin |
CameraProfile | Embedded |
CircleOfConfusion | 0.009 mm |
Clarity2012 | 0 |
ColorComponents | 3 |
ColorGradeBlending | 50 |
ColorGradeGlobalHue | 0 |
ColorGradeGlobalLum | 0 |
ColorGradeGlobalSat | 0 |
ColorGradeHighlightLum | 0 |
ColorGradeMidtoneHue | 57 |
ColorGradeMidtoneLum | 0 |
ColorGradeMidtoneSat | 16 |
ColorGradeShadowLum | 0 |
ColorNoiseReduction | 0 |
ColorSpace | Uncalibrated |
ColorTransform | YCbCr |
Contrast2012 | 0 |
ConvertToGrayscale | False |
Copyright | All rights reserved |
CopyrightFlag | True |
CopyrightNotice | All rights reserved |
CreateDate (1) | 2023:04:16 22:14:10.55Z |
CreateDate | 2023:04:16 22:14:10 |
Creator | Igor Kostin |
CreatorCity | Bodø |
CreatorCountry | Norway |
CreatorTool | Adobe Photoshop Lightroom Classic 12.4 (Macintosh) |
CropAngle | 0 |
CropBottom | 1 |
CropConstrainToWarp | 0 |
CropLeft | 0 |
CropRight | 1 |
CropTop | 0.051586 |
CurveRefineSaturation | 100 |
CustomRendered | Normal |
DateCreated (1) | 2023:04:16 |
DateCreated | 2023:04:16 22:14:10.055 |
DateTimeOriginal | 2023:04:16 22:14:10 |
DefringeGreenAmount | 0 |
DefringeGreenHueHi | 60 |
DefringeGreenHueLo | 40 |
DefringePurpleAmount | 0 |
DefringePurpleHueHi | 70 |
DefringePurpleHueLo | 30 |
Dehaze | 0 |
DistortionCorrectionAlreadyApplied | True |
DOF | inf (1360.98 m - inf) |
Exposure2012 | 0.00 |
ExposureCompensation | 0 |
ExposureMode | Manual |
ExposureProgram | Manual |
ExposureTime | 1/640 |
Firmware | 1.7.0 |
Flash | No Flash |
FlashCompensation | 0 |
FNumber | 7.1 |
FocalLength | 300.0 mm |
FocalLength35efl | 300.0 mm (35 mm equivalent: 967.8 mm) |
Format | image/jpeg |
FOV | 2.1 deg |
GrainAmount | 0 |
GrayMixerBlue | +73 |
GrayMixerGreen | +79 |
GrayMixerMagenta | +22 |
GrayMixerOrange | +27 |
GrayMixerPurple | +9 |
GrayMixerRed | +46 |
GrayMixerYellow | +71 |
GreenHue | 0 |
GreenSaturation | 0 |
HasCrop | True |
HasSettings | True |
Highlights2012 | 0 |
HueAdjustmentAqua | +3 |
HueAdjustmentBlue | -12 |
HueAdjustmentGreen | +17 |
HueAdjustmentMagenta | -13 |
HueAdjustmentOrange | +2 |
HueAdjustmentPurple | +12 |
HueAdjustmentRed | -5 |
HueAdjustmentYellow | -3 |
HyperfocalDistance | 1360.98 m |
ImageHeight | 2048 |
ImageNumber | 0 |
ImageSize | 1440x2048 |
ImageWidth | 1440 |
IncrementalTemperature | 0 |
IncrementalTint | 0 |
ISO | 400 |
Keywords | 2022, @igorkostin74, Bodø, Canon, CanonEOSR, Digital, Landscape, Natur, Nordland, Norge, Norway, Sørfold, exposure, travel |
LateralChromaticAberrationCorrectionAlreadyApplied | True |
Lens | EF28-300mm f/3.5-5.6L IS USM |
LensID (1) | 233 |
LensID | Canon EF 28-300mm f/3.5-5.6L IS USM |
LensInfo | 28-300mm f/? |
LensManualDistortionAmount | 0 |
LensModel | EF28-300mm f/3.5-5.6L IS USM |
LensProfileEnable | 0 |
LensSerialNumber | 000020a680 |
LightValue | 13.0 |
LuminanceAdjustmentAqua | +11 |
LuminanceAdjustmentBlue | +15 |
LuminanceAdjustmentGreen | +7 |
LuminanceAdjustmentMagenta | +9 |
LuminanceAdjustmentOrange | 0 |
LuminanceAdjustmentPurple | +11 |
LuminanceAdjustmentRed | +18 |
LuminanceAdjustmentYellow | 0 |
LuminanceSmoothing | 0 |
Make | Canon |
Marked | True |
MaxApertureValue | 5.7 |
Megapixels | 2.9 |
MeteringMode | Multi-segment |
Model | Canon EOS R |
ModifyDate (1) | 2023:07:25 13:13:08+02:00 |
ModifyDate | 2023:07:25 13:13:08 |
OverrideLookVignette | False |
ParametricDarks | 0 |
ParametricHighlights | 0 |
ParametricHighlightSplit | 75 |
ParametricLights | 0 |
ParametricMidtoneSplit | 50 |
ParametricShadows | 0 |
ParametricShadowSplit | 25 |
PerspectiveAspect | 0 |
PerspectiveHorizontal | 0 |
PerspectiveRotate | 0.0 |
PerspectiveScale | 100 |
PerspectiveUpright | 0 |
PerspectiveVertical | 0 |
PerspectiveX | 0.00 |
PerspectiveY | 0.00 |
PostCropVignetteAmount | 0 |
PreservedFileName | _Q3A9482.CR3 |
ProcessVersion | 15.4 |
ProfileDescription | Display P3 |
Rating | 5 |
RawFileName | 20230417_Looking back.psd |
RecommendedExposureIndex | 400 |
RedHue | 0 |
RedSaturation | 0 |
Rights | All rights reserved |
Saturation | -9 |
SaturationAdjustmentAqua | -9 |
SaturationAdjustmentBlue | -6 |
SaturationAdjustmentGreen | +5 |
SaturationAdjustmentMagenta | +3 |
SaturationAdjustmentOrange | -11 |
SaturationAdjustmentPurple | +8 |
SaturationAdjustmentRed | 0 |
SaturationAdjustmentYellow | +3 |
ScaleFactor35efl | 3.2 |
SceneCaptureType | Standard |
SensitivityType | Recommended Exposure Index |
SerialNumber | 032021005303 |
Shadows2012 | 0 |
ShadowTint | 0 |
Sharpness | 0 |
ShutterSpeed | 1/640 |
ShutterSpeedValue | 1/640 |
Software | Adobe Photoshop Lightroom Classic 12.4 (Macintosh) |
SplitToningBalance | 0 |
SplitToningHighlightHue | 316 |
SplitToningHighlightSaturation | 1 |
SplitToningShadowHue | 13 |
SplitToningShadowSaturation | 21 |
Subject | 2022, @igorkostin74, Bodø, Canon, CanonEOSR, Digital, Landscape, Natur, Nordland, Norge, Norway, Sørfold, exposure, travel |
Texture | 0 |
ToneCurveName2012 | Custom |
ToneCurvePV2012 | 0, 0, 58, 60, 134, 132, 192, 193, 255, 255 |
ToneCurvePV2012Blue | 16, 7, 69, 69, 174, 183, 255, 255 |
ToneCurvePV2012Green | 5, 5, 34, 29, 198, 203, 252, 249 |
ToneCurvePV2012Red | 0, 0, 4, 2, 80, 77, 233, 232 |
UsageTerms | Please contact |
Version | 15.4 |
Vibrance | -5 |
VignetteAmount | 0 |
VignetteCorrectionAlreadyApplied | True |
WeightedFlatSubject | 2022, Bodø, Norway, @igorkostin74, Landscape, Norge, CanonEOSR, Nordland, Natur, travel, Sørfold, Canon, Digital, exposure |
WhiteBalance (1) | As Shot |
WhiteBalance | Auto |
Whites2012 | -6 |