Felt | Verdi |
AlreadyApplied | True |
Aperture | 8.0 |
ApertureValue | 8.0 |
Artist | GEIR BRAATHEN |
AutoLateralCA | 1 |
BitsPerSample | 8 |
Blacks2012 | +8 |
BlueHue | 0 |
BlueSaturation | 0 |
BrightnessValue | 8.09 |
By-line | GEIR BRAATHEN |
CameraProfile | Camera Velvia/Vivid |
CameraProfilesApertureValue | 6 |
CameraProfilesAuthor | Adobe |
CameraProfilesAutoScale | False |
CameraProfilesCameraPrettyName | Fujifilm GFX 100S |
CameraProfilesCameraRawProfile | True |
CameraProfilesFocalLength | 64 |
CameraProfilesFocusDistance | 10000 |
CameraProfilesLens | GF32-64mmF4 R LM WR |
CameraProfilesLensPrettyName | GF32-64mmF4 R LM WR |
CameraProfilesMake | FUJIFILM |
CameraProfilesModel | GFX100S |
CameraProfilesPerspectiveModelImageXCenter | 0.506181 |
CameraProfilesPerspectiveModelImageYCenter | 0.521062 |
CameraProfilesPerspectiveModelRadialDistortParam1 | 0.014483 |
CameraProfilesPerspectiveModelRadialDistortParam2 | 1.109491 |
CameraProfilesPerspectiveModelRadialDistortParam3 | -3.152794 |
CameraProfilesPerspectiveModelScaleFactor | 0.977864 |
CameraProfilesPerspectiveModelVersion | 2 |
CameraProfilesPerspectiveModelVignetteModelImageXCenter | 0.503091 |
CameraProfilesPerspectiveModelVignetteModelImageYCenter | 0.510531 |
CameraProfilesPerspectiveModelVignetteModelVignetteModelParam1 | 1 |
CameraProfilesPerspectiveModelVignetteModelVignetteModelPiecewiseParam | 0.000000, 1.000000, 0.161110, 0.988413, 0.227920, 0.976631, 0.279069, 0.968779, 0.322221, 0.961050, 0.360208, 0.952998, 0.394695, 0.941172, 0.426184, 0.933452, 0.455674, 0.890435, 0.483331, 0.890435 |
CameraProfilesProfileName | Camera Settings |
CameraProfilesSensorFormatFactor | 0.741803 |
CameraProfilesUniqueCameraModel | Fujifilm GFX 100S |
CircleOfConfusion | 0.038 mm |
Clarity2012 | +30 |
ColorComponents | 3 |
ColorGradeBlending | 50 |
ColorGradeGlobalHue | 0 |
ColorGradeGlobalLum | 0 |
ColorGradeGlobalSat | 0 |
ColorGradeHighlightLum | 0 |
ColorGradeMidtoneHue | 0 |
ColorGradeMidtoneLum | 0 |
ColorGradeMidtoneSat | 0 |
ColorGradeShadowLum | 0 |
ColorNoiseReduction | 25 |
ColorNoiseReductionDetail | 50 |
ColorNoiseReductionSmoothness | 50 |
ColorSpace | Uncalibrated |
ColorTemperature | 5150 |
ColorTransform | YCbCr |
Contrast2012 | +18 |
ConvertToGrayscale | False |
CreateDate | 2022:12:28 09:53:10 |
Creator | GEIR BRAATHEN |
CreatorTool | Adobe Photoshop Lightroom Classic 12.1 (Macintosh) |
CropAngle | 1.0675 |
CropBottom | 0.900851 |
CropConstrainToWarp | 0 |
CropLeft | 0.017498 |
CropRight | 0.982447 |
CropTop | 0.10314 |
CustomRendered | Normal |
DateCreated (1) | 2022:12:28 |
DateCreated | 2022:12:28 09:53:10 |
DateTimeOriginal | 2022:12:28 09:53:10 |
DefringeGreenAmount | 0 |
DefringeGreenHueHi | 60 |
DefringeGreenHueLo | 40 |
DefringePurpleAmount | 0 |
DefringePurpleHueHi | 70 |
DefringePurpleHueLo | 30 |
Dehaze | 0 |
DistortionCorrectionAlreadyApplied | True |
Exposure2012 | 0.00 |
ExposureCompensation | 0 |
ExposureMode | Auto |
ExposureProgram | Aperture-priority AE |
ExposureTime | 1/125 |
Flash | No Flash |
FNumber | 8.0 |
FocalLength | 64.0 mm |
FocalLength35efl | 64.0 mm (35 mm equivalent: 51.0 mm) |
FocalLengthIn35mmFormat | 51 mm |
Format | image/jpeg |
FOV | 38.9 deg |
FujiRatingAlreadyApplied | True |
GrainAmount | 0 |
GreenHue | 0 |
GreenSaturation | 0 |
HasCrop | True |
HasSettings | True |
Highlights2012 | 0 |
HueAdjustmentAqua | 0 |
HueAdjustmentBlue | 0 |
HueAdjustmentGreen | 0 |
HueAdjustmentMagenta | 0 |
HueAdjustmentOrange | 0 |
HueAdjustmentPurple | 0 |
HueAdjustmentRed | 0 |
HueAdjustmentYellow | 0 |
HyperfocalDistance | 13.58 m |
ImageHeight | 1427 |
ImageSize | 2400x1427 |
ImageWidth | 2400 |
ISO | 100 |
LateralChromaticAberrationCorrectionAlreadyApplied | True |
Lens | GF32-64mmF4 R LM WR |
LensInfo | 32-64mm f/4 |
LensMake | FUJIFILM |
LensManualDistortionAmount | 0 |
LensModel | GF32-64mmF4 R LM WR |
LensProfileDistortionScale | 100 |
LensProfileEnable | 1 |
LensProfileIsEmbedded | True |
LensProfileName | Camera Settings |
LensProfileSetup | LensDefaults |
LensProfileVignettingScale | 100 |
LensSerialNumber | 98C00495 |
LightSource | Unknown |
LightValue | 13.0 |
LuminanceAdjustmentAqua | 0 |
LuminanceAdjustmentBlue | 0 |
LuminanceAdjustmentGreen | 0 |
LuminanceAdjustmentMagenta | 0 |
LuminanceAdjustmentOrange | 0 |
LuminanceAdjustmentPurple | 0 |
LuminanceAdjustmentRed | 0 |
LuminanceAdjustmentYellow | 0 |
LuminanceSmoothing | 0 |
Make | FUJIFILM |
MaxApertureValue | 4.0 |
Megapixels | 3.4 |
MeteringMode | Multi-segment |
Model | GFX100S |
ModifyDate (1) | 2022:12:28 17:54:17+01:00 |
ModifyDate | 2022:12:28 17:54:17 |
OverrideLookVignette | False |
ParametricDarks | 0 |
ParametricHighlights | 0 |
ParametricHighlightSplit | 75 |
ParametricLights | 0 |
ParametricMidtoneSplit | 50 |
ParametricShadows | 0 |
ParametricShadowSplit | 25 |
PerspectiveAspect | 0 |
PerspectiveHorizontal | 0 |
PerspectiveRotate | 0.0 |
PerspectiveScale | 100 |
PerspectiveUpright | 0 |
PerspectiveVertical | 0 |
PerspectiveX | 0.00 |
PerspectiveY | 0.00 |
PostCropVignetteAmount | 0 |
PreservedFileName | GFXX6690.RAF |
ProcessVersion | 11.0 |
ProfileDescription | Display P3 |
RawFileName | GFXX6690.RAF |
RedHue | 0 |
RedSaturation | 0 |
Saturation | +51 |
SaturationAdjustmentAqua | 0 |
SaturationAdjustmentBlue | 0 |
SaturationAdjustmentGreen | 0 |
SaturationAdjustmentMagenta | 0 |
SaturationAdjustmentOrange | 0 |
SaturationAdjustmentPurple | 0 |
SaturationAdjustmentRed | 0 |
SaturationAdjustmentYellow | 0 |
ScaleFactor35efl | 0.8 |
SceneCaptureType | Standard |
SceneType | Directly photographed |
SensingMethod | One-chip color area |
SensitivityType | Standard Output Sensitivity |
SerialNumber | 13002285 |
Shadows2012 | +25 |
ShadowTint | 0 |
SharpenDetail | 25 |
SharpenEdgeMasking | 0 |
SharpenRadius | +1.0 |
Sharpness (1) | 40 |
Sharpness | Normal |
ShutterSpeed | 1/125 |
ShutterSpeedValue | 1/125 |
Software | Adobe Photoshop Lightroom Classic 12.1 (Macintosh) |
SplitToningBalance | 0 |
SplitToningHighlightHue | 0 |
SplitToningHighlightSaturation | 0 |
SplitToningShadowHue | 0 |
SplitToningShadowSaturation | 0 |
StandardOutputSensitivity | 100 |
SubjectDistanceRange | Unknown |
Texture | 0 |
Tint | +20 |
ToneCurveName2012 | Linear |
ToneCurvePV2012 | 0, 0, 255, 255 |
ToneCurvePV2012Blue | 0, 0, 255, 255 |
ToneCurvePV2012Green | 0, 0, 255, 255 |
ToneCurvePV2012Red | 0, 0, 255, 255 |
Version | 15.1 |
Vibrance | 0 |
VignetteAmount | 0 |
VignetteCorrectionAlreadyApplied | True |
WhiteBalance (1) | As Shot |
WhiteBalance | Auto |
Whites2012 | 0 |