Felt | Verdi |
AlreadyApplied | True |
Aperture | 11.0 |
ApertureValue | 11.0 |
Artist | Morten Buljo |
AutoLateralCA | 0 |
BitsPerSample | 8 |
Blacks2012 | 0 |
BlueHue | 0 |
BlueSaturation | 0 |
By-line | Morten Buljo |
CameraProfile | Adobe Standard |
CircleOfConfusion | 0.030 mm |
Clarity2012 | 0 |
ColorComponents | 3 |
ColorGradeBlending | 100 |
ColorGradeGlobalHue | 0 |
ColorGradeGlobalLum | 0 |
ColorGradeGlobalSat | 0 |
ColorGradeHighlightLum | 0 |
ColorGradeMidtoneHue | 0 |
ColorGradeMidtoneLum | 0 |
ColorGradeMidtoneSat | 0 |
ColorGradeShadowLum | 0 |
ColorNoiseReduction | 25 |
ColorNoiseReductionDetail | 50 |
ColorNoiseReductionSmoothness | 50 |
ColorSpace | sRGB |
ColorTemperature | 4600 |
ColorTransform | YCbCr |
Contrast2012 | 0 |
ConvertToGrayscale | True |
Copyright | Morten Buljo - m@mortenbuljo.com |
CopyrightFlag | True |
CopyrightNotice | Morten Buljo - m@mortenbuljo.com |
CreateDate (1) | 2010:02:26 17:07:46+01:00 |
CreateDate | 2010:02:26 17:07:46 |
Creator | Morten Buljo |
CreatorAddress | Bretterne 1 |
CreatorCity | Bergen |
CreatorCountry | Norway |
CreatorPostalCode | 5005 |
CreatorRegion | Hordaland |
CreatorTool | Adobe Photoshop Lightroom Classic 11.3.1 (Macintosh) |
CreatorWorkEmail | m@mortenbuljo.com |
CreatorWorkTelephone | +47 93606707 |
CreatorWorkURL | http://www.mortenbuljo.com |
CropAngle | 0 |
CropBottom | 0.891954 |
CropConstrainToWarp | 0 |
CropHeight | 20 |
CropLeft | 0.009669 |
CropRight | 0.848624 |
CropTop | 0.051344 |
CropUnit | Unknown (3) |
CropWidth | 30 |
CustomRendered | Normal |
DateCreated (1) | 2010:02:26 |
DateCreated | 2010:02:26 17:07:46Z |
DateTimeOriginal | 2010:02:26 17:07:46 |
Dehaze | 0 |
Exposure2012 | 0.00 |
ExposureCompensation | 0 |
ExposureMode | Manual |
ExposureProgram | Manual |
ExposureTime | 1/125 |
Firmware | 1.0.3 |
Flash | No Flash |
FlashCompensation | 0 |
FNumber | 11.0 |
FocalLength | 32.0 mm |
FocalLength35efl | 32.0 mm (35 mm equivalent: 32.2 mm) |
Format | image/jpeg |
FOV | 58.4 deg |
GrainAmount | 30 |
GrainFrequency | 50 |
GrainSize | 25 |
GrayMixerAqua | -19 |
GrayMixerBlue | +8 |
GrayMixerGreen | -26 |
GrayMixerMagenta | +4 |
GrayMixerOrange | -17 |
GrayMixerPurple | +14 |
GrayMixerRed | -9 |
GrayMixerYellow | -21 |
GreenHue | 0 |
GreenSaturation | 0 |
HasCrop | True |
HasSettings | True |
Highlights2012 | 0 |
HyperfocalDistance | 3.12 m |
ImageHeight | 3409 |
ImageNumber | 25147 |
ImageSize | 2273x3409 |
ImageWidth | 2273 |
ISO | 100 |
Keywords | morten buljo |
Lens | 24.0-105.0 mm |
LensID (1) | 237 |
LensID | Canon EF 24-105mm f/4L IS USM |
LensInfo | 24-105mm f/? |
LensManualDistortionAmount | 0 |
LensModel | 24.0-105.0 mm |
LensProfileEnable | 0 |
LightValue | 13.9 |
LuminanceSmoothing | 0 |
Make | Canon |
Marked | True |
MaxApertureValue | 4.0 |
Megapixels | 7.7 |
MeteringMode | Multi-segment |
Model | Canon EOS-1DS |
ModifyDate (1) | 2022:04:26 13:37:16+02:00 |
ModifyDate | 2022:04:26 13:37:16 |
OverrideLookVignette | False |
OwnerName | Jeffrey Tsang |
ParametricDarks | 0 |
ParametricHighlights | 0 |
ParametricHighlightSplit | 75 |
ParametricLights | 0 |
ParametricMidtoneSplit | 50 |
ParametricShadows | 0 |
ParametricShadowSplit | 25 |
PerspectiveAspect | 0 |
PerspectiveHorizontal | 0 |
PerspectiveRotate | 0.0 |
PerspectiveScale | 100 |
PerspectiveUpright | 0 |
PerspectiveVertical | 0 |
PerspectiveX | 0.00 |
PerspectiveY | 0.00 |
PostCropVignetteAmount | -44 |
PostCropVignetteFeather | 50 |
PostCropVignetteHighlightContrast | 0 |
PostCropVignetteMidpoint | 50 |
PostCropVignetteRoundness | 0 |
PostCropVignetteStyle | 1 |
ProcessVersion | 11.0 |
ProfileDescription | sRGB IEC61966-2.1 |
Rating | 5 |
RawFileName | 338T0893.TIF |
RedHue | 0 |
RedSaturation | 0 |
Rights | Morten Buljo - m@mortenbuljo.com |
Saturation | +4 |
ScaleFactor35efl | 1.0 |
SceneCaptureType | Standard |
SerialNumber | 104920 |
Shadows2012 | 0 |
ShadowTint | 0 |
SharpenDetail | 25 |
SharpenEdgeMasking | 0 |
SharpenRadius | +1.0 |
Sharpness | 25 |
ShutterSpeed | 1/125 |
ShutterSpeedValue | 1/125 |
Software | Adobe Photoshop Lightroom Classic 11.3.1 (Macintosh) |
Source | Jeffrey Tsang |
SplitToningBalance | +5 |
SplitToningHighlightHue | 45 |
SplitToningHighlightSaturation | 10 |
SplitToningShadowHue | 262 |
SplitToningShadowSaturation | 3 |
Subject | morten buljo |
Texture | 0 |
Tint | -23 |
ToneCurveName2012 | Custom |
ToneCurvePV2012 | 0, 28, 255, 255 |
ToneCurvePV2012Blue | 0, 0, 255, 255 |
ToneCurvePV2012Green | 0, 0, 255, 255 |
ToneCurvePV2012Red | 0, 0, 255, 255 |
URL | http://www.mortenbuljo.com |
UsageTerms | Contact me for the rights to use this photo |
Version | 14.3 |
Vibrance | +31 |
VignetteAmount | 0 |
WebStatement | http://www.mortenbuljo.com |
WeightedFlatSubject | morten buljo |
WhiteBalance (1) | Custom |
WhiteBalance | Auto |
Whites2012 | 0 |