Felt | Verdi |
2022-08-23T16:00:56+02:00 File 20220809_Sørfold-311-Pano-4547-4548-4549.psd saved
AlreadyApplied | True |
Aperture | 7.1 |
ApertureValue | 7.1 |
ApproximateFocusDistance | 4294967295 |
Artist | Igor Kostin |
AutoLateralCA | 0 |
BitsPerSample | 8 |
Blacks2012 | +24 |
BlueHue | 0 |
BlueSaturation | 0 |
By-line | Igor Kostin |
CameraProfile | Embedded |
CircleOfConfusion | 0.011 mm |
Clarity2012 | +4 |
ColorComponents | 3 |
ColorGradeBlending | 50 |
ColorGradeGlobalHue | 0 |
ColorGradeGlobalLum | 0 |
ColorGradeGlobalSat | 0 |
ColorGradeHighlightLum | 0 |
ColorGradeMidtoneHue | 123 |
ColorGradeMidtoneLum | 0 |
ColorGradeMidtoneSat | 1 |
ColorGradeShadowLum | 0 |
ColorNoiseReduction | 0 |
ColorSpace | Uncalibrated |
ColorTransform | YCbCr |
Contrast2012 | 0 |
ConvertToGrayscale | False |
Copyright | All rights reserved |
CopyrightFlag | True |
CopyrightNotice | All rights reserved |
CreateDate (1) | 2022:08:09 01:03:06Z |
CreateDate | 2022:08:09 01:03:06 |
Creator | Igor Kostin |
CreatorCity | Bodø |
CreatorCountry | Norway |
CreatorTool | Adobe Photoshop Lightroom Classic 11.5 (Macintosh) |
CropAngle | 0 |
CropBottom | 1 |
CropConstrainToWarp | 0 |
CropLeft | 0.047503 |
CropRight | 1 |
CropTop | 0 |
CustomRendered | Normal |
DateCreated (1) | 2022:08:09 |
DateCreated | 2022:08:09 01:03:06 |
DateTimeOriginal | 2022:08:09 01:03:06 |
DefringeGreenAmount | 0 |
DefringeGreenHueHi | 60 |
DefringeGreenHueLo | 40 |
DefringePurpleAmount | 0 |
DefringePurpleHueHi | 70 |
DefringePurpleHueLo | 30 |
Dehaze | 0 |
DistortionCorrectionAlreadyApplied | True |
DOF | inf (133.46 m - inf) |
Exposure2012 | 0.00 |
ExposureCompensation | 0 |
ExposureMode | Manual |
ExposureProgram | Manual |
ExposureTime | 1/80 |
Firmware | 1.7.0 |
Flash | No Flash |
FlashCompensation | 0 |
FNumber | 7.1 |
FocalLength | 100.0 mm |
FocalLength35efl | 100.0 mm (35 mm equivalent: 284.7 mm) |
Format | image/jpeg |
FOV | 7.2 deg |
GrainAmount | 0 |
GrayMixerBlue | +73 |
GrayMixerGreen | +79 |
GrayMixerMagenta | +22 |
GrayMixerOrange | +27 |
GrayMixerPurple | +9 |
GrayMixerRed | +46 |
GrayMixerYellow | +71 |
GreenHue | 0 |
GreenSaturation | 0 |
HasCrop | True |
HasSettings | True |
Highlights2012 | 0 |
HueAdjustmentAqua | +15 |
HueAdjustmentBlue | -18 |
HueAdjustmentGreen | +19 |
HueAdjustmentMagenta | -7 |
HueAdjustmentOrange | -6 |
HueAdjustmentPurple | -8 |
HueAdjustmentRed | +3 |
HueAdjustmentYellow | -26 |
HyperfocalDistance | 133.46 m |
ImageHeight | 1963 |
ImageNumber | 0 |
ImageSize | 2048x1963 |
ImageWidth | 2048 |
IncrementalTemperature | 0 |
IncrementalTint | 0 |
IsMergedPanorama | True |
ISO | 100 |
Keywords | 2022, @igorkostin74, Bodø, Canon, CanonEOSR, Digital, Landscape, Natur, Nordland, Norge, Norway, Sørfold, exposure, travel |
LateralChromaticAberrationCorrectionAlreadyApplied | True |
Lens | EF100mm f/2.8L Macro IS USM |
LensID (1) | 254 |
LensID | Canon EF 100mm f/2.8L Macro IS USM |
LensInfo | 100mm f/? |
LensManualDistortionAmount | 0 |
LensModel | EF100mm f/2.8L Macro IS USM |
LensProfileEnable | 0 |
LensSerialNumber | 00000744ce |
LightValue | 12.0 |
LuminanceAdjustmentAqua | -7 |
LuminanceAdjustmentBlue | +11 |
LuminanceAdjustmentGreen | -17 |
LuminanceAdjustmentMagenta | +2 |
LuminanceAdjustmentOrange | 0 |
LuminanceAdjustmentPurple | +5 |
LuminanceAdjustmentRed | +14 |
LuminanceAdjustmentYellow | 0 |
LuminanceSmoothing | 0 |
Make | Canon |
Marked | True |
MaxApertureValue | 2.8 |
Megapixels | 4.0 |
MeteringMode | Center-weighted average |
Model | Canon EOS R |
ModifyDate (1) | 2022:08:23 16:03:48+02:00 |
ModifyDate | 2022:08:23 16:03:48 |
OverrideLookVignette | False |
ParametricDarks | 0 |
ParametricHighlights | 0 |
ParametricHighlightSplit | 75 |
ParametricLights | 0 |
ParametricMidtoneSplit | 50 |
ParametricShadows | 0 |
ParametricShadowSplit | 25 |
PerspectiveAspect | 0 |
PerspectiveHorizontal | 0 |
PerspectiveRotate | 0.0 |
PerspectiveScale | 100 |
PerspectiveUpright | 0 |
PerspectiveVertical | 0 |
PerspectiveX | 0.00 |
PerspectiveY | 0.00 |
PostCropVignetteAmount | 0 |
PreservedFileName | _Q3A7417.CR3 |
ProcessVersion | 11.0 |
ProfileDescription | Display P3 |
Rating | 5 |
RawFileName | 20220809_Sørfold-311-Pano-4547-4548-4549.psd |
RecommendedExposureIndex | 100 |
RedHue | 0 |
RedSaturation | 0 |
Rights | All rights reserved |
Saturation | +1 |
SaturationAdjustmentAqua | +4 |
SaturationAdjustmentBlue | +1 |
SaturationAdjustmentGreen | +6 |
SaturationAdjustmentMagenta | +4 |
SaturationAdjustmentOrange | -15 |
SaturationAdjustmentPurple | +3 |
SaturationAdjustmentRed | 0 |
SaturationAdjustmentYellow | +7 |
ScaleFactor35efl | 2.8 |
SceneCaptureType | Standard |
SensitivityType | Recommended Exposure Index |
SerialNumber | 032021005303 |
Shadows2012 | 0 |
ShadowTint | 0 |
Sharpness | 0 |
ShutterSpeed | 1/80 |
ShutterSpeedValue | 1/80 |
Software | Adobe Photoshop Lightroom Classic 11.5 (Macintosh) |
SplitToningBalance | 0 |
SplitToningHighlightHue | 172 |
SplitToningHighlightSaturation | 13 |
SplitToningShadowHue | 13 |
SplitToningShadowSaturation | 41 |
Subject | 2022, @igorkostin74, Bodø, Canon, CanonEOSR, Digital, Landscape, Natur, Nordland, Norge, Norway, Sørfold, exposure, travel |
Texture | +3 |
ToneCurveName2012 | Custom |
ToneCurvePV2012 | 0, 0, 71, 71, 197, 201, 255, 255 |
ToneCurvePV2012Blue | 0, 0, 233, 220 |
ToneCurvePV2012Green | 0, 0, 129, 128, 240, 255 |
ToneCurvePV2012Red | 0, 0, 61, 60, 192, 193, 255, 255 |
Transformation | Cylindrical |
UsageTerms | Please contact |
Version | 14.5 |
Vibrance | +2 |
VignetteAmount | 0 |
VignetteCorrectionAlreadyApplied | True |
VirtualFocalLength | 2.331101 |
VirtualImageXCenter | 0.694922 |
VirtualImageYCenter | 0.47525 |
Virtualpaths | kywd:||Norge|, kywd:||CanonEOSR|, kywd:||Landskap|, kywd:||Canon|, kywd:||Bodø|, kywd:||Digital|, kywd:||Natur|, kywd:||Sørfold|, kywd:||Norway|, kywd:||@igorkostin74|, kywd:||exposure|, kywd:||travel|, kywd:||Landscape|, kywd:||2022|, kywd:||Nordland| |
WeightedFlatSubject | 2022, @igorkostin74, Bodø, Canon, CanonEOSR, Digital, Landscape, Natur, Nordland, Norge, Norway, Sørfold, exposure, travel |
WhiteBalance (1) | As Shot |
WhiteBalance | Auto |
Whites2012 | -8 |