Felt | Verdi |
2021-05-08T13:33:51+02:00 File 20210503_Tussvatnet-039-Pano-3529-3530-3531.psd saved
AlreadyApplied | True |
Aperture | 10.0 |
ApertureValue | 10.0 |
ApproximateFocusDistance | 4294967295 |
Artist | Igor Kostin |
AutoLateralCA | 0 |
BitsPerSample | 8 |
Blacks2012 | -10 |
BlueHue | 0 |
BlueSaturation | 0 |
By-line | Igor Kostin |
CameraProfile | Embedded |
CircleOfConfusion | 0.009 mm |
Clarity2012 | +7 |
ColorComponents | 3 |
ColorGradeBlending | 50 |
ColorGradeGlobalHue | 0 |
ColorGradeGlobalLum | 0 |
ColorGradeGlobalSat | 0 |
ColorGradeHighlightLum | 0 |
ColorGradeMidtoneHue | 0 |
ColorGradeMidtoneLum | 0 |
ColorGradeMidtoneSat | 0 |
ColorGradeShadowLum | 0 |
ColorNoiseReduction | 0 |
ColorSpace | Uncalibrated |
ColorTransform | YCbCr |
Contrast2012 | 0 |
ConvertToGrayscale | False |
Copyright | All rights reserved |
CopyrightFlag | True |
CopyrightNotice | All rights reserved |
CreateDate (1) | 2021:05:04 01:52:35Z |
CreateDate | 2021:05:04 01:52:35 |
Creator | Igor Kostin |
CreatorCity | Bodø |
CreatorCountry | Norway |
CreatorTool | Adobe Photoshop Lightroom Classic 10.2 (Macintosh) |
CropAngle | 0 |
CropBottom | 1 |
CropConstrainToWarp | 0 |
CropLeft | 0 |
CropRight | 1 |
CropTop | 0 |
CustomRendered | Normal |
DateCreated (1) | 2021:05:04 |
DateCreated | 2021:05:04 01:51:40 |
DateTimeOriginal | 2021:05:04 01:52:35 |
DefringeGreenAmount | 0 |
DefringeGreenHueHi | 60 |
DefringeGreenHueLo | 40 |
DefringePurpleAmount | 0 |
DefringePurpleHueHi | 70 |
DefringePurpleHueLo | 30 |
Dehaze | +53 |
DistortionCorrectionAlreadyApplied | True |
DOF | inf (6.43 m - inf) |
Exposure2012 | 0.00 |
ExposureCompensation | 0 |
ExposureMode | Manual |
ExposureProgram | Manual |
ExposureTime | 0.8 |
Firmware | 1.7.0 |
Flash | No Flash |
FlashCompensation | 0 |
FNumber | 10.0 |
FocalLength | 24.0 mm |
FocalLength35efl | 24.0 mm (35 mm equivalent: 80.5 mm) |
Format | image/jpeg |
FOV | 25.2 deg |
GrainAmount | 0 |
GreenHue | 0 |
GreenSaturation | 0 |
HasCrop | False |
HasSettings | True |
Highlights2012 | 0 |
HueAdjustmentAqua | 0 |
HueAdjustmentBlue | 0 |
HueAdjustmentGreen | 0 |
HueAdjustmentMagenta | 0 |
HueAdjustmentOrange | +22 |
HueAdjustmentPurple | 0 |
HueAdjustmentRed | 0 |
HueAdjustmentYellow | 0 |
HyperfocalDistance | 6.43 m |
ImageHeight | 1265 |
ImageNumber | 0 |
ImageSize | 2048x1265 |
ImageWidth | 2048 |
IncrementalTemperature | 0 |
IncrementalTint | 0 |
IsMergedPanorama | True |
ISO | 100 |
Keywords | 2021, @igorkostin74, Bodø, Canon, CanonEOSR, Digital, Landscape, Natur, Nordland, Norge, Norway, Sørfold, exposure, travel |
LateralChromaticAberrationCorrectionAlreadyApplied | True |
Lens | 24.0 mm |
LensID (1) | 180 |
LensID | Sigma 24mm f/1.4 DG HSM | A or Sigma 24mm f/1.5 FF High-Speed Prime | 017 |
LensInfo | 24mm f/? |
LensManualDistortionAmount | 0 |
LensModel | 24.0 mm |
LensProfileEnable | 0 |
LensSerialNumber | 0000000000 |
LightValue | 7.0 |
LuminanceAdjustmentAqua | 0 |
LuminanceAdjustmentBlue | 0 |
LuminanceAdjustmentGreen | 0 |
LuminanceAdjustmentMagenta | 0 |
LuminanceAdjustmentOrange | 0 |
LuminanceAdjustmentPurple | 0 |
LuminanceAdjustmentRed | 0 |
LuminanceAdjustmentYellow | 0 |
LuminanceSmoothing | 0 |
Make | Canon |
Marked | True |
MaxApertureValue | 1.4 |
Megapixels | 2.6 |
MeteringMode | Spot |
Model | Canon EOS R |
ModifyDate (1) | 2021:05:08 14:25:41+02:00 |
ModifyDate | 2021:05:08 14:25:41 |
OverrideLookVignette | False |
PaintCorrectionActive | true |
PaintCorrectionAmount | 1.000000 |
PaintCorrectionBrightness | 0.000000 |
PaintCorrectionClarity2012 | 0.000000 |
PaintCorrectionContrast2012 | 0.000000 |
PaintCorrectionCorrectionRangeMaskColorAmount | 0.500000 |
PaintCorrectionCorrectionRangeMaskDepthFeather | 0.500000 |
PaintCorrectionCorrectionRangeMaskDepthMax | 1.000000 |
PaintCorrectionCorrectionRangeMaskDepthMin | 0.000000 |
PaintCorrectionCorrectionRangeMaskLumFeather | 0.500000 |
PaintCorrectionCorrectionRangeMaskLumMax | 1.000000 |
PaintCorrectionCorrectionRangeMaskLumMin | 0.000000 |
PaintCorrectionCorrectionRangeMaskType | 0 |
PaintCorrectionCorrectionRangeMaskVersion | +2 |
PaintCorrectionDefringe | 0.000000 |
PaintCorrectionExposure2012 (1) | 0.062500 |
PaintCorrectionExposure2012 | -0.075000 |
PaintCorrectionHighlights2012 | 0.000000 |
PaintCorrectionHue | 240.000000 |
PaintCorrectionLocalBlacks2012 | 0.000000 |
PaintCorrectionLocalDehaze | 0.000000 |
PaintCorrectionLocalHue | 0.000000 |
PaintCorrectionLocalTexture | 0.000000 |
PaintCorrectionLocalWhites2012 | 0.000000 |
PaintCorrectionLuminanceNoise | 0.000000 |
PaintCorrectionMaskCenterWeight | 0.095373 |
PaintCorrectionMaskFlow (1) | 0.025505 |
PaintCorrectionMaskFlow (10) | 0.072806 |
PaintCorrectionMaskFlow (11) | 0.074449 |
PaintCorrectionMaskFlow (12) | 0.051324 |
PaintCorrectionMaskFlow (13) | 0.050867 |
PaintCorrectionMaskFlow (14) | 0.072367 |
PaintCorrectionMaskFlow (15) | 0.068401 |
PaintCorrectionMaskFlow (17) | 0.057791 |
PaintCorrectionMaskFlow (18) | 0.006469 |
PaintCorrectionMaskFlow (19) | 0.069450 |
PaintCorrectionMaskFlow (2) | 0.054340 |
PaintCorrectionMaskFlow (20) | 0.049380 |
PaintCorrectionMaskFlow (21) | 0.080429 |
PaintCorrectionMaskFlow (22) | 0.085754 |
PaintCorrectionMaskFlow (3) | 0.083717 |
PaintCorrectionMaskFlow (4) | 0.023408 |
PaintCorrectionMaskFlow (5) | 0.072587 |
PaintCorrectionMaskFlow (6) | 0.038098 |
PaintCorrectionMaskFlow (7) | 0.125569 |
PaintCorrectionMaskFlow (8) | 0.061612 |
PaintCorrectionMaskFlow (9) | 0.103127 |
PaintCorrectionMaskFlow | 0.007520 |
PaintCorrectionMaskRadius (14) | 0.029605 |
PaintCorrectionMaskRadius (15) | 0.045041 |
PaintCorrectionMaskRadius (19) | 0.055778 |
PaintCorrectionMaskRadius (6) | 0.061281 |
PaintCorrectionMaskRadius | 0.034661 |
PaintCorrectionMaskValue | 1.000000 |
PaintCorrectionMaskWhat | Mask/Paint |
PaintCorrectionMoire | 0.000000 |
PaintCorrectionSaturation | 0.000000 |
PaintCorrectionShadows2012 | 0.000000 |
PaintCorrectionSharpness | 0.000000 |
PaintCorrectionTemperature | 0.000000 |
PaintCorrectionTint | 0.000000 |
PaintCorrectionWhat | Correction |
ParametricDarks | 0 |
ParametricHighlights | 0 |
ParametricHighlightSplit | 75 |
ParametricLights | 0 |
ParametricMidtoneSplit | 50 |
ParametricShadows | 0 |
ParametricShadowSplit | 25 |
PerspectiveAspect | 0 |
PerspectiveHorizontal | 0 |
PerspectiveRotate | 0.0 |
PerspectiveScale | 100 |
PerspectiveUpright | 0 |
PerspectiveVertical | 0 |
PerspectiveX | 0.00 |
PerspectiveY | 0.00 |
PostCropVignetteAmount | 0 |
PreservedFileName | _Q3A6437.CR3 |
ProcessVersion | 11.0 |
ProfileDescription | Display P3 |
Rating | 5 |
RawFileName | |
RecommendedExposureIndex | 100 |
RedHue | 0 |
RedSaturation | 0 |
Rights | All rights reserved |
Saturation | 0 |
SaturationAdjustmentAqua | 0 |
SaturationAdjustmentBlue | 0 |
SaturationAdjustmentGreen | 0 |
SaturationAdjustmentMagenta | 0 |
SaturationAdjustmentOrange | -18 |
SaturationAdjustmentPurple | 0 |
SaturationAdjustmentRed | -60 |
SaturationAdjustmentYellow | 0 |
ScaleFactor35efl | 3.4 |
SceneCaptureType | Standard |
SensitivityType | Recommended Exposure Index |
SerialNumber | 032021005303 |
Shadows2012 | 0 |
ShadowTint | 0 |
Sharpness | 0 |
ShutterSpeed | 0.8 |
ShutterSpeedValue | 0.8 |
Software | Adobe Photoshop Lightroom Classic 10.2 (Macintosh) |
SplitToningBalance | 0 |
SplitToningHighlightHue | 0 |
SplitToningHighlightSaturation | 0 |
SplitToningShadowHue | 0 |
SplitToningShadowSaturation | 0 |
Subject | 2021, @igorkostin74, Bodø, Canon, CanonEOSR, Digital, Landscape, Natur, Nordland, Norge, Norway, Sørfold, exposure, travel |
Texture | +10 |
ToneCurveName2012 | Linear |
ToneCurvePV2012 | 0, 0, 255, 255 |
ToneCurvePV2012Blue | 0, 0, 255, 255 |
ToneCurvePV2012Green | 0, 0, 255, 255 |
ToneCurvePV2012Red | 0, 0, 255, 255 |
Transformation | Cylindrical |
UsageTerms | Please contact |
Version | 13.2 |
Vibrance | 0 |
VignetteAmount | 0 |
VignetteCorrectionAlreadyApplied | True |
VirtualFocalLength | 0.657571 |
VirtualImageXCenter | 0.593615 |
VirtualImageYCenter | 0.291046 |
Virtualpaths | kywd:||Norway|, kywd:||exposure|, kywd:||Bodø|, kywd:||Digital|, kywd:||Natur|, kywd:||Landscape|, kywd:||Canon|, kywd:||Landskap|, kywd:||CanonEOSR|, kywd:||@igorkostin74|, kywd:||Nordland|, kywd:||travel|, kywd:||Norge|, kywd:||Sørfold|, kywd:||2021| |
WhiteBalance (1) | As Shot |
WhiteBalance | Auto |
Whites2012 | -24 |