Felt | Verdi |
AbsoluteAltitude | +85.10 |
AlreadyApplied | True |
Aperture | 2.8 |
ApertureValue | 2.8 |
AutoLateralCA | 0 |
BitsPerSample | 8 |
Blacks2012 | +70 |
BlueHue | -6 |
BlueSaturation | -10 |
CameraProfile | Embedded |
CamReverse | 0 |
CircleOfConfusion | 0.006 mm |
City | Nes |
Clarity2012 | 0 |
ColorComponents | 3 |
ColorGradeBlending | 100 |
ColorGradeGlobalHue | 0 |
ColorGradeGlobalLum | 0 |
ColorGradeGlobalSat | 0 |
ColorGradeHighlightLum | 0 |
ColorGradeMidtoneHue | 0 |
ColorGradeMidtoneLum | 0 |
ColorGradeMidtoneSat | 0 |
ColorGradeShadowLum | 0 |
ColorNoiseReduction | 25 |
ColorNoiseReductionDetail | 50 |
ColorNoiseReductionSmoothness | 50 |
ColorSpace | sRGB |
ColorTemperature | 6100 |
ColorTransform | YCbCr |
Contrast | Normal |
Contrast2012 | +10 |
ConvertToGrayscale | False |
Country | Norway |
Country-PrimaryLocationCode | NO |
Country-PrimaryLocationName | Norway |
CountryCode | NO |
CreateDate | 2020:12:25 10:30:30 |
CreatorTool | Adobe Photoshop Lightroom Classic 10.0 (Macintosh) |
CropAngle | 16.6871 |
CropBottom | 1 |
CropConstrainToWarp | 0 |
CropLeft | 0.285558 |
CropRight | 0.839374 |
CropTop | 0 |
DateCreated (1) | 2020:12:25 |
DateCreated | 2020:12:25 10:30:30 |
DateTimeOriginal | 2020:12:25 10:30:30 |
DefringeGreenAmount | 0 |
DefringeGreenHueHi | 60 |
DefringeGreenHueLo | 40 |
DefringePurpleAmount | 0 |
DefringePurpleHueHi | 70 |
DefringePurpleHueLo | 30 |
Dehaze | 0 |
DigitalZoomRatio | 1 |
Exposure2012 | +0.47 |
ExposureCompensation | 0 |
ExposureMode | Auto |
ExposureProgram | Program AE |
ExposureTime | 1/125 |
Flash | No Flash |
FlightPitchDegree | +0.70 |
FlightRollDegree | +0.50 |
FlightYawDegree | -131.70 |
FNumber | 2.8 |
FocalLength | 4.5 mm |
FocalLength35efl | 4.5 mm (35 mm equivalent: 24.0 mm) |
FocalLengthIn35mmFormat | 24 mm |
Format | image/jpeg |
FOV | 73.7 deg |
GainControl | None |
GimbalPitchDegree | -90.00 |
GimbalReverse | 0 |
GimbalRollDegree | +0.00 |
GimbalYawDegree | -133.70 |
GPSAltitude (1) | 85.1 m |
GPSAltitude | 85.1 m Above Sea Level |
GPSAltitudeRef | Above Sea Level |
GPSLatitude (2) | 60 deg 35' 1.44" |
GPSLatitude | 60 deg 35' 1.44" N |
GPSLatitudeRef | North |
GPSLongitude (2) | 9 deg 5' 48.19" |
GPSLongitude | 9 deg 5' 48.19" E |
GPSLongitudeRef | East |
GPSPosition | 60 deg 35' 1.44" N, 9 deg 5' 48.19" E |
GPSVersionID | 2.3.0.0 |
GrainAmount | 0 |
GreenHue | +15 |
GreenSaturation | 0 |
HasCrop | True |
HasSettings | True |
Highlights2012 | -100 |
HueAdjustmentAqua | -12 |
HueAdjustmentBlue | -10 |
HueAdjustmentGreen | +20 |
HueAdjustmentMagenta | +20 |
HueAdjustmentOrange | +3 |
HueAdjustmentPurple | +15 |
HueAdjustmentRed | +6 |
HueAdjustmentYellow | +5 |
HyperfocalDistance | 1.28 m |
ImageHeight | 1400 |
ImageSize | 1050x1400 |
ImageWidth | 1050 |
ISO | 100 |
Lens | 24.0 mm f/2.8 |
LensInfo | 24mm f/2.8 |
LensManualDistortionAmount | 0 |
LensModel | 24.0 mm f/2.8 |
LensProfileDistortionScale | 100 |
LensProfileEnable | 1 |
LensProfileFilename | SONY (TAMRON 28-75mm F_2.8 Di III RXD A036) - RAW.lcp |
LensProfileIsEmbedded | False |
LensProfileName | Adobe (TAMRON 28-75mm F/2.8 Di III RXD A036, SONY) |
LensProfileSetup | Custom |
LensProfileVignettingScale | 0 |
LightSource | Daylight |
LightValue | 9.9 |
LuminanceAdjustmentAqua | +10 |
LuminanceAdjustmentBlue | -10 |
LuminanceAdjustmentGreen | -10 |
LuminanceAdjustmentMagenta | 0 |
LuminanceAdjustmentOrange | +4 |
LuminanceAdjustmentPurple | +5 |
LuminanceAdjustmentRed | +10 |
LuminanceAdjustmentYellow | -10 |
LuminanceSmoothing | 0 |
Make | DJI |
MaxApertureValue | 2.8 |
Megapixels | 1.5 |
MeteringMode | Spot |
Model | FC3170 |
ModifyDate (1) | 2020:12:25 12:01:43+01:00 |
ModifyDate | 2020:12:25 12:01:43 |
OverrideLookVignette | False |
ParametricDarks | 0 |
ParametricHighlights | 0 |
ParametricHighlightSplit | 87 |
ParametricLights | 0 |
ParametricMidtoneSplit | 40 |
ParametricShadows | 0 |
ParametricShadowSplit | 20 |
PerspectiveAspect | 0 |
PerspectiveHorizontal | 0 |
PerspectiveRotate | 0.0 |
PerspectiveScale | 100 |
PerspectiveUpright | 0 |
PerspectiveVertical | 0 |
PerspectiveX | 0.00 |
PerspectiveY | 0.00 |
PostCropVignetteAmount | 0 |
PreservedFileName | DJI_0090.DNG |
ProcessVersion | 11.0 |
ProfileDescription | sRGB IEC61966-2.1 |
Province-State | Viken |
RedHue | 0 |
RedSaturation | +10 |
RelativeAltitude | +85.10 |
Saturation (1) | +5 |
Saturation | Normal |
SaturationAdjustmentAqua | -10 |
SaturationAdjustmentBlue | +31 |
SaturationAdjustmentGreen | -100 |
SaturationAdjustmentMagenta | -30 |
SaturationAdjustmentOrange | +49 |
SaturationAdjustmentPurple | -30 |
SaturationAdjustmentRed | -3 |
SaturationAdjustmentYellow | -100 |
ScaleFactor35efl | 5.3 |
SceneCaptureType | Standard |
SceneType | Directly photographed |
SelfData | |
SerialNumber | 1TCLH1C03BJ1P9 |
Shadows2012 | -77 |
ShadowTint | 0 |
SharpenDetail | 25 |
SharpenEdgeMasking | 0 |
SharpenRadius | +1.0 |
Sharpness (1) | 25 |
Sharpness | Normal |
ShutterSpeed | 1/125 |
ShutterSpeedValue | 1/125 |
Software | Adobe Photoshop Lightroom Classic 10.0 (Macintosh) |
SplitToningBalance | +90 |
SplitToningHighlightHue | 55 |
SplitToningHighlightSaturation | 3 |
SplitToningShadowHue | 55 |
SplitToningShadowSaturation | 10 |
State | Viken |
Texture | 0 |
Tint | +7 |
ToneCurveName2012 | Custom |
ToneCurvePV2012 | 0, 0, 43, 65, 117, 148, 255, 255 |
ToneCurvePV2012Blue | 0, 0, 49, 38, 118, 129, 190, 198, 255, 250 |
ToneCurvePV2012Green | 0, 0, 46, 37, 116, 129, 144, 158, 188, 196, 255, 252 |
ToneCurvePV2012Red | 0, 0, 50, 39, 116, 127, 188, 199, 255, 255 |
Version | 13.0 |
Vibrance | 0 |
VignetteAmount | 0 |
WhiteBalance (1) | As Shot |
WhiteBalance | Auto |
Whites2012 | -31 |