Felt | Verdi |
AlreadyApplied | True |
ApertureValue | 7.1 |
Artist | YngveSPhoto Mob 90642102 |
AutoLateralCA | 0 |
BitsPerSample | 8 |
Blacks2012 | -36 |
BlueHue | 0 |
By-line | YngveSPhoto Mob 90642102 |
CircleOfConfusion | 0.007 mm |
Clarity2012 | +24 |
ColorMode | RGB |
ColorNoiseReductionDetail | 50 |
ColorSpace (1) | Uncalibrated |
ColorTemperature | 4850 |
Copyright | Mail:yngves@me.com |
CopyrightNotice | Mail:yngves@me.com |
CreateDate (1) | 2020:06:07 16:16:24+02:00 |
Creator | YngveSPhoto Mob 90642102 |
CreatorTool | Elements Organizer 15.0 |
CustomRendered | Normal |
DateTimeOriginal (1) | 2020:06:07 16:16:24+02:00 |
DateTimeOriginal | 2020:06:07 16:16:24 |
DefringeGreenAmount | 0 |
DefringeGreenHueHi | 60 |
DefringeGreenHueLo | 40 |
DefringePurpleHueHi | 70 |
DefringePurpleHueLo | 30 |
Dehaze | 0 |
ExifImageHeight | 960 |
ExifImageWidth | 1250 |
Exposure2012 | -0.10 |
ExposureCompensation | -1/3 |
ExposureProgram | Aperture-priority AE |
Firmware | 1.2.3 |
Flash | Off, Did not fire |
FlashCompensation | 0 |
FlashFired | False |
FlashFunction | False |
FNumber (1) | 7.1 |
FocalLength | 70.0 mm |
FocalLength35efl | 70.0 mm (35 mm equivalent: 307.5 mm) |
Format | image/jpeg |
FOV | 6.7 deg |
GrainAmount | 0 |
GreenHue | 0 |
GreenSaturation | 0 |
HasCrop | False |
HasSettings | True |
Highlights2012 | -16 |
HueAdjustmentAqua | 0 |
HueAdjustmentGreen | 0 |
HueAdjustmentMagenta | 0 |
HueAdjustmentOrange | 0 |
HueAdjustmentPurple | 0 |
HueAdjustmentRed | 0 |
HueAdjustmentYellow | 0 |
HyperfocalDistance | 100.89 m |
ICCProfileName | sRGB IEC61966-2.1 |
ImageWidth | 1250 |
LensID (1) | 230 |
LensID | Canon EF 24-70mm f/2.8L USM |
LensInfo | 24-70mm f/? |
LensModel | EF24-70mm f/2.8L USM |
LensProfileSetup | LensDefaults |
LensSerialNumber | 0000000000 |
LightValue | 11.3 |
LuminanceAdjustmentBlue | 0 |
LuminanceAdjustmentGreen | 0 |
LuminanceAdjustmentOrange | 0 |
LuminanceAdjustmentPurple | 0 |
LuminanceAdjustmentRed | 0 |
LuminanceAdjustmentYellow | 0 |
Make | Canon |
Megapixels | 1.2 |
MeteringMode | Multi-segment |
Model (1) | Canon EOS 5D Mark III |
ModifyDate | 2020:06:07 18:22:58 |
ParametricHighlights | 0 |
ParametricHighlightSplit | 75 |
ParametricMidtoneSplit | 50 |
ParametricShadowSplit | 25 |
PerspectiveAspect | 0 |
PerspectiveHorizontal | 0 |
PerspectiveScale | 100 |
PerspectiveVertical | 0 |
PerspectiveY | 0.00 |
PostCropVignetteAmount | 0 |
ProcessVersion | 6.7 |
ProfileDescription | sRGB IEC61966-2.1 |
Rating | 0 |
RawFileName | _MG_4444.CR2 |
RedSaturation | 0 |
Saturation | 0 |
SaturationAdjustmentBlue | 0 |
SaturationAdjustmentGreen | 0 |
SaturationAdjustmentPurple | 0 |
SaturationAdjustmentYellow | 0 |
ScaleFactor35efl | 4.4 |
SceneCaptureType | Standard |
SensitivityType | Recommended Exposure Index |
Shadows2012 | +21 |
ShadowTint | 0 |
SharpenEdgeMasking | 0 |
Sharpness | 106 |
ShutterSpeedValue | 1/320 |
SplitToningHighlightHue | 0 |
SplitToningShadowSaturation | 0 |
Tint | +15 |
ToneCurveName | Medium Contrast |
ToneCurvePV2012 | 0, 0, 255, 255 |
ToneCurvePV2012Green | 0, 0, 255, 255 |
ToneCurvePV2012Red | 0, 0, 255, 255 |
ToneMapStrength | 0 |
WhiteBalance (1) | Custom |
WhiteBalance | Auto |