Felt | Verdi |
AlreadyApplied | True |
Aperture | 14.0 |
ApertureValue | 14.0 |
ApproximateFocusDistance | 2 |
Artist | CATO HANSEN |
AutoLateralCA | 1 |
BitsPerSample | 8 |
Blacks2012 | 0 |
BlueHue | 0 |
BlueSaturation | 0 |
By-line | CATO HANSEN |
CameraProfile | Adobe Standard |
CFAPattern | [Red,Green][Green,Blue] |
CircGradBasedCorrActive | true |
CircGradBasedCorrAmount | 1.000000 |
CircGradBasedCorrBrightness | 0.000000 |
CircGradBasedCorrClarity2012 (2) | 0.069440 |
CircGradBasedCorrClarity2012 | 0.000000 |
CircGradBasedCorrContrast2012 | 0.000000 |
CircGradBasedCorrCorrectionRangeMaskColorAmount | 0.500000 |
CircGradBasedCorrCorrectionRangeMaskDepthFeather | 0.500000 |
CircGradBasedCorrCorrectionRangeMaskDepthMax | 1.000000 |
CircGradBasedCorrCorrectionRangeMaskDepthMin | 0.000000 |
CircGradBasedCorrCorrectionRangeMaskLumFeather | 0.500000 |
CircGradBasedCorrCorrectionRangeMaskLumMax | 1.000000 |
CircGradBasedCorrCorrectionRangeMaskLumMin | 0.000000 |
CircGradBasedCorrCorrectionRangeMaskType | 0 |
CircGradBasedCorrCorrectionRangeMaskVersion | +2 |
CircGradBasedCorrDefringe | 0.000000 |
CircGradBasedCorrExposure2012 (5) | 0.139000 |
CircGradBasedCorrExposure2012 | 0.062500 |
CircGradBasedCorrHighlights2012 (2) | 0.166670 |
CircGradBasedCorrHighlights2012 | 0.000000 |
CircGradBasedCorrHue | 240.000000 |
CircGradBasedCorrLocalBlacks2012 | 0.000000 |
CircGradBasedCorrLocalDehaze | 0.000000 |
CircGradBasedCorrLocalTexture | 0.000000 |
CircGradBasedCorrLocalWhites2012 | 0.000000 |
CircGradBasedCorrLuminanceNoise | 0.000000 |
CircGradBasedCorrMaskAngle (1) | 0.242943 |
CircGradBasedCorrMaskAngle (2) | 6.586360 |
CircGradBasedCorrMaskAngle (3) | 2.500710 |
CircGradBasedCorrMaskAngle (4) | -4.957410 |
CircGradBasedCorrMaskAngle | 0.258087 |
CircGradBasedCorrMaskBottom (1) | 0.666462 |
CircGradBasedCorrMaskBottom (2) | 0.736663 |
CircGradBasedCorrMaskBottom (3) | 0.628924 |
CircGradBasedCorrMaskBottom (4) | 0.789637 |
CircGradBasedCorrMaskBottom (5) | 0.614210 |
CircGradBasedCorrMaskBottom (6) | 0.699347 |
CircGradBasedCorrMaskBottom (7) | 0.832077 |
CircGradBasedCorrMaskBottom (8) | 0.670203 |
CircGradBasedCorrMaskBottom | 0.945165 |
CircGradBasedCorrMaskFeather | +96 |
CircGradBasedCorrMaskFlipped | true |
CircGradBasedCorrMaskLeft (1) | 0.307511 |
CircGradBasedCorrMaskLeft (2) | 0.608781 |
CircGradBasedCorrMaskLeft (3) | 0.647046 |
CircGradBasedCorrMaskLeft (4) | 0.218904 |
CircGradBasedCorrMaskLeft (5) | 0.066278 |
CircGradBasedCorrMaskLeft (6) | 0.224027 |
CircGradBasedCorrMaskLeft (7) | 0.546731 |
CircGradBasedCorrMaskLeft (8) | 0.460126 |
CircGradBasedCorrMaskLeft | 0.266020 |
CircGradBasedCorrMaskMidpoint | +50 |
CircGradBasedCorrMaskRight (1) | 0.446416 |
CircGradBasedCorrMaskRight (2) | 0.766887 |
CircGradBasedCorrMaskRight (3) | 0.921644 |
CircGradBasedCorrMaskRight (4) | 0.323663 |
CircGradBasedCorrMaskRight (5) | 0.199328 |
CircGradBasedCorrMaskRight (6) | 0.612551 |
CircGradBasedCorrMaskRight (7) | 0.925770 |
CircGradBasedCorrMaskRight (8) | 0.846408 |
CircGradBasedCorrMaskRight | 0.649541 |
CircGradBasedCorrMaskRoundness | 0 |
CircGradBasedCorrMaskTop (1) | 0.558913 |
CircGradBasedCorrMaskTop (2) | 0.603194 |
CircGradBasedCorrMaskTop (3) | 0.507338 |
CircGradBasedCorrMaskTop (4) | 0.569556 |
CircGradBasedCorrMaskTop (5) | 0.474759 |
CircGradBasedCorrMaskTop (6) | 0.462500 |
CircGradBasedCorrMaskTop (7) | 0.601012 |
CircGradBasedCorrMaskTop (8) | 0.434723 |
CircGradBasedCorrMaskTop | 0.646481 |
CircGradBasedCorrMaskValue | 1.000000 |
CircGradBasedCorrMaskVersion | +2 |
CircGradBasedCorrMaskWhat | Mask/CircularGradient |
CircGradBasedCorrMoire | 0.000000 |
CircGradBasedCorrSaturation | 0.000000 |
CircGradBasedCorrShadows2012 (2) | 0.222220 |
CircGradBasedCorrShadows2012 | 0.000000 |
CircGradBasedCorrSharpness | 0.000000 |
CircGradBasedCorrTemperature | 0.000000 |
CircGradBasedCorrTint | 0.000000 |
CircGradBasedCorrWhat | Correction |
CircleOfConfusion | 0.030 mm |
Clarity2012 | +22 |
ColorComponents | 3 |
ColorNoiseReduction | 25 |
ColorNoiseReductionDetail | 50 |
ColorNoiseReductionSmoothness | 50 |
ColorSpace | Uncalibrated |
ColorTemperature | 13750 |
ColorTransform | YCbCr |
Contrast | Normal |
Contrast2012 | +13 |
ConvertToGrayscale | True |
Copyright | CATO HANSEN |
CopyrightNotice | CATO HANSEN |
CreateDate (1) | 2020:01:28 14:24:13.99 |
CreateDate | 2020:01:28 14:24:13 |
Creator | CATO HANSEN |
CreatorTool | Adobe Photoshop Lightroom Classic 9.1 (Windows) |
CropAngle | 0.258087 |
CropBottom | 0.95257 |
CropConstrainToWarp | 0 |
CropLeft | 0.021979 |
CropRight | 0.971238 |
CropTop | 0.144047 |
CustomRendered | Custom |
DateCreated (1) | 2020:01:28 |
DateCreated | 2020:01:28 14:24:13.99 |
DateTimeOriginal | 2020:01:28 14:24:13 |
Dehaze | +4 |
DigitalZoomRatio | 1 |
DistortionCorrectionAlreadyApplied | True |
DOF | inf (0.38 m - inf) |
Exposure2012 | +0.46 |
ExposureCompensation | -2/3 |
ExposureMode | Manual |
ExposureProgram | Manual |
ExposureTime | 82 |
Flash | Off, Did not fire |
FNumber | 14.0 |
FocalLength | 14.0 mm |
FocalLength35efl | 14.0 mm (35 mm equivalent: 14.0 mm) |
FocalLengthIn35mmFormat | 14 mm |
Format | image/jpeg |
FOV | 104.3 deg |
GainControl | None |
GrainAmount | 0 |
GrayMixerAqua | 0 |
GrayMixerBlue | 0 |
GrayMixerGreen | 0 |
GrayMixerMagenta | 0 |
GrayMixerOrange | 0 |
GrayMixerPurple | 0 |
GrayMixerRed | 0 |
GrayMixerYellow | 0 |
GreenHue | 0 |
GreenSaturation | 0 |
HasCrop | True |
HasExtendedXMP | A1847718BE7443F5B1692C0B3C2D2EA9 |
HasSettings | True |
Highlights2012 | +11 |
HyperfocalDistance | 0.47 m |
ImageHeight | 3940 |
ImageNumber | 146113 |
ImageSize | 7004x3940 |
ImageWidth | 7004 |
ISO | 64 |
Keywords | coast, landscape, lofoten, misc., nikon, sea, seascape, teleshoot, wideangle, winter |
LateralChromaticAberrationCorrectionAlreadyApplied | True |
Lens | 14.0-24.0 mm f/2.8 |
LensID (1) | 146 |
LensID | AF-S Zoom-Nikkor 14-24mm f/2.8G ED |
LensInfo | 14-24mm f/2.8 |
LensManualDistortionAmount | 0 |
LensModel | 14.0-24.0 mm f/2.8 |
LensProfileChromaticAberrationScale | 100 |
LensProfileDistortionScale | 100 |
LensProfileEnable | 1 |
LensProfileFilename | NIKON D3X (Nikon FX 14-24mm f2.8 G ED) - RAW.lcp |
LensProfileName | Adobe (Nikon AF-S NIKKOR 14-24mm f/2.8G ED) |
LensProfileSetup | LensDefaults |
LensProfileVignettingScale | 100 |
LightSource | Unknown |
LightValue | 1.9 |
LookAmount | 0.210000 |
LookCluster | Adobe |
LookGroup | B&W |
LookName | B&W 11 |
LookParametersClarity2012 | +18 |
LookParametersContrast2012 | +8 |
LookParametersConvertToGrayscale | True |
LookParametersHighlights2012 | -50 |
LookParametersLookTable | 62CE423BDCA099FE0B786CA01EB606B0 |
LookParametersProcessVersion | 11.0 |
LookParametersShadows2012 | +20 |
LookParametersToneCurvePV2012 | 0, 24, 17, 26, 34, 31, 51, 40, 68, 57, 85, 79, 102, 104, 119, 129, 136, 151, 153, 168, 170, 182, 187, 194, 204, 205, 221, 214, 238, 223, 255, 232 |
LookParametersToneCurvePV2012Blue | 0, 0, 255, 255 |
LookParametersToneCurvePV2012Green | 0, 0, 255, 255 |
LookParametersToneCurvePV2012Red | 0, 0, 255, 255 |
LookParametersVersion | 12.1 |
LookSortName | B&W 11 |
LookSupportsMonochrome | false |
LuminanceSmoothing | 0 |
Make | NIKON CORPORATION |
MaxApertureValue | 2.8 |
Megapixels | 27.6 |
MeteringMode | Multi-segment |
Model | NIKON D810 |
ModifyDate (1) | 2020:01:28 20:08:35+01:00 |
ModifyDate | 2020:01:28 20:08:35 |
OverrideLookVignette | False |
PaintCorrectionActive | true |
PaintCorrectionAmount | 1.000000 |
PaintCorrectionBrightness | 0.000000 |
PaintCorrectionClarity2012 (1) | 0.166670 |
PaintCorrectionClarity2012 | 0.000000 |
PaintCorrectionContrast2012 | 0.000000 |
PaintCorrectionCorrectionRangeMaskColorAmount | 0.500000 |
PaintCorrectionCorrectionRangeMaskDepthFeather | 0.500000 |
PaintCorrectionCorrectionRangeMaskDepthMax | 1.000000 |
PaintCorrectionCorrectionRangeMaskDepthMin | 0.000000 |
PaintCorrectionCorrectionRangeMaskLumFeather | 0.500000 |
PaintCorrectionCorrectionRangeMaskLumMax | 1.000000 |
PaintCorrectionCorrectionRangeMaskLumMin | 0.000000 |
PaintCorrectionCorrectionRangeMaskType | 0 |
PaintCorrectionCorrectionRangeMaskVersion | +2 |
PaintCorrectionDefringe | 0.000000 |
PaintCorrectionExposure2012 (3) | -0.069500 |
PaintCorrectionExposure2012 (4) | 0.000000 |
PaintCorrectionExposure2012 | 0.083250 |
PaintCorrectionHighlights2012 (1) | 0.111110 |
PaintCorrectionHighlights2012 (2) | 0.000000 |
PaintCorrectionHighlights2012 (3) | -0.222220 |
PaintCorrectionHighlights2012 (4) | 0.208330 |
PaintCorrectionHighlights2012 | 0.138890 |
PaintCorrectionHue | 240.000000 |
PaintCorrectionLocalBlacks2012 | 0.000000 |
PaintCorrectionLocalDehaze | 0.000000 |
PaintCorrectionLocalTexture (4) | 0.000000 |
PaintCorrectionLocalTexture | 0.111110 |
PaintCorrectionLocalWhites2012 (1) | 0.250000 |
PaintCorrectionLocalWhites2012 (3) | 0.152780 |
PaintCorrectionLocalWhites2012 | 0.000000 |
PaintCorrectionLuminanceNoise | 0.000000 |
PaintCorrectionMaskCenterWeight (7) | 0.000000 |
PaintCorrectionMaskCenterWeight | 0.001925 |
PaintCorrectionMaskFlow (4) | 0.559000 |
PaintCorrectionMaskFlow | 0.328000 |
PaintCorrectionMaskRadius (1) | 0.037420 |
PaintCorrectionMaskRadius (10) | 0.097948 |
PaintCorrectionMaskRadius (11) | 0.100525 |
PaintCorrectionMaskRadius (12) | 0.098387 |
PaintCorrectionMaskRadius (13) | 0.046785 |
PaintCorrectionMaskRadius (14) | 0.046926 |
PaintCorrectionMaskRadius (15) | 0.048969 |
PaintCorrectionMaskRadius (16) | 0.050073 |
PaintCorrectionMaskRadius (17) | 0.019386 |
PaintCorrectionMaskRadius (18) | 0.023282 |
PaintCorrectionMaskRadius (19) | 0.023401 |
PaintCorrectionMaskRadius (2) | 0.025320 |
PaintCorrectionMaskRadius (20) | 0.024799 |
PaintCorrectionMaskRadius (21) | 0.025133 |
PaintCorrectionMaskRadius (3) | 0.025176 |
PaintCorrectionMaskRadius (4) | 0.025516 |
PaintCorrectionMaskRadius (5) | 0.024740 |
PaintCorrectionMaskRadius (6) | 0.036541 |
PaintCorrectionMaskRadius (7) | 0.054682 |
PaintCorrectionMaskRadius (8) | 0.056366 |
PaintCorrectionMaskRadius (9) | 0.082215 |
PaintCorrectionMaskRadius | 0.023450 |
PaintCorrectionMaskValue (9) | 0.596000 |
PaintCorrectionMaskValue | 0.496000 |
PaintCorrectionMaskWhat | Mask/Paint |
PaintCorrectionMoire | 0.000000 |
PaintCorrectionSaturation | 0.000000 |
PaintCorrectionShadows2012 (1) | 0.208330 |
PaintCorrectionShadows2012 (2) | 0.000000 |
PaintCorrectionShadows2012 (3) | -0.250000 |
PaintCorrectionShadows2012 (4) | 0.069440 |
PaintCorrectionShadows2012 | 0.236110 |
PaintCorrectionSharpness (1) | 0.291670 |
PaintCorrectionSharpness | 0.000000 |
PaintCorrectionTemperature | 0.000000 |
PaintCorrectionTint | 0.000000 |
PaintCorrectionWhat | Correction |
ParametricDarks | 0 |
ParametricHighlights | 0 |
ParametricHighlightSplit | 75 |
ParametricLights | 0 |
ParametricMidtoneSplit | 50 |
ParametricShadows | 0 |
ParametricShadowSplit | 25 |
PerspectiveAspect | 0 |
PerspectiveHorizontal | 0 |
PerspectiveRotate | 0.0 |
PerspectiveScale | 100 |
PerspectiveUpright | 0 |
PerspectiveVertical | 0 |
PerspectiveX | 0.00 |
PerspectiveY | 0.00 |
PostCropVignetteAmount | 0 |
PreservedFileName | _CHA7142.NEF |
ProcessVersion | 11.0 |
ProfileDescription | Adobe RGB (1998) |
Rating | 5 |
RawFileName | _CHA7142.NEF |
RedHue | 0 |
RedSaturation | 0 |
Rights | CATO HANSEN |
Saturation | Normal |
ScaleFactor35efl | 1.0 |
SceneCaptureType | Standard |
SceneType | Directly photographed |
SensingMethod | One-chip color area |
SensitivityType | Recommended Exposure Index |
SerialNumber | 6013221 |
Shadows2012 | +29 |
ShadowTint | 0 |
SharpenDetail | 25 |
SharpenEdgeMasking | 0 |
SharpenRadius | +1.0 |
Sharpness (1) | 40 |
Sharpness | Normal |
ShutterSpeed | 82 |
ShutterSpeedValue | 82 |
Software | Adobe Photoshop Lightroom Classic 9.1 (Windows) |
SplitToningBalance | 0 |
SplitToningHighlightHue | 0 |
SplitToningHighlightSaturation | 0 |
SplitToningShadowHue | 0 |
SplitToningShadowSaturation | 0 |
Subject | coast, landscape, lofoten, misc., nikon, sea, seascape, teleshoot, wideangle, winter |
SubjectDistanceRange | Unknown |
Texture | +13 |
Tint | +5 |
ToneCurve | 0, 0, 255, 255 |
ToneCurveBlue | 0, 0, 255, 255 |
ToneCurveGreen | 0, 0, 255, 255 |
ToneCurveName | Linear |
ToneCurveName2012 | Linear |
ToneCurvePV2012 | 0, 0, 255, 255 |
ToneCurvePV2012Blue | 0, 0, 255, 255 |
ToneCurvePV2012Green | 0, 0, 255, 255 |
ToneCurvePV2012Red | 0, 0, 255, 255 |
ToneCurveRed | 0, 0, 255, 255 |
ToneMapStrength | 0 |
Version | 12.1 |
VignetteAmount | 0 |
VignetteCorrectionAlreadyApplied | True |
WhiteBalance (1) | Custom |
WhiteBalance | Auto |
Whites2012 | +25 |