Felt | Verdi |
2019-10-24T18:44:03+02:00 File _20191017-6X6A55680BEBE7AED834368919B9AF6D22A154D7.psb saved
2019-10-24T18:51:18+02:00 File 20191017-6X6A5568-Edit.psd saved
2019-10-24T19:00:07+02:00 File 20191017-6X6A5568-Edit.psd opened
2019-10-24T19:10:07+02:00 File _20191017-6X6A5568-Edit02A85116273712D0C0BAC1BD0ABDF666.psb saved
2019-10-24T19:20:20+02:00 File _20191017-6X6A5568-Edit02A85116273712D0C0BAC1BD0ABDF666.psb saved
2019-10-24T19:25:19+02:00 File 20191017-6X6A5568-Edit-Edit.psd saved
2019-10-24T19:28:25+02:00 File bro.psd saved
2019-10-24T19:30:20+02:00 File _bro34E9267431416E57F4D4E72CEE6F39CA.psb saved
2019-10-24T19:31:40+02:00 File bro.psd saved
2020-01-24T11:13:49+01:00 File bro.psd opened
2020-01-24T11:14:39+01:00 File bro.jpg saved
AlreadyApplied | True |
Aperture | 16.0 |
ApertureValue | 16.0 |
ApproximateFocusDistance | 204 |
Artist | OYVIND LUDVIGSEN |
AutoLateralCA | 1 |
BitsPerSample | 8 |
Blacks2012 | 0 |
BlueHue | 0 |
BlueSaturation | 0 |
By-line | OYVIND LUDVIGSEN |
CameraProfile | Embedded |
CircleOfConfusion | 0.022 mm |
Clarity2012 | +10 |
ColorComponents | 3 |
ColorMode | RGB |
ColorNoiseReduction | 0 |
ColorSpace | Uncalibrated |
ColorTransform | YCbCr |
Contrast2012 | 0 |
ConvertToGrayscale | False |
CreateDate | 2019:10:17 16:08:55 |
Creator | OYVIND LUDVIGSEN |
CreatorTool | Adobe Photoshop CC 2019 (Macintosh) |
CropAngle | 0.325195 |
CropBottom | 1 |
CropConstrainToWarp | 0 |
CropLeft | 0.006097 |
CropRight | 0.993903 |
CropTop | 0 |
CustomRendered | Normal |
DateCreated (1) | 2019:10:17 |
DateCreated | 2019:10:17 16:08:55.096+01:00 |
DateTimeOriginal | 2019:10:17 16:08:55 |
DefringeGreenAmount | 0 |
DefringeGreenHueHi | 60 |
DefringeGreenHueLo | 40 |
DefringePurpleAmount | 0 |
DefringePurpleHueHi | 70 |
DefringePurpleHueLo | 30 |
Dehaze | +1 |
DistortionCorrectionAlreadyApplied | True |
DOF | inf (6.77 m - inf) |
ExifImageHeight | 4238 |
ExifImageWidth | 4248 |
Exposure2012 | 0.00 |
ExposureCompensation | 0 |
ExposureMode | Auto |
ExposureProgram | Bulb |
ExposureTime | 164 |
Firmware | 1.1.2 |
Flash | Off, Did not fire |
FlashCompensation | 0 |
FNumber | 16.0 |
FocalLength | 50.0 mm |
FocalLength35efl | 50.0 mm (35 mm equivalent: 67.3 mm) |
Format | image/jpeg |
FOV | 29.9 deg |
GrainAmount | 0 |
GreenHue | 0 |
GreenSaturation | 0 |
HasCrop | True |
HasSettings | True |
Highlights2012 | 0 |
HueAdjustmentAqua | 0 |
HueAdjustmentBlue | 0 |
HueAdjustmentGreen | 0 |
HueAdjustmentMagenta | 0 |
HueAdjustmentOrange | 0 |
HueAdjustmentPurple | 0 |
HueAdjustmentRed | 0 |
HueAdjustmentYellow | 0 |
HyperfocalDistance | 7.00 m |
ICCProfileName | Adobe RGB (1998) |
ImageHeight | 4238 |
ImageNumber | 0 |
ImageSize | 4248x4238 |
ImageWidth | 4248 |
IncrementalTemperature | -20 |
IncrementalTint | -13 |
ISO | 100 |
Label | |
LateralChromaticAberrationCorrectionAlreadyApplied | True |
Lens | EF24-70mm f/2.8L II USM |
LensID (1) | 495 |
LensID | Canon EF 24-70mm f/2.8L II USM |
LensInfo | 24-70mm f/? |
LensManualDistortionAmount | 0 |
LensModel | EF24-70mm f/2.8L II USM |
LensProfileChromaticAberrationScale | 100 |
LensProfileDistortionScale | 100 |
LensProfileEnable | 1 |
LensProfileFilename | Canon EOS-1Ds Mark III (Canon EF 24-70mm f2.8 L USM).lcp |
LensProfileName | Adobe (Canon EF 24-70mm f/2.8 L USM) |
LensProfileSetup | Custom |
LensProfileVignettingScale | 100 |
LensSerialNumber | 5465001707 |
LightValue | 0.6 |
LuminanceAdjustmentAqua | -100 |
LuminanceAdjustmentBlue | -100 |
LuminanceAdjustmentGreen | 0 |
LuminanceAdjustmentMagenta | 0 |
LuminanceAdjustmentOrange | 0 |
LuminanceAdjustmentPurple | 0 |
LuminanceAdjustmentRed | 0 |
LuminanceAdjustmentYellow | 0 |
LuminanceSmoothing | 0 |
Make | Canon |
MaxApertureValue | 2.8 |
Megapixels | 18.0 |
MeteringMode | Multi-segment |
Model | Canon EOS 5D Mark IV |
ModifyDate (1) | 2020:01:24 11:14:39+01:00 |
ModifyDate | 2020:01:24 11:14:39 |
Orientation | Horizontal (normal) |
OverrideLookVignette | False |
ParametricDarks | 0 |
ParametricHighlights | 0 |
ParametricHighlightSplit | 75 |
ParametricLights | 0 |
ParametricMidtoneSplit | 50 |
ParametricShadows | 0 |
ParametricShadowSplit | 25 |
PerspectiveAspect | 0 |
PerspectiveHorizontal | 0 |
PerspectiveRotate | 0.0 |
PerspectiveScale | 100 |
PerspectiveUpright | 0 |
PerspectiveVertical | 0 |
PerspectiveX | 0.00 |
PerspectiveY | 0.00 |
PostCropVignetteAmount | 0 |
PreservedFileName | 20191017-6X6A5568.CR2 |
ProcessVersion | 11.0 |
ProfileDescription | Adobe RGB (1998) |
Rating | 0 |
RawFileName | 20191017-6X6A5568-Edit.psd |
RecommendedExposureIndex | 100 |
RedHue | 0 |
RedSaturation | 0 |
Saturation | -74 |
SaturationAdjustmentAqua | 0 |
SaturationAdjustmentBlue | 0 |
SaturationAdjustmentGreen | 0 |
SaturationAdjustmentMagenta | 0 |
SaturationAdjustmentOrange | 0 |
SaturationAdjustmentPurple | 0 |
SaturationAdjustmentRed | 0 |
SaturationAdjustmentYellow | 0 |
ScaleFactor35efl | 1.3 |
SceneCaptureType | Standard |
SensitivityType | Recommended Exposure Index |
SerialNumber | 103055002496 |
Shadows2012 | 0 |
ShadowTint | 0 |
SharpenDetail | 25 |
SharpenEdgeMasking | 0 |
SharpenRadius | +1.0 |
Sharpness | 0 |
ShutterSpeed | 164 |
ShutterSpeedValue | 164 |
Software | Adobe Photoshop 21.0 (Macintosh) |
SplitToningBalance | 0 |
SplitToningHighlightHue | 32 |
SplitToningHighlightSaturation | 0 |
SplitToningShadowHue | 233 |
SplitToningShadowSaturation | 80 |
Texture | +21 |
ToneCurve | 0, 0, 255, 255 |
ToneCurveBlue | 0, 0, 255, 255 |
ToneCurveGreen | 0, 0, 255, 255 |
ToneCurveName | Linear |
ToneCurveName2012 | Medium Contrast |
ToneCurvePV2012 | 0, 0, 32, 22, 64, 56, 128, 128, 192, 196, 255, 255 |
ToneCurvePV2012Blue | 0, 0, 255, 255 |
ToneCurvePV2012Green | 0, 0, 255, 255 |
ToneCurvePV2012Red | 0, 0, 255, 255 |
ToneCurveRed | 0, 0, 255, 255 |
ToneMapStrength | 0 |
URL_List | |
Version | 11.4.1 |
Vibrance | +100 |
VignetteAmount | 0 |
VignetteCorrectionAlreadyApplied | True |
WhiteBalance (1) | Custom |
WhiteBalance | Auto |
Whites2012 | 0 |