Felt | Verdi |
AlreadyApplied | True |
Aperture | 7.1 |
ApertureValue | 7.1 |
ApproximateFocusDistance | 4294967295 |
Artist | Igor Kostin |
AutoLateralCA | 0 |
BitsPerSample | 8 |
Blacks2012 | 0 |
BlueHue | 0 |
BlueSaturation | 0 |
By-line | Igor Kostin |
CameraProfile | Embedded |
CircleOfConfusion | 0.009 mm |
Clarity2012 | 0 |
ColorComponents | 3 |
ColorNoiseReduction | 0 |
ColorSpace | sRGB |
ColorTransform | YCbCr |
Contrast2012 | 0 |
ConvertToGrayscale | False |
Copyright | All rights reserved |
CopyrightFlag | True |
CopyrightNotice | All rights reserved |
CreateDate (1) | 2019:03:19 19:15:22Z |
CreateDate | 2019:03:19 19:15:22 |
Creator | Igor Kostin |
CreatorTool | Adobe Photoshop Lightroom Classic 8.2 (Macintosh) |
CustomRendered | Normal |
DateCreated (1) | 2019:03:19 |
DateCreated | 2019:03:19 19:15:22Z |
DateTimeOriginal | 2019:03:19 19:15:22 |
DefringeGreenAmount | 0 |
DefringeGreenHueHi | 60 |
DefringeGreenHueLo | 40 |
DefringePurpleAmount | 0 |
DefringePurpleHueHi | 70 |
DefringePurpleHueLo | 30 |
Dehaze | 0 |
DistortionCorrectionAlreadyApplied | True |
DOF | inf (552.67 m - inf) |
Exposure2012 | 0.00 |
ExposureCompensation | 0 |
ExposureMode | Manual |
ExposureProgram | Manual |
ExposureTime | 1/200 |
Firmware | 1.0.0 |
Flash | No Flash |
FlashCompensation | 0 |
FNumber | 7.1 |
FocalLength | 190.0 mm |
FocalLength35efl | 190.0 mm (35 mm equivalent: 620.5 mm) |
Format | image/jpeg |
FOV | 3.3 deg |
GrainAmount | 0 |
GreenHue | 0 |
GreenSaturation | 0 |
HasCrop | False |
HasSettings | True |
Highlights2012 | 0 |
HueAdjustmentAqua | 0 |
HueAdjustmentBlue | 0 |
HueAdjustmentGreen | 0 |
HueAdjustmentMagenta | 0 |
HueAdjustmentOrange | 0 |
HueAdjustmentPurple | 0 |
HueAdjustmentRed | 0 |
HueAdjustmentYellow | 0 |
HyperfocalDistance | 552.67 m |
ImageHeight | 1386 |
ImageNumber | 0 |
ImageSize | 2048x1386 |
ImageWidth | 2048 |
IncrementalTemperature | 0 |
IncrementalTint | 0 |
IsMergedPanorama | True |
ISO | 100 |
Keywords | 2019, @igorkostin74, BW, Bodø, CanonEOSR, Kvantoland, Landscape, Natur, Nordland, Norge, Norway, Sørfold, VisitNorway, avisanordland, bodoivinden, eyephotomagazine, light, nrknordland, photographyofnorway, travel, visitbodø |
LateralChromaticAberrationCorrectionAlreadyApplied | True |
Lens | EF28-300mm f/3.5-5.6L IS USM |
LensID (1) | 233 |
LensID | Canon EF 28-300mm f/3.5-5.6L IS USM |
LensInfo | 28-300mm f/? |
LensManualDistortionAmount | 0 |
LensModel | EF28-300mm f/3.5-5.6L IS USM |
LensProfileEnable | 0 |
LensProfileSetup | LensDefaults |
LensSerialNumber | 0000000000 |
LightValue | 13.3 |
LookName | |
LuminanceAdjustmentAqua | 0 |
LuminanceAdjustmentBlue | 0 |
LuminanceAdjustmentGreen | 0 |
LuminanceAdjustmentMagenta | 0 |
LuminanceAdjustmentOrange | 0 |
LuminanceAdjustmentPurple | 0 |
LuminanceAdjustmentRed | 0 |
LuminanceAdjustmentYellow | 0 |
LuminanceSmoothing | 0 |
Make | Canon |
Marked | True |
MaxApertureValue | 5.7 |
Megapixels | 2.8 |
MeteringMode | Spot |
Model | Canon EOS R |
ModifyDate (1) | 2019:03:26 17:16:41+01:00 |
ModifyDate | 2019:03:26 17:16:41 |
OverrideLookVignette | False |
PaintCorrectionActive | true |
PaintCorrectionAmount | 1.000000 |
PaintCorrectionBrightness | 0.000000 |
PaintCorrectionClarity2012 (1) | 0.183170 |
PaintCorrectionClarity2012 | 0.580384 |
PaintCorrectionContrast2012 | 0.000000 |
PaintCorrectionCorrectionRangeMaskColorAmount | 0.500000 |
PaintCorrectionCorrectionRangeMaskDepthFeather | 0.500000 |
PaintCorrectionCorrectionRangeMaskDepthMax | 1.000000 |
PaintCorrectionCorrectionRangeMaskDepthMin | 0.000000 |
PaintCorrectionCorrectionRangeMaskLumFeather | 0.500000 |
PaintCorrectionCorrectionRangeMaskLumMax | 1.000000 |
PaintCorrectionCorrectionRangeMaskLumMin | 0.000000 |
PaintCorrectionCorrectionRangeMaskType | 0 |
PaintCorrectionCorrectionRangeMaskVersion | +2 |
PaintCorrectionDefringe | 0.000000 |
PaintCorrectionExposure2012 | 0.000000 |
PaintCorrectionHighlights2012 | 0.000000 |
PaintCorrectionHue | 0.000000 |
PaintCorrectionLocalBlacks2012 | 0.000000 |
PaintCorrectionLocalDehaze | 0.000000 |
PaintCorrectionLocalWhites2012 | 0.000000 |
PaintCorrectionLuminanceNoise | 0.000000 |
PaintCorrectionMaskCenterWeight | 0.118582 |
PaintCorrectionMaskFlow (1) | 0.547183 |
PaintCorrectionMaskFlow (10) | 0.132140 |
PaintCorrectionMaskFlow (11) | 0.763360 |
PaintCorrectionMaskFlow (12) | 0.068832 |
PaintCorrectionMaskFlow (13) | 0.811602 |
PaintCorrectionMaskFlow (14) | 0.816930 |
PaintCorrectionMaskFlow (15) | 0.723761 |
PaintCorrectionMaskFlow (16) | 0.812502 |
PaintCorrectionMaskFlow (17) | 0.753301 |
PaintCorrectionMaskFlow (18) | 0.533893 |
PaintCorrectionMaskFlow (19) | 0.408103 |
PaintCorrectionMaskFlow (2) | 0.590482 |
PaintCorrectionMaskFlow (20) | 0.682821 |
PaintCorrectionMaskFlow (21) | 0.559141 |
PaintCorrectionMaskFlow (22) | 0.625122 |
PaintCorrectionMaskFlow (23) | 0.012556 |
PaintCorrectionMaskFlow (24) | 0.623110 |
PaintCorrectionMaskFlow (25) | 0.718306 |
PaintCorrectionMaskFlow (26) | 0.701202 |
PaintCorrectionMaskFlow (27) | 0.785563 |
PaintCorrectionMaskFlow (28) | 0.816134 |
PaintCorrectionMaskFlow (29) | 0.760102 |
PaintCorrectionMaskFlow (3) | 0.623715 |
PaintCorrectionMaskFlow (30) | 0.564943 |
PaintCorrectionMaskFlow (31) | 0.705678 |
PaintCorrectionMaskFlow (32) | 0.641427 |
PaintCorrectionMaskFlow (33) | 0.774847 |
PaintCorrectionMaskFlow (34) | 0.393698 |
PaintCorrectionMaskFlow (4) | 0.288403 |
PaintCorrectionMaskFlow (5) | 0.173177 |
PaintCorrectionMaskFlow (6) | 0.792764 |
PaintCorrectionMaskFlow (7) | 0.634952 |
PaintCorrectionMaskFlow (8) | 0.687984 |
PaintCorrectionMaskFlow (9) | 0.062760 |
PaintCorrectionMaskFlow | 0.552181 |
PaintCorrectionMaskRadius | 0.034179 |
PaintCorrectionMaskValue | 1.000000 |
PaintCorrectionMaskWhat | Mask/Paint |
PaintCorrectionMoire | 0.000000 |
PaintCorrectionSaturation | 0.000000 |
PaintCorrectionShadows2012 | 0.000000 |
PaintCorrectionSharpness (1) | 0.347233 |
PaintCorrectionSharpness | 0.000000 |
PaintCorrectionTemperature | 0.000000 |
PaintCorrectionTint | 0.000000 |
PaintCorrectionWhat | Correction |
ParametricDarks | 0 |
ParametricHighlights | 0 |
ParametricHighlightSplit | 75 |
ParametricLights | 0 |
ParametricMidtoneSplit | 50 |
ParametricShadows | 0 |
ParametricShadowSplit | 25 |
PerspectiveAspect | 0 |
PerspectiveHorizontal | 0 |
PerspectiveRotate | 0.0 |
PerspectiveScale | 100 |
PerspectiveUpright | 0 |
PerspectiveVertical | 0 |
PerspectiveX | 0.00 |
PerspectiveY | 0.00 |
PostCropVignetteAmount | 0 |
ProcessVersion | 11.0 |
ProfileDescription | sRGB IEC61966-2.1 |
Rating | 5 |
RawFileName | |
RecommendedExposureIndex | 100 |
RedHue | 0 |
RedSaturation | 0 |
Rights | All rights reserved |
Saturation | 0 |
SaturationAdjustmentAqua | 0 |
SaturationAdjustmentBlue | 0 |
SaturationAdjustmentGreen | 0 |
SaturationAdjustmentMagenta | 0 |
SaturationAdjustmentOrange | 0 |
SaturationAdjustmentPurple | 0 |
SaturationAdjustmentRed | 0 |
SaturationAdjustmentYellow | 0 |
ScaleFactor35efl | 3.3 |
SceneCaptureType | Standard |
SensitivityType | Recommended Exposure Index |
SerialNumber | 032021005303 |
Shadows2012 | 0 |
ShadowTint | 0 |
SharpenDetail | 25 |
SharpenEdgeMasking | 0 |
SharpenRadius | +1.0 |
Sharpness | 0 |
ShutterSpeed | 1/200 |
ShutterSpeedValue | 1/200 |
Software | Adobe Photoshop Lightroom Classic 8.2 (Macintosh) |
SplitToningBalance | 0 |
SplitToningHighlightHue | 0 |
SplitToningHighlightSaturation | 0 |
SplitToningShadowHue | 0 |
SplitToningShadowSaturation | 0 |
Subject | 2019, @igorkostin74, BW, Bodø, CanonEOSR, Kvantoland, Landscape, Natur, Nordland, Norge, Norway, Sørfold, VisitNorway, avisanordland, bodoivinden, eyephotomagazine, light, nrknordland, photographyofnorway, travel, visitbodø |
ToneCurve | 0, 0, 255, 255 |
ToneCurveBlue | 0, 0, 255, 255 |
ToneCurveGreen | 0, 0, 255, 255 |
ToneCurveName | Linear |
ToneCurveName2012 | Linear |
ToneCurvePV2012 | 0, 0, 255, 255 |
ToneCurvePV2012Blue | 0, 0, 255, 255 |
ToneCurvePV2012Green | 0, 0, 255, 255 |
ToneCurvePV2012Red | 0, 0, 255, 255 |
ToneCurveRed | 0, 0, 255, 255 |
ToneMapStrength | 0 |
Transformation | Perspective |
UsageTerms | Please contact |
Version | 11.2 |
Vibrance | 0 |
VignetteAmount | 0 |
VignetteCorrectionAlreadyApplied | True |
VirtualFocalLength | 3.861632 |
VirtualImageXCenter | 0.602531 |
VirtualImageYCenter | 0.380127 |
Virtualpaths | kywd:||Nordland|, kywd:||Bodø|, kywd:||2019|, kywd:||Norge|, kywd:||visitbodø|, kywd:||light|, kywd:||bodoivinden|, kywd:||Sørfold|, kywd:||CanonEOSR|, kywd:||BW|, kywd:||eyephotomagazine|, kywd:||Kvantoland|, kywd:||Landscape|, kywd:||travel|, kywd:||nrknordland|, kywd:||photographyofnorway|, kywd:||avisanordland|, kywd:||Norway|, kywd:||VisitNorway|, kywd:||Natur|, kywd:||@igorkostin74| |
WhiteBalance (1) | As Shot |
WhiteBalance | Auto |
Whites2012 | 0 |