Felt | Verdi |
AlreadyApplied | True |
Aperture | 4.2 |
ApertureValue | 4.2 |
ApproximateFocusDistance | 3.98 |
Artist | ODD ARNE LIEN |
AutoLateralCA | 0 |
BitsPerSample (1) | 8 8 8 |
BitsPerSample | 8 |
Blacks2012 | -27 |
BlueHue | 0 |
BlueSaturation | 0 |
By-line | ODD ARNE LIEN |
CameraProfile | Embedded |
CFAPattern | [Red,Green][Green,Blue] |
CircleOfConfusion | 0.030 mm |
Clarity2012 | +17 |
ColorComponents | 3 |
ColorMode | RGB |
ColorNoiseReduction | 25 |
ColorNoiseReductionDetail | 50 |
ColorNoiseReductionSmoothness | 50 |
ColorSpace | sRGB |
ColorTransform | YCbCr |
Contrast | Normal |
Contrast2012 | +21 |
ConvertToGrayscale | False |
Copyright | Odd Arne lien oddarnelien@gmail.com |
CopyrightNotice | Odd Arne lien oddarnelien@gmail.com |
CreateDate | 2018:09:14 07:22:21 |
Creator | ODD ARNE LIEN |
CreatorTool | Adobe Photoshop CC 2018 (Windows) |
CropAngle | 8.33191 |
CropBottom | 1 |
CropConstrainToWarp | 0 |
CropLeft | 0.122388 |
CropRight | 0.862284 |
CropTop | 0 |
CustomRendered | Normal |
DateCreated (1) | 2018:09:14 |
DateCreated | 2018:09:14 07:22:21.086 |
DateTimeOriginal | 2018:09:14 07:22:21 |
DefringeGreenAmount | 0 |
DefringeGreenHueHi | 60 |
DefringeGreenHueLo | 40 |
DefringePurpleAmount | 0 |
DefringePurpleHueHi | 70 |
DefringePurpleHueLo | 30 |
Dehaze | 0 |
DigitalZoomRatio | 1 |
DOF | 2.19 m (3.17 - 5.35 m) |
ExifImageHeight | 6850 |
ExifImageWidth | 6100 |
Exposure2012 | -0.24 |
ExposureCompensation | +1 |
ExposureMode | Auto |
ExposureProgram | Program AE |
ExposureTime | 1/200 |
Flash | Off, Did not fire |
FNumber | 4.2 |
FocalLength | 44.0 mm |
FocalLength35efl | 44.0 mm (35 mm equivalent: 44.0 mm) |
FocalLengthIn35mmFormat | 44 mm |
Format | image/jpeg |
FOV | 44.5 deg |
GainControl | None |
GrainAmount | 0 |
GreenHue | 0 |
GreenSaturation | 0 |
HasCrop | True |
HasSettings | True |
Highlights2012 | -68 |
HueAdjustmentAqua | 0 |
HueAdjustmentBlue | +16 |
HueAdjustmentGreen | +15 |
HueAdjustmentMagenta | +6 |
HueAdjustmentOrange | -17 |
HueAdjustmentPurple | -5 |
HueAdjustmentRed | 0 |
HueAdjustmentYellow | 0 |
HyperfocalDistance | 15.34 m |
ICCProfileName | sRGB IEC61966-2.1 |
ImageHeight (1) | 4071 |
ImageHeight | 6850 |
ImageNumber | 4862 |
ImageSize | 6100x6850 |
ImageWidth | 6100 |
IncrementalTemperature | +45 |
IncrementalTint | -18 |
ISO | 110 |
Lens | 28.0-300.0 mm f/3.5-5.6 |
LensID (1) | 165 |
LensID | AF-S Nikkor 28-300mm f/3.5-5.6G ED VR |
LensInfo | 28-300mm f/3.5-5.6 |
LensManualDistortionAmount | 0 |
LensModel | 28.0-300.0 mm f/3.5-5.6 |
LensProfileEnable | 0 |
LensProfileSetup | LensDefaults |
LightSource | Unknown |
LightValue | 11.6 |
LuminanceAdjustmentAqua | +14 |
LuminanceAdjustmentBlue | -18 |
LuminanceAdjustmentGreen | -9 |
LuminanceAdjustmentMagenta | 0 |
LuminanceAdjustmentOrange | -12 |
LuminanceAdjustmentPurple | 0 |
LuminanceAdjustmentRed | -5 |
LuminanceAdjustmentYellow | +15 |
LuminanceSmoothing | 0 |
Make | NIKON CORPORATION |
MaxApertureValue | 4.1 |
Megapixels | 41.8 |
MeteringMode | Multi-segment |
Model | NIKON D810 |
ModifyDate (1) | 2018:09:15 17:11:37+02:00 |
ModifyDate | 2018:09:15 17:11:37 |
Orientation | Horizontal (normal) |
OverrideLookVignette | False |
PaintCorrectionActive | true |
PaintCorrectionAmount | 1.000000 |
PaintCorrectionBrightness | 0.000000 |
PaintCorrectionClarity2012 (1) | 0.195650 |
PaintCorrectionClarity2012 | 0.304350 |
PaintCorrectionContrast2012 (1) | 0.152170 |
PaintCorrectionContrast2012 | 0.543480 |
PaintCorrectionCorrectionRangeMaskColorAmount | 0.500000 |
PaintCorrectionCorrectionRangeMaskLumFeather | 0.500000 |
PaintCorrectionCorrectionRangeMaskLumMax | 1.000000 |
PaintCorrectionCorrectionRangeMaskLumMin | 0.000000 |
PaintCorrectionCorrectionRangeMaskType | 0 |
PaintCorrectionCorrectionRangeMaskVersion | +2 |
PaintCorrectionDefringe | 0.000000 |
PaintCorrectionExposure2012 (1) | 0.065250 |
PaintCorrectionExposure2012 | -0.108750 |
PaintCorrectionHighlights2012 (1) | 0.000000 |
PaintCorrectionHighlights2012 | -0.630430 |
PaintCorrectionHue | 0.000000 |
PaintCorrectionLocalBlacks2012 (1) | -0.347830 |
PaintCorrectionLocalBlacks2012 | 0.000000 |
PaintCorrectionLocalDehaze | 0.000000 |
PaintCorrectionLocalWhites2012 (1) | 0.260870 |
PaintCorrectionLocalWhites2012 | 0.000000 |
PaintCorrectionLuminanceNoise | 0.000000 |
PaintCorrectionMaskCenterWeight (1) | 0.084084 |
PaintCorrectionMaskCenterWeight | 0.107576 |
PaintCorrectionMaskFlow | 1.000000 |
PaintCorrectionMaskRadius (13) | 0.062786 |
PaintCorrectionMaskRadius | 0.039927 |
PaintCorrectionMaskValue (14) | 1.000000 |
PaintCorrectionMaskValue | 0.000000 |
PaintCorrectionMaskWhat | Mask/Paint |
PaintCorrectionMoire | 0.000000 |
PaintCorrectionSaturation | 0.000000 |
PaintCorrectionShadows2012 (1) | 0.000000 |
PaintCorrectionShadows2012 | -0.108700 |
PaintCorrectionSharpness (1) | 0.282610 |
PaintCorrectionSharpness | 0.000000 |
PaintCorrectionTemperature (1) | -0.021740 |
PaintCorrectionTemperature | 0.021740 |
PaintCorrectionTint (1) | 0.000000 |
PaintCorrectionTint | 0.413040 |
PaintCorrectionWhat | Correction |
ParametricDarks | 0 |
ParametricHighlights | 0 |
ParametricHighlightSplit | 75 |
ParametricLights | 0 |
ParametricMidtoneSplit | 50 |
ParametricShadows | 0 |
ParametricShadowSplit | 25 |
PerspectiveAspect | 0 |
PerspectiveHorizontal | 0 |
PerspectiveRotate | 0.0 |
PerspectiveScale | 100 |
PerspectiveUpright | 0 |
PerspectiveVertical | 0 |
PerspectiveX | 0.00 |
PerspectiveY | 0.00 |
PhotometricInterpretation | RGB |
PostCropVignetteAmount | 0 |
ProcessVersion | 10.0 |
ProfileDescription | sRGB IEC61966-2.1 |
RawFileName | |
RedHue | 0 |
RedSaturation | 0 |
Rights | Odd Arne lien oddarnelien@gmail.com |
SamplesPerPixel | 3 |
Saturation (1) | -20 |
Saturation | Normal |
SaturationAdjustmentAqua | -16 |
SaturationAdjustmentBlue | -6 |
SaturationAdjustmentGreen | -52 |
SaturationAdjustmentMagenta | -49 |
SaturationAdjustmentOrange | +2 |
SaturationAdjustmentPurple | -47 |
SaturationAdjustmentRed | -4 |
SaturationAdjustmentYellow | -51 |
ScaleFactor35efl | 1.0 |
SceneCaptureType | Standard |
SceneType | Directly photographed |
SensingMethod | One-chip color area |
SensitivityType | Recommended Exposure Index |
SerialNumber | 6022878 |
Shadows2012 | +54 |
ShadowTint | 0 |
SharpenDetail | 25 |
SharpenEdgeMasking | 0 |
SharpenRadius | +1.0 |
Sharpness (1) | 25 |
Sharpness | Normal |
ShutterSpeed | 1/200 |
ShutterSpeedValue | 1/200 |
Software | Adobe Photoshop CC 2018 (Windows) |
SplitToningBalance | 0 |
SplitToningHighlightHue | 0 |
SplitToningHighlightSaturation | 0 |
SplitToningShadowHue | 0 |
SplitToningShadowSaturation | 0 |
SubjectDistanceRange | Unknown |
ToneCurve | 0, 0, 255, 255 |
ToneCurveBlue | 0, 0, 255, 255 |
ToneCurveGreen | 0, 0, 255, 255 |
ToneCurveName | Linear |
ToneCurveName2012 | Custom |
ToneCurvePV2012 | 0, 11, 52, 56, 119, 124, 255, 250 |
ToneCurvePV2012Blue | 0, 4, 41, 47, 88, 84, 126, 134, 169, 182, 255, 253 |
ToneCurvePV2012Green | 0, 10, 57, 50, 124, 129, 173, 195, 255, 253 |
ToneCurvePV2012Red | 13, 0, 73, 56, 121, 118, 170, 191, 255, 253 |
ToneCurveRed | 0, 0, 255, 255 |
ToneMapStrength | 0 |
URL_List | |
Version | 10.5 |
Vibrance | 0 |
VignetteAmount | 0 |
WhiteBalance (1) | Custom |
WhiteBalance | Auto |
Whites2012 | -79 |