Felt | Verdi |
AlreadyApplied | True |
AltTimecodeTimeFormat | 29.97 fps (non-drop) |
AltTimecodeTimeValue | 00:01:15:02 |
AutoLateralCA | 0 |
BitsPerSample | 8 |
Blacks2012 | -27 |
BlueHue | 0 |
BlueSaturation | 0 |
CameraProfile | Embedded |
Clarity2012 | +17 |
ColorComponents | 3 |
ColorMode | RGB |
ColorNoiseReduction | 25 |
ColorNoiseReductionDetail | 50 |
ColorNoiseReductionSmoothness | 50 |
ColorSpace | Uncalibrated |
ColorTransform | YCbCr |
Contrast2012 | +21 |
ConvertToGrayscale | False |
CreateDate | 2018:09:28 22:34:01 |
CropAngle | 0 |
CropBottom | 1 |
CropConstrainToWarp | 0 |
CropLeft | 0 |
CropRight | 1 |
CropTop | 0 |
DefringeGreenAmount | 0 |
DefringeGreenHueHi | 60 |
DefringeGreenHueLo | 40 |
DefringePurpleAmount | 0 |
DefringePurpleHueHi | 70 |
DefringePurpleHueLo | 30 |
Dehaze | 0 |
DurationScale | 0.0333666666666667 |
DurationValue | 4303 |
ExifImageHeight | 3000 |
ExifImageWidth | 4000 |
Exposure2012 | +0.15 |
Format | image/jpeg |
GradientBasedCorrActive | true |
GradientBasedCorrAmount | 1.000000 |
GradientBasedCorrBrightness | 0.000000 |
GradientBasedCorrClarity | 0.000000 |
GradientBasedCorrClarity2012 | 0.326090 |
GradientBasedCorrContrast | 0.000000 |
GradientBasedCorrContrast2012 | 0.195650 |
GradientBasedCorrCorrectionRangeMaskColorAmount | 0.500000 |
GradientBasedCorrCorrectionRangeMaskLumFeather | 0.500000 |
GradientBasedCorrCorrectionRangeMaskLumMax | 1.000000 |
GradientBasedCorrCorrectionRangeMaskLumMin | 0.000000 |
GradientBasedCorrCorrectionRangeMaskType | 0 |
GradientBasedCorrCorrectionRangeMaskVersion | +2 |
GradientBasedCorrDefringe | 0.000000 |
GradientBasedCorrExposure | 0.000000 |
GradientBasedCorrExposure2012 | -0.260750 |
GradientBasedCorrHighlights2012 | 0.000000 |
GradientBasedCorrHue | 0.000000 |
GradientBasedCorrLocalBlacks2012 | -0.130430 |
GradientBasedCorrLocalDehaze | 0.000000 |
GradientBasedCorrLocalWhites2012 | -0.043480 |
GradientBasedCorrLuminanceNoise | 0.000000 |
GradientBasedCorrMaskFullX | 0.479870 |
GradientBasedCorrMaskFullY | 0.323888 |
GradientBasedCorrMaskValue | 1.000000 |
GradientBasedCorrMaskWhat | Mask/Gradient |
GradientBasedCorrMaskZeroX | 0.453095 |
GradientBasedCorrMaskZeroY | 0.590019 |
GradientBasedCorrMoire | 0.000000 |
GradientBasedCorrSaturation (1) | 0.282610 |
GradientBasedCorrSaturation | 0.000000 |
GradientBasedCorrShadows2012 | -0.043480 |
GradientBasedCorrSharpness | 0.869570 |
GradientBasedCorrTemperature | 0.543480 |
GradientBasedCorrTint | 0.913040 |
GradientBasedCorrWhat | Correction |
GrainAmount | 0 |
GreenHue | 0 |
GreenSaturation | 0 |
HasCrop | True |
HasSettings | True |
Highlights2012 | -68 |
HueAdjustmentAqua | 0 |
HueAdjustmentBlue | +16 |
HueAdjustmentGreen | +15 |
HueAdjustmentMagenta | +6 |
HueAdjustmentOrange | -17 |
HueAdjustmentPurple | -5 |
HueAdjustmentRed | 0 |
HueAdjustmentYellow | 0 |
ICCProfileName | ProPhoto RGB |
ImageHeight | 3000 |
ImageSize | 4000x3000 |
ImageWidth | 4000 |
IncrementalTemperature | +45 |
IncrementalTint | -18 |
Label | |
LensManualDistortionAmount | 0 |
LensProfileEnable | 0 |
LensProfileSetup | LensDefaults |
LookName | |
LuminanceAdjustmentAqua | +14 |
LuminanceAdjustmentBlue | -18 |
LuminanceAdjustmentGreen | -9 |
LuminanceAdjustmentMagenta | 0 |
LuminanceAdjustmentOrange | -12 |
LuminanceAdjustmentPurple | 0 |
LuminanceAdjustmentRed | -5 |
LuminanceAdjustmentYellow | +15 |
LuminanceSmoothing | 0 |
Megapixels | 12.0 |
ModifyDate (1) | 2018:09:28 22:56:31+02:00 |
ModifyDate | 2018:09:28 22:56:31 |
Orientation | Horizontal (normal) |
OverrideLookVignette | False |
PaintCorrectionActive | true |
PaintCorrectionAmount | 1.000000 |
PaintCorrectionBrightness | 0.000000 |
PaintCorrectionClarity | 0.000000 |
PaintCorrectionClarity2012 (2) | 0.173910 |
PaintCorrectionClarity2012 | 0.000000 |
PaintCorrectionContrast | 0.000000 |
PaintCorrectionContrast2012 (1) | 0.565220 |
PaintCorrectionContrast2012 (2) | 0.391300 |
PaintCorrectionContrast2012 | 0.000000 |
PaintCorrectionCorrectionRangeMaskColorAmount | 0.500000 |
PaintCorrectionCorrectionRangeMaskLumFeather | 0.500000 |
PaintCorrectionCorrectionRangeMaskLumMax | 1.000000 |
PaintCorrectionCorrectionRangeMaskLumMin | 0.000000 |
PaintCorrectionCorrectionRangeMaskType | 0 |
PaintCorrectionCorrectionRangeMaskVersion | +2 |
PaintCorrectionDefringe | 0.000000 |
PaintCorrectionExposure | 0.000000 |
PaintCorrectionExposure2012 (1) | -0.260750 |
PaintCorrectionExposure2012 (2) | -0.065250 |
PaintCorrectionExposure2012 | 0.326000 |
PaintCorrectionHighlights2012 (1) | 0.108700 |
PaintCorrectionHighlights2012 (2) | 0.195650 |
PaintCorrectionHighlights2012 | 0.000000 |
PaintCorrectionHue | 0.000000 |
PaintCorrectionLocalBlacks2012 (1) | -0.130430 |
PaintCorrectionLocalBlacks2012 (2) | 0.000000 |
PaintCorrectionLocalBlacks2012 | -0.500000 |
PaintCorrectionLocalDehaze | 0.000000 |
PaintCorrectionLocalWhites2012 (1) | 0.173910 |
PaintCorrectionLocalWhites2012 (2) | 0.000000 |
PaintCorrectionLocalWhites2012 | 0.065220 |
PaintCorrectionLuminanceNoise | 0.000000 |
PaintCorrectionMaskCenterWeight | 0.000000 |
PaintCorrectionMaskFlow (17) | 0.821000 |
PaintCorrectionMaskFlow | 1.000000 |
PaintCorrectionMaskRadius (1) | 0.047541 |
PaintCorrectionMaskRadius (12) | 0.009908 |
PaintCorrectionMaskRadius (4) | 0.017153 |
PaintCorrectionMaskRadius (8) | 0.063580 |
PaintCorrectionMaskRadius | 0.097345 |
PaintCorrectionMaskValue (12) | 0.000000 |
PaintCorrectionMaskValue | 1.000000 |
PaintCorrectionMaskWhat | Mask/Paint |
PaintCorrectionMoire | 0.000000 |
PaintCorrectionSaturation | 0.000000 |
PaintCorrectionShadows2012 (1) | -0.021740 |
PaintCorrectionShadows2012 (2) | 0.108700 |
PaintCorrectionShadows2012 | 0.000000 |
PaintCorrectionSharpness (1) | 1.000000 |
PaintCorrectionSharpness (2) | 0.869570 |
PaintCorrectionSharpness | 0.000000 |
PaintCorrectionTemperature (2) | 0.173910 |
PaintCorrectionTemperature | 0.000000 |
PaintCorrectionTint | 0.000000 |
PaintCorrectionWhat | Correction |
ParametricDarks | 0 |
ParametricHighlights | 0 |
ParametricHighlightSplit | 75 |
ParametricLights | 0 |
ParametricMidtoneSplit | 50 |
ParametricShadows | 0 |
ParametricShadowSplit | 25 |
PerspectiveAspect | 0 |
PerspectiveHorizontal | 0 |
PerspectiveRotate | 0.0 |
PerspectiveScale | 100 |
PerspectiveUpright | 0 |
PerspectiveVertical | 0 |
PerspectiveX | 0.00 |
PerspectiveY | 0.00 |
PostCropVignetteAmount | 0 |
ProcessVersion | 10.0 |
ProfileDescription | ProPhoto RGB |
Rating | 0 |
RawFileName | GX010408.3gp.MP4.19_52_25_22.Still048.jpg |
RedHue | 0 |
RedSaturation | 0 |
Saturation | -20 |
SaturationAdjustmentAqua | -16 |
SaturationAdjustmentBlue | -6 |
SaturationAdjustmentGreen | -52 |
SaturationAdjustmentMagenta | -49 |
SaturationAdjustmentOrange | +2 |
SaturationAdjustmentPurple | -47 |
SaturationAdjustmentRed | -4 |
SaturationAdjustmentYellow | -51 |
Shadows2012 | +54 |
ShadowTint | 0 |
SharpenDetail | 25 |
SharpenEdgeMasking | 0 |
SharpenRadius | +1.0 |
Sharpness | 25 |
Software | Adobe Photoshop CC 2018 (Windows) |
SplitToningBalance | 0 |
SplitToningHighlightHue | 0 |
SplitToningHighlightSaturation | 0 |
SplitToningShadowHue | 0 |
SplitToningShadowSaturation | 0 |
StartTimecodeTimeFormat | 29.97 fps (non-drop) |
StartTimecodeTimeValue | 00:01:15:02 |
StartTimeSampleSize | 1001 |
StartTimeScale | 30000 |
ToneCurve | 0, 0, 255, 255 |
ToneCurveBlue | 0, 0, 255, 255 |
ToneCurveGreen | 0, 0, 255, 255 |
ToneCurveName | Linear |
ToneCurveName2012 | Custom |
ToneCurvePV2012 | 0, 11, 52, 56, 119, 124, 255, 250 |
ToneCurvePV2012Blue | 0, 4, 41, 47, 88, 84, 126, 134, 169, 182, 255, 253 |
ToneCurvePV2012Green | 0, 10, 57, 50, 124, 129, 173, 195, 255, 253 |
ToneCurvePV2012Red | 13, 0, 73, 56, 121, 118, 170, 191, 255, 253 |
ToneCurveRed | 0, 0, 255, 255 |
ToneMapStrength | 0 |
URL_List | |
Version | 10.5 |
Vibrance | 0 |
VideoFieldOrder | Progressive |
VideoFrameRate | 29.970030 |
VideoFrameSizeH | 3000 |
VideoFrameSizeUnit | pixel |
VideoFrameSizeW | 4000 |
VideoPixelAspectRatio | 1 |
VignetteAmount | 0 |
WhiteBalance | Custom |
Whites2012 | -79 |