Felt | Verdi |
AlreadyApplied | True |
Aperture | 11.0 |
ApertureValue | 11.0 |
ApproximateFocusDistance | 2.99 |
Artist | SiTron Photography |
AuthorsPosition | Photography |
AutoLateralCA | 1 |
BitsPerSample | 8 |
Blacks2012 | 0 |
BlueHue | 0 |
BlueSaturation | 0 |
By-line | SiTron Photography |
By-lineTitle | Photography |
CameraProfile | Adobe Standard |
CFAPattern | [Red,Green][Green,Blue] |
CircGradBasedCorrActive | true |
CircGradBasedCorrAmount | 1.000000 |
CircGradBasedCorrBrightness | 0.000000 |
CircGradBasedCorrClarity2012 (1) | -0.418272 |
CircGradBasedCorrClarity2012 (2) | 0.827860 |
CircGradBasedCorrClarity2012 | 1.000000 |
CircGradBasedCorrContrast2012 (3) | -1.000000 |
CircGradBasedCorrContrast2012 | 0.000000 |
CircGradBasedCorrCorrectionRangeMaskColorAmount | 0.500000 |
CircGradBasedCorrCorrectionRangeMaskLumFeather | 0.500000 |
CircGradBasedCorrCorrectionRangeMaskLumMax | 1.000000 |
CircGradBasedCorrCorrectionRangeMaskLumMin | 0.000000 |
CircGradBasedCorrCorrectionRangeMaskType | 0 |
CircGradBasedCorrCorrectionRangeMaskVersion | +2 |
CircGradBasedCorrDefringe | 0.000000 |
CircGradBasedCorrExposure2012 (1) | 0.236613 |
CircGradBasedCorrExposure2012 (2) | 0.171761 |
CircGradBasedCorrExposure2012 (3) | 0.193227 |
CircGradBasedCorrExposure2012 | 0.100804 |
CircGradBasedCorrHighlights2012 | 0.000000 |
CircGradBasedCorrHue | 0.000000 |
CircGradBasedCorrLocalBlacks2012 | 0.000000 |
CircGradBasedCorrLocalDehaze (2) | 0.126593 |
CircGradBasedCorrLocalDehaze (3) | -0.019835 |
CircGradBasedCorrLocalDehaze | 0.000000 |
CircGradBasedCorrLocalWhites2012 | 0.000000 |
CircGradBasedCorrLuminanceNoise | 0.000000 |
CircGradBasedCorrMaskAngle (1) | 1.081260 |
CircGradBasedCorrMaskAngle (2) | 3.063860 |
CircGradBasedCorrMaskAngle (3) | 4.278760 |
CircGradBasedCorrMaskAngle | 6.272690 |
CircGradBasedCorrMaskBottom (1) | 0.389435 |
CircGradBasedCorrMaskBottom (2) | 0.370921 |
CircGradBasedCorrMaskBottom (3) | 1.016050 |
CircGradBasedCorrMaskBottom | 0.852208 |
CircGradBasedCorrMaskFeather | +50 |
CircGradBasedCorrMaskFlipped | true |
CircGradBasedCorrMaskLeft (1) | 0.422917 |
CircGradBasedCorrMaskLeft (2) | -0.466589 |
CircGradBasedCorrMaskLeft (3) | 0.044743 |
CircGradBasedCorrMaskLeft | 0.196499 |
CircGradBasedCorrMaskMidpoint | +50 |
CircGradBasedCorrMaskRight (1) | 1.502800 |
CircGradBasedCorrMaskRight (2) | 0.602394 |
CircGradBasedCorrMaskRight (3) | 0.911114 |
CircGradBasedCorrMaskRight | 1.153150 |
CircGradBasedCorrMaskRoundness | 0 |
CircGradBasedCorrMaskTop (1) | -0.054507 |
CircGradBasedCorrMaskTop (2) | -0.128721 |
CircGradBasedCorrMaskTop (3) | 0.695831 |
CircGradBasedCorrMaskTop | 0.384645 |
CircGradBasedCorrMaskValue | 1.000000 |
CircGradBasedCorrMaskVersion | +2 |
CircGradBasedCorrMaskWhat | Mask/CircularGradient |
CircGradBasedCorrMoire | 0.000000 |
CircGradBasedCorrSaturation (5) | 0.607441 |
CircGradBasedCorrSaturation | 0.000000 |
CircGradBasedCorrShadows2012 | 0.000000 |
CircGradBasedCorrSharpness (2) | 0.000000 |
CircGradBasedCorrSharpness (3) | 1.000000 |
CircGradBasedCorrSharpness | 0.656667 |
CircGradBasedCorrTemperature (1) | 0.265056 |
CircGradBasedCorrTemperature (2) | 0.142407 |
CircGradBasedCorrTemperature (3) | 0.003489 |
CircGradBasedCorrTemperature | -0.077556 |
CircGradBasedCorrTint (1) | 0.054801 |
CircGradBasedCorrTint (3) | 0.023058 |
CircGradBasedCorrTint | 0.285422 |
CircGradBasedCorrWhat | Correction |
CircleOfConfusion | 0.030 mm |
Clarity2012 | +16 |
ColorComponents | 3 |
ColorNoiseReduction | 25 |
ColorNoiseReductionDetail | 50 |
ColorNoiseReductionSmoothness | 50 |
ColorSpace | sRGB |
ColorTemperature | 7677 |
ColorTransform | YCbCr |
Contrast | Normal |
Contrast2012 | +56 |
ConvertToGrayscale | False |
Copyright | CAMIZOOM.COM |
CopyrightNotice | CAMIZOOM.COM |
CreateDate (1) | 2017:12:13 11:29:27.35 |
CreateDate | 2017:12:13 11:29:27 |
Creator | SiTron Photography |
CreatorAddress | Tjødnavegen 19 |
CreatorCity | Straume |
CreatorCountry | Norway |
CreatorPostalCode | 5354 |
CreatorRegion | Bergen |
CreatorTool | Adobe Photoshop Lightroom Classic 7.1 (Macintosh) |
CreatorWorkEmail | norwayinphoto@gmail.com |
CreatorWorkTelephone | 45266227 |
CreatorWorkURL | norwayinphoto.com |
CropAngle | 1.08126 |
CropBottom | 0.865731 |
CropConstrainToWarp | 0 |
CropLeft | 0.117386 |
CropRight | 0.903917 |
CropTop | 0.062468 |
CustomRendered | Normal |
DateCreated (1) | 2017:12:13 |
DateCreated | 2017:12:13 11:29:27.35 |
DateTimeOriginal | 2017:12:13 11:29:27 |
DefringeGreenAmount | 0 |
DefringeGreenHueHi | 60 |
DefringeGreenHueLo | 40 |
DefringePurpleAmount | 0 |
DefringePurpleHueHi | 70 |
DefringePurpleHueLo | 30 |
Dehaze | 0 |
DigitalZoomRatio | 1 |
DOF | inf (1.11 m - inf) |
Exposure2012 | 0.00 |
ExposureCompensation | 0 |
ExposureMode | Manual |
ExposureProgram | Manual |
ExposureTime | 3 |
Flash | Off, Did not fire |
FNumber | 11.0 |
FocalLength | 24.0 mm |
FocalLength35efl | 24.0 mm (35 mm equivalent: 24.0 mm) |
FocalLengthIn35mmFormat | 24 mm |
Format | image/jpeg |
FOV | 73.7 deg |
GainControl | None |
GradientBasedCorrActive | true |
GradientBasedCorrAmount | 1.000000 |
GradientBasedCorrBrightness | 0.000000 |
GradientBasedCorrClarity2012 | 0.990671 |
GradientBasedCorrContrast2012 | 0.015739 |
GradientBasedCorrCorrectionRangeMaskColorAmount | 0.500000 |
GradientBasedCorrCorrectionRangeMaskLumFeather | 0.500000 |
GradientBasedCorrCorrectionRangeMaskLumMax | 1.000000 |
GradientBasedCorrCorrectionRangeMaskLumMin | 0.000000 |
GradientBasedCorrCorrectionRangeMaskType | 0 |
GradientBasedCorrCorrectionRangeMaskVersion | +2 |
GradientBasedCorrDefringe | 0.000000 |
GradientBasedCorrExposure2012 | -0.258419 |
GradientBasedCorrHighlights2012 | 0.000000 |
GradientBasedCorrHue | 0.000000 |
GradientBasedCorrLocalBlacks2012 | 0.000000 |
GradientBasedCorrLocalDehaze | 0.000000 |
GradientBasedCorrLocalWhites2012 | 0.000000 |
GradientBasedCorrLuminanceNoise | 0.000000 |
GradientBasedCorrMaskFullX | 0.554640 |
GradientBasedCorrMaskFullY | 0.190501 |
GradientBasedCorrMaskValue | 1.000000 |
GradientBasedCorrMaskWhat | Mask/Gradient |
GradientBasedCorrMaskZeroX | 0.548560 |
GradientBasedCorrMaskZeroY | 0.369980 |
GradientBasedCorrMoire | 0.000000 |
GradientBasedCorrSaturation | 0.000000 |
GradientBasedCorrShadows2012 | 0.000000 |
GradientBasedCorrSharpness | 0.000000 |
GradientBasedCorrTemperature | 0.000000 |
GradientBasedCorrTint | 0.060225 |
GradientBasedCorrWhat | Correction |
GrainAmount | 0 |
GreenHue | 0 |
GreenSaturation | 0 |
HasCrop | True |
HasSettings | True |
Highlights2012 | -92 |
HueAdjustmentAqua | 0 |
HueAdjustmentBlue | 0 |
HueAdjustmentGreen | 0 |
HueAdjustmentMagenta | 0 |
HueAdjustmentOrange | 0 |
HueAdjustmentPurple | 0 |
HueAdjustmentRed | 0 |
HueAdjustmentYellow | 0 |
HyperfocalDistance | 1.74 m |
ImageHeight | 3136 |
ImageNumber | 1017 |
ImageSize | 4792x3136 |
ImageWidth | 4792 |
ISO | 50 |
Keywords | 500px, Adventure, Breathtaking, Exploration, Freedom, Frost, Hill, Hillside, Lightroom, Nature, Nikon, Norway, Photographer, Photography, Scenic, Sitron, Tourism, Travel Destination, Troms, Weather, amazing, beautiful, blue, camizoom, clouds, colors, day, frozen, green, ground, ice, is, lake, landscape, mountain, night, nikonIAm, nord-norge, norwayinphoto, nydelig, pano, panorama, photooftheday, rock, snow, travel, trees, tromsø, vakkert, view, vinter, vær, water, winter |
LateralChromaticAberrationCorrectionAlreadyApplied | True |
Lens | 24.0 mm f/1.4 |
LensID (1) | 74 |
LensID | Samyang 24mm f/1.4 ED AS UMC |
LensInfo | 24mm f/1.4 |
LensManualDistortionAmount | 0 |
LensModel | 24.0 mm f/1.4 |
LensProfileEnable | 1 |
LensProfileSetup | LensDefaults |
LightSource | Unknown |
LightValue | 6.3 |
LuminanceAdjustmentAqua | 0 |
LuminanceAdjustmentBlue | 0 |
LuminanceAdjustmentGreen | 0 |
LuminanceAdjustmentMagenta | 0 |
LuminanceAdjustmentOrange | 0 |
LuminanceAdjustmentPurple | 0 |
LuminanceAdjustmentRed | 0 |
LuminanceAdjustmentYellow | 0 |
LuminanceNoiseReductionContrast | 20 |
LuminanceNoiseReductionDetail | 50 |
LuminanceSmoothing | 28 |
Make | NIKON CORPORATION |
MaxApertureValue | 1.4 |
Megapixels | 15.0 |
MeteringMode | Multi-segment |
Model | NIKON D750 |
ModifyDate (1) | 2018:02:28 18:14:22+01:00 |
ModifyDate | 2018:02:28 18:14:22 |
ObjectName | Tromsø Harbour Dark Day |
ParametricDarks | 0 |
ParametricHighlights | 0 |
ParametricHighlightSplit | 75 |
ParametricLights | 0 |
ParametricMidtoneSplit | 50 |
ParametricShadows | 0 |
ParametricShadowSplit | 25 |
PerspectiveAspect | 0 |
PerspectiveHorizontal | 0 |
PerspectiveRotate | 0.0 |
PerspectiveScale | 100 |
PerspectiveUpright | 0 |
PerspectiveVertical | 0 |
PerspectiveX | 0.00 |
PerspectiveY | 0.00 |
PostCropVignetteAmount | -24 |
PostCropVignetteFeather | 50 |
PostCropVignetteHighlightContrast | 0 |
PostCropVignetteMidpoint | 50 |
PostCropVignetteRoundness | 0 |
PostCropVignetteStyle | 1 |
ProcessVersion | 10.0 |
ProfileDescription | sRGB IEC61966-2.1 |
RedHue | 0 |
RedSaturation | 0 |
Rights | CAMIZOOM.COM |
Saturation (1) | +28 |
Saturation | Normal |
SaturationAdjustmentAqua | 0 |
SaturationAdjustmentBlue | 0 |
SaturationAdjustmentGreen | 0 |
SaturationAdjustmentMagenta | 0 |
SaturationAdjustmentOrange | 0 |
SaturationAdjustmentPurple | 0 |
SaturationAdjustmentRed | 0 |
SaturationAdjustmentYellow | 0 |
ScaleFactor35efl | 1.0 |
SceneCaptureType | Standard |
SceneType | Directly photographed |
SensingMethod | One-chip color area |
SensitivityType | Recommended Exposure Index |
SerialNumber | 6153785 |
Shadows2012 | +87 |
ShadowTint | 0 |
SharpenDetail | 25 |
SharpenEdgeMasking | 29 |
SharpenRadius | +1.0 |
Sharpness (1) | 85 |
Sharpness | Normal |
ShutterSpeed | 3 |
ShutterSpeedValue | 3 |
Software | Adobe Photoshop Lightroom Classic 7.1 (Macintosh) |
SplitToningBalance | 0 |
SplitToningHighlightHue | 0 |
SplitToningHighlightSaturation | 0 |
SplitToningShadowHue | 0 |
SplitToningShadowSaturation | 0 |
Subject | 500px, Adventure, Breathtaking, Exploration, Freedom, Frost, Hill, Hillside, Lightroom, Nature, Nikon, Norway, Photographer, Photography, Scenic, Sitron, Tourism, Travel Destination, Troms, Weather, amazing, beautiful, blue, camizoom, clouds, colors, day, frozen, green, ground, ice, is, lake, landscape, mountain, night, nikonIAm, nord-norge, norwayinphoto, nydelig, pano, panorama, photooftheday, rock, snow, travel, trees, tromsø, vakkert, view, vinter, vær, water, winter |
SubjectDistanceRange | Unknown |
Tint | +42 |
Title | Tromsø Harbour Dark Day |
ToneCurve | 0, 0, 255, 255 |
ToneCurveBlue | 0, 0, 255, 255 |
ToneCurveGreen | 0, 0, 255, 255 |
ToneCurveName | Linear |
ToneCurveName2012 | Linear |
ToneCurvePV2012 | 0, 0, 255, 255 |
ToneCurvePV2012Blue | 0, 0, 255, 255 |
ToneCurvePV2012Green | 0, 0, 255, 255 |
ToneCurvePV2012Red | 0, 0, 255, 255 |
ToneCurveRed | 0, 0, 255, 255 |
UserComment | 750 |
Version | 10.1 |
Vibrance | -24 |
VignetteAmount | 0 |
WhiteBalance (1) | Custom |
WhiteBalance | Manual |
Whites2012 | +41 |