Felt | Verdi |
AlreadyApplied | True |
Aperture | 6.3 |
ApertureValue | 6.3 |
ApproximateFocusDistance | 2.1 |
Artist | Bendik Stalheim Møller |
AutoLateralCA | 1 |
AutoWhiteVersion | 134348800 |
BitsPerSample (1) | 8 8 8 |
BitsPerSample | 8 |
Blacks2012 | -30 |
BlueHue | 0 |
BlueSaturation | 0 |
By-line | Bendik Stalheim Møller |
CameraProfile | Adobe Standard |
CircGradBasedCorrActive | true |
CircGradBasedCorrAmount | 1.000000 |
CircGradBasedCorrBrightness | 0.000000 |
CircGradBasedCorrClarity2012 | 0.000000 |
CircGradBasedCorrContrast2012 | 0.000000 |
CircGradBasedCorrDefringe | 0.000000 |
CircGradBasedCorrExposure2012 | 0.000000 |
CircGradBasedCorrHue | 240.000000 |
CircGradBasedCorrLocalDehaze | 0.000000 |
CircGradBasedCorrMaskAngle | 0.000000 |
CircGradBasedCorrMaskBottom | 0.509062 |
CircGradBasedCorrMaskFeather | +50 |
CircGradBasedCorrMaskFlipped | true |
CircGradBasedCorrMaskLeft (1) | 0.693808 |
CircGradBasedCorrMaskLeft (10) | 0.627165 |
CircGradBasedCorrMaskLeft (11) | 0.600665 |
CircGradBasedCorrMaskLeft (12) | 0.672693 |
CircGradBasedCorrMaskLeft (13) | 0.706621 |
CircGradBasedCorrMaskLeft (14) | 0.604923 |
CircGradBasedCorrMaskLeft (15) | 0.187642 |
CircGradBasedCorrMaskLeft (16) | 0.107663 |
CircGradBasedCorrMaskLeft (18) | 0.366682 |
CircGradBasedCorrMaskLeft (19) | 0.144533 |
CircGradBasedCorrMaskLeft (2) | 0.695150 |
CircGradBasedCorrMaskLeft (20) | 0.302125 |
CircGradBasedCorrMaskLeft (21) | 0.395264 |
CircGradBasedCorrMaskLeft (22) | 0.730632 |
CircGradBasedCorrMaskLeft (23) | 0.691615 |
CircGradBasedCorrMaskLeft (24) | 0.649725 |
CircGradBasedCorrMaskLeft (25) | 0.665934 |
CircGradBasedCorrMaskLeft (26) | 0.672600 |
CircGradBasedCorrMaskLeft (27) | 0.667212 |
CircGradBasedCorrMaskLeft (28) | 0.673001 |
CircGradBasedCorrMaskLeft (29) | 0.665592 |
CircGradBasedCorrMaskLeft (3) | 0.691996 |
CircGradBasedCorrMaskLeft (30) | 0.666553 |
CircGradBasedCorrMaskLeft (31) | 0.681364 |
CircGradBasedCorrMaskLeft (32) | 0.667724 |
CircGradBasedCorrMaskLeft (33) | 0.582572 |
CircGradBasedCorrMaskLeft (34) | 0.272652 |
CircGradBasedCorrMaskLeft (35) | 0.617278 |
CircGradBasedCorrMaskLeft (36) | 0.296696 |
CircGradBasedCorrMaskLeft (37) | 0.535275 |
CircGradBasedCorrMaskLeft (38) | 0.591785 |
CircGradBasedCorrMaskLeft (39) | 0.521978 |
CircGradBasedCorrMaskLeft (4) | 0.664241 |
CircGradBasedCorrMaskLeft (40) | 0.383943 |
CircGradBasedCorrMaskLeft (41) | 0.427812 |
CircGradBasedCorrMaskLeft (42) | 0.461564 |
CircGradBasedCorrMaskLeft (43) | 0.708291 |
CircGradBasedCorrMaskLeft (44) | 0.743425 |
CircGradBasedCorrMaskLeft (45) | 0.418627 |
CircGradBasedCorrMaskLeft (46) | 0.631325 |
CircGradBasedCorrMaskLeft (47) | 0.611274 |
CircGradBasedCorrMaskLeft (48) | 0.561261 |
CircGradBasedCorrMaskLeft (5) | 0.674498 |
CircGradBasedCorrMaskLeft (50) | 0.673807 |
CircGradBasedCorrMaskLeft (51) | 0.711653 |
CircGradBasedCorrMaskLeft (52) | 0.707835 |
CircGradBasedCorrMaskLeft (53) | 0.706033 |
CircGradBasedCorrMaskLeft (54) | 0.654237 |
CircGradBasedCorrMaskLeft (6) | 0.639011 |
CircGradBasedCorrMaskLeft (7) | 0.673228 |
CircGradBasedCorrMaskLeft (8) | 0.713559 |
CircGradBasedCorrMaskLeft (9) | 0.715376 |
CircGradBasedCorrMaskLeft | 0.694783 |
CircGradBasedCorrMaskMidpoint | +50 |
CircGradBasedCorrMaskRight (1) | 0.701040 |
CircGradBasedCorrMaskRight (19) | 0.408473 |
CircGradBasedCorrMaskRight (2) | 0.700858 |
CircGradBasedCorrMaskRight (20) | 0.494099 |
CircGradBasedCorrMaskRight (21) | 0.482045 |
CircGradBasedCorrMaskRight (22) | 0.814061 |
CircGradBasedCorrMaskRight (23) | 0.698847 |
CircGradBasedCorrMaskRight (24) | 0.688740 |
CircGradBasedCorrMaskRight (25) | 0.704694 |
CircGradBasedCorrMaskRight (26) | 0.681153 |
CircGradBasedCorrMaskRight (27) | 0.688153 |
CircGradBasedCorrMaskRight (28) | 0.699714 |
CircGradBasedCorrMaskRight (29) | 0.686599 |
CircGradBasedCorrMaskRight (3) | 0.699228 |
CircGradBasedCorrMaskRight (30) | 0.687707 |
CircGradBasedCorrMaskRight (31) | 0.693199 |
CircGradBasedCorrMaskRight (32) | 0.700654 |
CircGradBasedCorrMaskRight (33) | 0.758009 |
CircGradBasedCorrMaskRight (34) | 0.856912 |
CircGradBasedCorrMaskRight (35) | 0.639578 |
CircGradBasedCorrMaskRight (36) | 0.553948 |
CircGradBasedCorrMaskRight (37) | 0.628999 |
CircGradBasedCorrMaskRight (38) | 0.613458 |
CircGradBasedCorrMaskRight (39) | 0.595019 |
CircGradBasedCorrMaskRight (4) | 0.707414 |
CircGradBasedCorrMaskRight (40) | 0.462379 |
CircGradBasedCorrMaskRight (41) | 0.476776 |
CircGradBasedCorrMaskRight (42) | 0.528969 |
CircGradBasedCorrMaskRight (43) | 0.747714 |
CircGradBasedCorrMaskRight (44) | 0.769868 |
CircGradBasedCorrMaskRight (45) | 0.440615 |
CircGradBasedCorrMaskRight (46) | 0.646216 |
CircGradBasedCorrMaskRight (47) | 0.631901 |
CircGradBasedCorrMaskRight (48) | 0.622663 |
CircGradBasedCorrMaskRight (49) | 1.236230 |
CircGradBasedCorrMaskRight (5) | 0.664637 |
CircGradBasedCorrMaskRight (50) | 0.691081 |
CircGradBasedCorrMaskRight (51) | 0.730946 |
CircGradBasedCorrMaskRight (52) | 0.716022 |
CircGradBasedCorrMaskRight (53) | 0.714752 |
CircGradBasedCorrMaskRight (54) | 0.686470 |
CircGradBasedCorrMaskRight (6) | 0.688072 |
CircGradBasedCorrMaskRight (7) | 0.723346 |
CircGradBasedCorrMaskRight (8) | 0.750393 |
CircGradBasedCorrMaskRight (9) | 0.745682 |
CircGradBasedCorrMaskRight | 0.700576 |
CircGradBasedCorrMaskRoundness | 0 |
CircGradBasedCorrMaskTop (1) | 0.479165 |
CircGradBasedCorrMaskTop (10) | 0.300993 |
CircGradBasedCorrMaskTop (11) | 0.269127 |
CircGradBasedCorrMaskTop (12) | 0.367035 |
CircGradBasedCorrMaskTop (13) | 0.467371 |
CircGradBasedCorrMaskTop (14) | 0.397487 |
CircGradBasedCorrMaskTop (15) | 0.758734 |
CircGradBasedCorrMaskTop (16) | 0.179047 |
CircGradBasedCorrMaskTop (17) | 0.445013 |
CircGradBasedCorrMaskTop (18) | 0.117749 |
CircGradBasedCorrMaskTop (19) | 0.168272 |
CircGradBasedCorrMaskTop (2) | 0.490624 |
CircGradBasedCorrMaskTop (20) | 0.545697 |
CircGradBasedCorrMaskTop (21) | 0.212929 |
CircGradBasedCorrMaskTop (22) | 0.272857 |
CircGradBasedCorrMaskTop (23) | 0.312392 |
CircGradBasedCorrMaskTop (24) | 0.340772 |
CircGradBasedCorrMaskTop (25) | 0.283531 |
CircGradBasedCorrMaskTop (26) | 0.305360 |
CircGradBasedCorrMaskTop (27) | 0.424561 |
CircGradBasedCorrMaskTop (28) | 0.374292 |
CircGradBasedCorrMaskTop (29) | 0.389099 |
CircGradBasedCorrMaskTop (3) | 0.397024 |
CircGradBasedCorrMaskTop (30) | 0.396195 |
CircGradBasedCorrMaskTop (31) | 0.400290 |
CircGradBasedCorrMaskTop (32) | 0.440325 |
CircGradBasedCorrMaskTop (33) | 0.467667 |
CircGradBasedCorrMaskTop (34) | 0.531746 |
CircGradBasedCorrMaskTop (35) | 0.490425 |
CircGradBasedCorrMaskTop (36) | 0.662940 |
CircGradBasedCorrMaskTop (37) | 0.217514 |
CircGradBasedCorrMaskTop (38) | 0.203163 |
CircGradBasedCorrMaskTop (39) | 0.266998 |
CircGradBasedCorrMaskTop (4) | 0.430410 |
CircGradBasedCorrMaskTop (40) | 0.490672 |
CircGradBasedCorrMaskTop (41) | 0.516913 |
CircGradBasedCorrMaskTop (42) | 0.183842 |
CircGradBasedCorrMaskTop (43) | 0.293094 |
CircGradBasedCorrMaskTop (44) | 0.311378 |
CircGradBasedCorrMaskTop (45) | 0.311778 |
CircGradBasedCorrMaskTop (46) | 0.343737 |
CircGradBasedCorrMaskTop (47) | 0.341369 |
CircGradBasedCorrMaskTop (48) | 0.308225 |
CircGradBasedCorrMaskTop (49) | 0.474005 |
CircGradBasedCorrMaskTop (5) | 0.360084 |
CircGradBasedCorrMaskTop (50) | 0.315330 |
CircGradBasedCorrMaskTop (51) | 0.379114 |
CircGradBasedCorrMaskTop (52) | 0.384821 |
CircGradBasedCorrMaskTop (53) | 0.303235 |
CircGradBasedCorrMaskTop (54) | 0.312239 |
CircGradBasedCorrMaskTop (6) | 0.481171 |
CircGradBasedCorrMaskTop (7) | 0.448011 |
CircGradBasedCorrMaskTop (8) | 0.390894 |
CircGradBasedCorrMaskTop (9) | 0.375295 |
CircGradBasedCorrMaskTop | 0.498793 |
CircGradBasedCorrMaskValue | 1.000000 |
CircGradBasedCorrMaskVersion | +2 |
CircGradBasedCorrMoire | 0.000000 |
CircGradBasedCorrSaturation | 0.000000 |
CircGradBasedCorrShadows2012 | 0.000000 |
CircGradBasedCorrSharpness (7) | 0.137662 |
CircGradBasedCorrSharpness | 0.000000 |
CircGradBasedCorrTemperature | 0.000000 |
CircGradBasedCorrTint (16) | -0.065386 |
CircGradBasedCorrTint | 0.000000 |
CircGradBasedCorrWhat | Correction |
CircleOfConfusion | 0.017 mm |
Clarity2012 | +15 |
ColorComponents | 3 |
ColorMode | RGB |
ColorNoiseReduction | 24 |
ColorNoiseReductionDetail | 50 |
ColorNoiseReductionSmoothness | 50 |
ColorSpace | sRGB |
ColorTemperature | 4200 |
ColorTransform | YCbCr |
Contrast2012 | -20 |
ConvertToGrayscale | False |
Copyright | © 2016 Bendik Stalheim Møller |
CopyrightFlag | True |
CreateDate | 2016:12:06 18:36:26 |
Creator | Bendik Stalheim Møller |
CreatorCity | OSLO |
CreatorCountry | NORWAY |
CreatorWorkURL | www.bendikstalheim.com |
CropAngle | 0 |
CropBottom | 1 |
CropConstrainToWarp | 1 |
CropLeft | 0 |
CropRight | 0.88182 |
CropTop | 0 |
CustomRendered | Normal |
DateCreated (1) | 2016:12:06 |
DateCreated | 2016:12:06 18:36:26.001 |
DateTimeOriginal | 2016:12:06 18:36:26 |
DefringeGreenAmount | 0 |
DefringeGreenHueHi | 60 |
DefringeGreenHueLo | 40 |
DefringePurpleAmount | 0 |
DefringePurpleHueHi | 40 |
DefringePurpleHueLo | 30 |
Dehaze | 0 |
DOF | 0.37 m (1.93 - 2.30 m) |
ExifImageHeight | 4658 |
ExifImageWidth | 3648 |
Exposure2012 | -0.20 |
ExposureCompensation | 0 |
ExposureMode | Manual |
ExposureProgram | Manual |
ExposureTime | 1/100 |
Firmware | 1.0.2 |
Flash | Off, Did not fire |
FlashCompensation | 0 |
FNumber | 6.3 |
FocalLength | 50.0 mm |
Format | image/jpeg |
FOV | 22.8 deg |
GradientBasedCorrActive | true |
GradientBasedCorrAmount | 1.000000 |
GradientBasedCorrBrightness | 0.000000 |
GradientBasedCorrClarity2012 | 0.429459 |
GradientBasedCorrContrast2012 | 0.000000 |
GradientBasedCorrDefringe | 0.000000 |
GradientBasedCorrExposure2012 | 0.000000 |
GradientBasedCorrHue | 240.000000 |
GradientBasedCorrLocalDehaze | 0.000000 |
GradientBasedCorrLuminanceNoise | 0.000000 |
GradientBasedCorrMaskFullX | 0.373798 |
GradientBasedCorrMaskFullY | 0.885982 |
GradientBasedCorrMaskValue | 1.000000 |
GradientBasedCorrMaskWhat | Mask/Gradient |
GradientBasedCorrMaskZeroX | 0.372230 |
GradientBasedCorrMaskZeroY | 0.795750 |
GradientBasedCorrMoire | 0.000000 |
GradientBasedCorrSaturation | 0.000000 |
GradientBasedCorrShadows2012 | 0.000000 |
GradientBasedCorrSharpness | 0.000000 |
GradientBasedCorrTemperature | 0.000000 |
GradientBasedCorrTint | 0.000000 |
GradientBasedCorrWhat | Correction |
GrainAmount | 0 |
GreenHue | 0 |
GreenSaturation | 0 |
HasCrop | True |
HasSettings | True |
Highlights2012 | -100 |
HueAdjustmentAqua | +100 |
HueAdjustmentBlue | -43 |
HueAdjustmentGreen | +41 |
HueAdjustmentMagenta | +100 |
HueAdjustmentOrange | -21 |
HueAdjustmentPurple | -100 |
HueAdjustmentRed | +10 |
HueAdjustmentYellow | -35 |
HyperfocalDistance | 23.56 m |
ICCProfileName | sRGB IEC61966-2.1 |
ImageHeight (1) | 4825 |
ImageHeight | 4658 |
ImageNumber | 0 |
ImageSize | 3648x4658 |
ImageWidth | 3648 |
ISO | 400 |
Lens | 50mm |
LensID (1) | 180 |
LensInfo | 50mm f/? |
LensManualDistortionAmount | 0 |
LensModel | 50mm |
LensProfileChromaticAberrationScale | 100 |
LensProfileDistortionScale | 100 |
LensProfileEnable | 1 |
LensProfileSetup | LensDefaults |
LensProfileVignettingScale | 100 |
LensSerialNumber | 0000000000 |
LightValue | 10.0 |
LuminanceAdjustmentAqua | -11 |
LuminanceAdjustmentBlue | +34 |
LuminanceAdjustmentGreen | +23 |
LuminanceAdjustmentMagenta | +22 |
LuminanceAdjustmentOrange | -1 |
LuminanceAdjustmentPurple | +48 |
LuminanceAdjustmentRed | +5 |
LuminanceAdjustmentYellow | +1 |
LuminanceNoiseReductionContrast | 0 |
LuminanceNoiseReductionDetail | 50 |
LuminanceSmoothing | 40 |
Make | Canon |
Marked | True |
MaxApertureValue | 1.4 |
Megapixels | 17.0 |
MeteringMode | Multi-segment |
Model | Canon EOS 7D Mark II |
ModifyDate (1) | 2016:12:08 17:13:37+01:00 |
ModifyDate | 2016:12:08 17:13:37 |
Orientation | Horizontal (normal) |
ParametricDarks | -10 |
ParametricHighlights | 0 |
ParametricHighlightSplit | 75 |
ParametricLights | +5 |
ParametricMidtoneSplit | 50 |
ParametricShadows | 0 |
ParametricShadowSplit | 25 |
PerspectiveAspect | 0 |
PerspectiveHorizontal | 0 |
PerspectiveRotate | 0.0 |
PerspectiveScale | 100 |
PerspectiveUpright | 0 |
PerspectiveVertical | 0 |
PerspectiveX | 0.00 |
PerspectiveY | 0.00 |
PhotometricInterpretation | RGB |
PlanarConfiguration | Chunky |
PostCropVignetteAmount | -15 |
PostCropVignetteFeather | 60 |
PostCropVignetteHighlightContrast | 0 |
PostCropVignetteMidpoint | 25 |
PostCropVignetteRoundness | -20 |
PostCropVignetteStyle | 1 |
ProcessVersion | 6.7 |
ProfileDescription | sRGB IEC61966-2.1 |
Rating | 3 |
RecommendedExposureIndex | 400 |
RedHue | 0 |
RedSaturation | 0 |
Rights | © 2016 Bendik Stalheim Møller |
SamplesPerPixel | 3 |
Saturation | 0 |
SaturationAdjustmentAqua | -28 |
SaturationAdjustmentBlue | -39 |
SaturationAdjustmentGreen | -10 |
SaturationAdjustmentMagenta | +7 |
SaturationAdjustmentOrange | +1 |
SaturationAdjustmentPurple | -14 |
SaturationAdjustmentRed | -8 |
SaturationAdjustmentYellow | -14 |
ScaleFactor35efl | 1.8 |
SceneCaptureType | Standard |
SerialNumber | 053021003206 |
Shadows2012 | +100 |
ShadowTint | 0 |
SharpenDetail | 56 |
SharpenEdgeMasking | 72 |
SharpenRadius | +0.6 |
Sharpness | 75 |
ShutterSpeed | 1/100 |
ShutterSpeedValue | 1/100 |
SplitToningBalance | 0 |
SplitToningHighlightHue | 50 |
SplitToningHighlightSaturation | 11 |
SplitToningShadowHue | 232 |
SplitToningShadowSaturation | 15 |
Tint | 0 |
ToneCurve | 0, 0, 255, 255 |
ToneCurveBlue | 0, 0, 255, 255 |
ToneCurveGreen | 0, 0, 255, 255 |
ToneCurveName | Linear |
ToneCurveName2012 | Custom |
ToneCurvePV2012 | 0, 25, 70, 75, 137, 137, 199, 200, 255, 255 |
ToneCurvePV2012Blue | 0, 16, 75, 70, 164, 166, 255, 243 |
ToneCurvePV2012Green | 0, 0, 255, 255 |
ToneCurvePV2012Red | 0, 0, 255, 255 |
ToneCurveRed | 0, 0, 255, 255 |
ToneMapStrength | 0 |
URL | www.bendikstalheim.com |
URL_List | |
Version | 9.7 |
Vibrance | -10 |
VignetteAmount | -24 |
VignetteMidpoint | 41 |
WebStatement | www.bendikstalheim.com |
WhiteBalance | Auto |
Whites2012 | +34 |