Felt | Verdi |
AlreadyApplied | True |
Aperture | 10.0 |
ApertureValue | 10.0 |
ApproximateFocusDistance | 4294967295 |
Artist | Trond K Wiik |
AuthorsPosition | Photography |
AutoLateralCA | 1 |
BitsPerSample | 8 |
Blacks2012 | -34 |
BlueHue | -47 |
BlueSaturation | -77 |
By-line | Trond K Wiik |
By-lineTitle | Photography |
CameraProfile | Camera Standard |
CFAPattern | [Red,Green][Green,Blue] |
CircleOfConfusion | 0.030 mm |
City | Florø |
Clarity2012 | +80 |
ColorComponents | 3 |
ColorNoiseReduction | 25 |
ColorNoiseReductionDetail | 50 |
ColorNoiseReductionSmoothness | 50 |
ColorSpace | sRGB |
ColorTemperature | 4565 |
ColorTransform | YCbCr |
Contrast | Normal |
Contrast2012 | +30 |
ConvertToGrayscale | False |
Copyright | KAMIZOOM.COM |
CopyrightNotice | KAMIZOOM.COM |
Country | Norway |
Country-PrimaryLocationCode | NO |
Country-PrimaryLocationName | Norway |
CountryCode | NO |
CreateDate (1) | 2017:12:05 09:06:08.16 |
CreateDate | 2017:12:05 09:06:08 |
Creator | Trond K Wiik |
CreatorAddress | Tjødnavegen 19 |
CreatorCity | Straume |
CreatorCountry | Norway |
CreatorPostalCode | 5354 |
CreatorRegion | Bergen |
CreatorTool | Adobe Photoshop Lightroom Classic 7.0 (Macintosh) |
CreatorWorkEmail | norwayinphoto@gmail.com |
CreatorWorkTelephone | 45266227 |
CreatorWorkURL | norwayinphoto.com |
CropAngle | 0.924945 |
CropBottom | 1 |
CropConstrainToWarp | 0 |
CropLeft | 0.009981 |
CropRight | 0.935387 |
CropTop | 0.050007 |
CustomRendered | Normal |
DateCreated (1) | 2017:12:05 |
DateCreated | 2017:12:05 09:06:08.16 |
DateTimeOriginal | 2017:12:05 09:06:08 |
DefringeGreenAmount | 0 |
DefringeGreenHueHi | 60 |
DefringeGreenHueLo | 40 |
DefringePurpleAmount | 0 |
DefringePurpleHueHi | 70 |
DefringePurpleHueLo | 30 |
Dehaze | 0 |
DistortionCorrectionAlreadyApplied | True |
DOF | inf (1.92 m - inf) |
Exposure2012 | +0.30 |
ExposureCompensation | 0 |
ExposureMode | Manual |
ExposureProgram | Manual |
ExposureTime | 10 |
Flash | No Flash |
FNumber | 10.0 |
FocalLength | 24.0 mm |
FocalLength35efl | 24.0 mm (35 mm equivalent: 24.0 mm) |
FocalLengthIn35mmFormat | 24 mm |
Format | image/jpeg |
FOV | 73.7 deg |
GainControl | None |
GPSAltitude | 0.9567 m |
GPSLatitude (1) | 61 deg 36' 1.63" |
GPSLatitude | 61 deg 36' 1.63" N |
GPSLatitudeRef | North |
GPSLongitude (1) | 5 deg 1' 45.05" |
GPSLongitude | 5 deg 1' 45.05" E |
GPSLongitudeRef | East |
GPSPosition | 61 deg 36' 1.63" N, 5 deg 1' 45.05" E |
GPSVersionID | 2.2.0.0 |
GradientBasedCorrActive | true |
GradientBasedCorrAmount | 1.000000 |
GradientBasedCorrBrightness | 0.000000 |
GradientBasedCorrClarity2012 | 0.708321 |
GradientBasedCorrContrast2012 | 0.097580 |
GradientBasedCorrCorrectionRangeMaskColorAmount | 0.500000 |
GradientBasedCorrCorrectionRangeMaskLumFeather | 0.500000 |
GradientBasedCorrCorrectionRangeMaskLumMax | 1.000000 |
GradientBasedCorrCorrectionRangeMaskLumMin | 0.000000 |
GradientBasedCorrCorrectionRangeMaskType | 0 |
GradientBasedCorrDefringe | 0.000000 |
GradientBasedCorrExposure2012 | 0.445881 |
GradientBasedCorrHighlights2012 | -0.907312 |
GradientBasedCorrHue | 240.000000 |
GradientBasedCorrLocalBlacks2012 | 0.000000 |
GradientBasedCorrLocalDehaze | -0.022793 |
GradientBasedCorrLocalWhites2012 | 0.000000 |
GradientBasedCorrLuminanceNoise | 0.000000 |
GradientBasedCorrMaskFullX | 0.348207 |
GradientBasedCorrMaskFullY | 0.924914 |
GradientBasedCorrMaskValue | 1.000000 |
GradientBasedCorrMaskWhat | Mask/Gradient |
GradientBasedCorrMaskZeroX | 0.396158 |
GradientBasedCorrMaskZeroY | 0.506555 |
GradientBasedCorrMoire | 0.000000 |
GradientBasedCorrSaturation | 0.000000 |
GradientBasedCorrShadows2012 | 0.128641 |
GradientBasedCorrSharpness | 0.773703 |
GradientBasedCorrTemperature | 0.011150 |
GradientBasedCorrTint | 0.000000 |
GradientBasedCorrWhat | Correction |
GrainAmount | 0 |
GreenHue | +37 |
GreenSaturation | +100 |
HasCrop | True |
HasSettings | True |
Highlights2012 | -100 |
HueAdjustmentAqua | +52 |
HueAdjustmentBlue | 0 |
HueAdjustmentGreen | +25 |
HueAdjustmentMagenta | 0 |
HueAdjustmentOrange | 0 |
HueAdjustmentPurple | 0 |
HueAdjustmentRed | +18 |
HueAdjustmentYellow | 0 |
HyperfocalDistance | 1.92 m |
ImageHeight | 1652 |
ImageNumber | 912 |
ImageSize | 2500x1652 |
ImageWidth | 2500 |
ISO | 31 |
Keywords | 500px, Florø, Norway, Photographer, Photography, Weather, amazing, architecture, beautiful, blue, brew, byen, city, citys, cityscape, clouds, colors, dusk, harbor, harbor Lightroom, light, mirror, mirrow, morning, norwayinphoto, nydelig, orange, photooftheday, pier, rain, reflections, sea, skyline, storm, street, travel, vakkert, view, vær, water |
LateralChromaticAberrationCorrectionAlreadyApplied | True |
Lens | 24.0-70.0 mm f/2.8 |
LensID (1) | 147 |
LensID | AF-S Zoom-Nikkor 24-70mm f/2.8G ED |
LensInfo | 24-70mm f/2.8 |
LensManualDistortionAmount | 0 |
LensModel | 24.0-70.0 mm f/2.8 |
LensProfileChromaticAberrationScale | 100 |
LensProfileDistortionScale | 100 |
LensProfileEnable | 1 |
LensProfileFilename | NIKON D3X (Nikon FX 24-70mm f2.8 G ED) - RAW.lcp |
LensProfileName | Adobe (Nikon AF-S NIKKOR 24-70mm f/2.8G ED) |
LensProfileSetup | LensDefaults |
LensProfileVignettingScale | 100 |
LightSource | Unknown |
LightValue | 5.0 |
LuminanceAdjustmentAqua | 0 |
LuminanceAdjustmentBlue | 0 |
LuminanceAdjustmentGreen | +100 |
LuminanceAdjustmentMagenta | 0 |
LuminanceAdjustmentOrange | 0 |
LuminanceAdjustmentPurple | 0 |
LuminanceAdjustmentRed | 0 |
LuminanceAdjustmentYellow | 0 |
LuminanceNoiseReductionContrast | 22 |
LuminanceNoiseReductionDetail | 23 |
LuminanceSmoothing | 21 |
Make | NIKON CORPORATION |
MaxApertureValue | 2.8 |
Megapixels | 4.1 |
MeteringMode | Multi-segment |
Model | NIKON D850 |
ModifyDate (1) | 2017:12:07 19:22:53+01:00 |
ModifyDate | 2017:12:07 19:22:53 |
ParametricDarks | +19 |
ParametricHighlights | +11 |
ParametricHighlightSplit | 87 |
ParametricLights | 0 |
ParametricMidtoneSplit | 50 |
ParametricShadows | -58 |
ParametricShadowSplit | 10 |
PerspectiveAspect | 0 |
PerspectiveHorizontal | 0 |
PerspectiveRotate | 0.0 |
PerspectiveScale | 100 |
PerspectiveUpright | 0 |
PerspectiveVertical | 0 |
PerspectiveX | 0.00 |
PerspectiveY | 0.00 |
PostCropVignetteAmount | -38 |
PostCropVignetteFeather | 87 |
PostCropVignetteHighlightContrast | 3 |
PostCropVignetteMidpoint | 49 |
PostCropVignetteRoundness | -32 |
PostCropVignetteStyle | 1 |
ProcessVersion | 10.0 |
ProfileDescription | sRGB IEC61966-2.1 |
Province-State | Sogn og Fjordane |
RedHue | +42 |
RedSaturation | -100 |
Rights | KAMIZOOM.COM |
Saturation (1) | 0 |
Saturation | Normal |
SaturationAdjustmentAqua | 0 |
SaturationAdjustmentBlue | -59 |
SaturationAdjustmentGreen | 0 |
SaturationAdjustmentMagenta | 0 |
SaturationAdjustmentOrange | 0 |
SaturationAdjustmentPurple | 0 |
SaturationAdjustmentRed | 0 |
SaturationAdjustmentYellow | 0 |
ScaleFactor35efl | 1.0 |
SceneCaptureType | Standard |
SceneType | Directly photographed |
SensingMethod | One-chip color area |
SensitivityType | Recommended Exposure Index |
SerialNumber | 6006207 |
Shadows2012 | +100 |
ShadowTint | 0 |
SharpenDetail | 23 |
SharpenEdgeMasking | 26 |
SharpenRadius | +1.1 |
Sharpness (1) | 35 |
Sharpness | Normal |
ShutterSpeed | 10 |
ShutterSpeedValue | 10 |
Software | Adobe Photoshop Lightroom Classic 7.0 (Macintosh) |
SplitToningBalance | +100 |
SplitToningHighlightHue | 52 |
SplitToningHighlightSaturation | 4 |
SplitToningShadowHue | 225 |
SplitToningShadowSaturation | 63 |
State | Sogn og Fjordane |
Subject | 500px, Florø, Norway, Photographer, Photography, Weather, amazing, architecture, beautiful, blue, brew, byen, city, citys, cityscape, clouds, colors, dusk, harbor, harbor Lightroom, light, mirror, mirrow, morning, norwayinphoto, nydelig, orange, photooftheday, pier, rain, reflections, sea, skyline, storm, street, travel, vakkert, view, vær, water |
SubjectDistanceRange | Unknown |
Tint | +35 |
ToneCurve | 0, 0, 255, 255 |
ToneCurveBlue | 0, 0, 255, 255 |
ToneCurveGreen | 0, 0, 255, 255 |
ToneCurveName | Linear |
ToneCurveName2012 | Custom |
ToneCurvePV2012 | 0, 20, 60, 51, 123, 114, 193, 193, 255, 242 |
ToneCurvePV2012Blue | 0, 22, 36, 45, 103, 98, 191, 175, 255, 223 |
ToneCurvePV2012Green | 0, 0, 121, 120, 255, 255 |
ToneCurvePV2012Red | 0, 0, 55, 59, 119, 123, 188, 183, 255, 255 |
ToneCurveRed | 0, 0, 255, 255 |
Version | 10.0 |
Vibrance | +11 |
VignetteAmount | 0 |
VignetteCorrectionAlreadyApplied | True |
WhiteBalance (1) | Custom |
WhiteBalance | Auto |
Whites2012 | +39 |