Felt | Verdi |
AlreadyApplied | True |
Aperture | 16.0 |
ApertureValue | 16.0 |
ApproximateFocusDistance | 4294967295 |
Artist | Trond K Wiik |
AuthorsPosition | Photography |
AutoLateralCA | 0 |
BitsPerSample | 8 |
Blacks2012 | 0 |
BlueHue | 0 |
BlueSaturation | 0 |
By-line | Trond K Wiik |
By-lineTitle | Photography |
CameraProfile | Adobe Standard |
CFAPattern | [Red,Green][Green,Blue] |
CircGradBasedCorrActive | true |
CircGradBasedCorrAmount | 1.000000 |
CircGradBasedCorrBrightness | 0.000000 |
CircGradBasedCorrClarity2012 (1) | -0.860285 |
CircGradBasedCorrClarity2012 | 0.000000 |
CircGradBasedCorrContrast2012 (2) | 0.097580 |
CircGradBasedCorrContrast2012 | 0.000000 |
CircGradBasedCorrCorrectionRangeMaskColorAmount | 0.500000 |
CircGradBasedCorrCorrectionRangeMaskLumFeather | 0.500000 |
CircGradBasedCorrCorrectionRangeMaskLumMax | 1.000000 |
CircGradBasedCorrCorrectionRangeMaskLumMin | 0.000000 |
CircGradBasedCorrCorrectionRangeMaskType | 0 |
CircGradBasedCorrDefringe | 0.000000 |
CircGradBasedCorrExposure2012 (1) | 0.445881 |
CircGradBasedCorrExposure2012 (2) | 0.100994 |
CircGradBasedCorrExposure2012 (3) | 0.044140 |
CircGradBasedCorrExposure2012 | 0.000000 |
CircGradBasedCorrHighlights2012 | 0.000000 |
CircGradBasedCorrHue (1) | 256.042999 |
CircGradBasedCorrHue (2) | 240.000000 |
CircGradBasedCorrHue | 0.000000 |
CircGradBasedCorrLocalBlacks2012 | 0.000000 |
CircGradBasedCorrLocalDehaze | 0.000000 |
CircGradBasedCorrLocalWhites2012 | 0.000000 |
CircGradBasedCorrLuminanceNoise | 0.000000 |
CircGradBasedCorrMaskAngle (1) | -11.111500 |
CircGradBasedCorrMaskAngle (2) | 0.000000 |
CircGradBasedCorrMaskAngle (4) | 16.179100 |
CircGradBasedCorrMaskAngle | 2.659370 |
CircGradBasedCorrMaskBottom (1) | 0.973651 |
CircGradBasedCorrMaskBottom (2) | 0.586132 |
CircGradBasedCorrMaskBottom (3) | 0.424680 |
CircGradBasedCorrMaskBottom (4) | 0.526685 |
CircGradBasedCorrMaskBottom | 1.090760 |
CircGradBasedCorrMaskFeather (1) | +37 |
CircGradBasedCorrMaskFeather (2) | +63 |
CircGradBasedCorrMaskFeather | +50 |
CircGradBasedCorrMaskFlipped | true |
CircGradBasedCorrMaskLeft (1) | -0.211766 |
CircGradBasedCorrMaskLeft (2) | 0.657125 |
CircGradBasedCorrMaskLeft (3) | 0.295554 |
CircGradBasedCorrMaskLeft (4) | 0.346139 |
CircGradBasedCorrMaskLeft | 0.507715 |
CircGradBasedCorrMaskMidpoint | +50 |
CircGradBasedCorrMaskRight (1) | 1.151350 |
CircGradBasedCorrMaskRight (2) | 0.945813 |
CircGradBasedCorrMaskRight (3) | 0.611280 |
CircGradBasedCorrMaskRight (4) | 0.540741 |
CircGradBasedCorrMaskRight | 0.525936 |
CircGradBasedCorrMaskRoundness | 0 |
CircGradBasedCorrMaskTop (1) | 0.693018 |
CircGradBasedCorrMaskTop (2) | 0.044914 |
CircGradBasedCorrMaskTop (3) | 0.104743 |
CircGradBasedCorrMaskTop (4) | 0.259460 |
CircGradBasedCorrMaskTop | 1.060760 |
CircGradBasedCorrMaskValue | 1.000000 |
CircGradBasedCorrMaskVersion | +2 |
CircGradBasedCorrMaskWhat | Mask/CircularGradient |
CircGradBasedCorrMoire | 0.000000 |
CircGradBasedCorrSaturation (2) | 0.572463 |
CircGradBasedCorrSaturation (3) | -0.028861 |
CircGradBasedCorrSaturation | 0.000000 |
CircGradBasedCorrShadows2012 (1) | 0.128641 |
CircGradBasedCorrShadows2012 (2) | 0.690989 |
CircGradBasedCorrShadows2012 | 0.000000 |
CircGradBasedCorrSharpness | 0.000000 |
CircGradBasedCorrTemperature (1) | 0.011150 |
CircGradBasedCorrTemperature (2) | 0.022034 |
CircGradBasedCorrTemperature (4) | 0.591954 |
CircGradBasedCorrTemperature | 0.000000 |
CircGradBasedCorrTint (3) | 0.273946 |
CircGradBasedCorrTint | 0.000000 |
CircGradBasedCorrWhat | Correction |
CircleOfConfusion | 0.030 mm |
Clarity2012 | +21 |
ColorComponents | 3 |
ColorNoiseReduction | 25 |
ColorNoiseReductionDetail | 50 |
ColorNoiseReductionSmoothness | 50 |
ColorSpace | sRGB |
ColorTemperature | 5450 |
ColorTransform | YCbCr |
Contrast | Normal |
Contrast2012 | 0 |
ConvertToGrayscale | False |
Copyright | KAMIZOOM.COM |
CopyrightNotice | KAMIZOOM.COM |
Country | Norway |
Country-PrimaryLocationCode | NO |
Country-PrimaryLocationName | Norway |
CountryCode | NO |
CreateDate (1) | 2017:11:30 13:42:42.66 |
CreateDate | 2017:11:30 13:42:42 |
Creator | Trond K Wiik |
CreatorAddress | Tjødnavegen 19 |
CreatorCity | Straume |
CreatorCountry | Norway |
CreatorPostalCode | 5354 |
CreatorRegion | Bergen |
CreatorTool | Adobe Photoshop Lightroom Classic 7.0 (Macintosh) |
CreatorWorkEmail | norwayinphoto@gmail.com |
CreatorWorkTelephone | 45266227 |
CreatorWorkURL | norwayinphoto.com |
CropAngle | 2.65937 |
CropBottom | 0.874369 |
CropConstrainToWarp | 0 |
CropLeft | 0.04995 |
CropRight | 0.840321 |
CropTop | 0.062632 |
CustomRendered | Normal |
DateCreated (1) | 2017:11:30 |
DateCreated | 2017:11:30 13:42:42.66 |
DateTimeOriginal | 2017:11:30 13:42:42 |
DefringeGreenAmount | 0 |
DefringeGreenHueHi | 60 |
DefringeGreenHueLo | 40 |
DefringePurpleAmount | 0 |
DefringePurpleHueHi | 70 |
DefringePurpleHueLo | 30 |
Dehaze | 0 |
DOF | inf (0.41 m - inf) |
Exposure2012 | +1.20 |
ExposureCompensation | 0 |
ExposureMode | Manual |
ExposureProgram | Manual |
ExposureTime | 1/20 |
Flash | No Flash |
FNumber | 16.0 |
FocalLength | 14.0 mm |
FocalLength35efl | 14.0 mm (35 mm equivalent: 14.0 mm) |
FocalLengthIn35mmFormat | 14 mm |
Format | image/jpeg |
FOV | 104.3 deg |
GainControl | None |
GPSAltitude | 0 m |
GPSLatitude (1) | 61 deg 12' 26.52" |
GPSLatitude | 61 deg 12' 26.52" N |
GPSLatitudeRef | North |
GPSLongitude (1) | 7 deg 38' 52.09" |
GPSLongitude | 7 deg 38' 52.09" E |
GPSLongitudeRef | East |
GPSPosition | 61 deg 12' 26.52" N, 7 deg 38' 52.09" E |
GPSVersionID | 2.2.0.0 |
GradientBasedCorrActive | true |
GradientBasedCorrAmount | 1.000000 |
GradientBasedCorrBrightness | 0.000000 |
GradientBasedCorrClarity2012 | 0.000000 |
GradientBasedCorrContrast2012 | 0.025751 |
GradientBasedCorrCorrectionRangeMaskColorAmount | 0.500000 |
GradientBasedCorrCorrectionRangeMaskLumFeather | 0.500000 |
GradientBasedCorrCorrectionRangeMaskLumMax | 1.000000 |
GradientBasedCorrCorrectionRangeMaskLumMin | 0.000000 |
GradientBasedCorrCorrectionRangeMaskType | 0 |
GradientBasedCorrDefringe | 0.000000 |
GradientBasedCorrExposure2012 | -0.174150 |
GradientBasedCorrHighlights2012 | 0.015663 |
GradientBasedCorrHue | 240.000000 |
GradientBasedCorrLocalBlacks2012 | 0.000000 |
GradientBasedCorrLocalDehaze | 0.000000 |
GradientBasedCorrLocalWhites2012 | 0.000000 |
GradientBasedCorrLuminanceNoise | 0.000000 |
GradientBasedCorrMaskFullX | 0.467691 |
GradientBasedCorrMaskFullY | 0.105889 |
GradientBasedCorrMaskValue | 1.000000 |
GradientBasedCorrMaskWhat | Mask/Gradient |
GradientBasedCorrMaskZeroX | 0.438296 |
GradientBasedCorrMaskZeroY | 0.269354 |
GradientBasedCorrMoire | 0.000000 |
GradientBasedCorrSaturation | 0.000000 |
GradientBasedCorrShadows2012 | -0.009026 |
GradientBasedCorrSharpness | 0.000000 |
GradientBasedCorrTemperature | 0.093105 |
GradientBasedCorrTint | 0.175099 |
GradientBasedCorrWhat | Correction |
GrainAmount | 0 |
GreenHue | 0 |
GreenSaturation | 0 |
HasCrop | True |
HasSettings | True |
Highlights2012 | -71 |
HueAdjustmentAqua | 0 |
HueAdjustmentBlue | 0 |
HueAdjustmentGreen | 0 |
HueAdjustmentMagenta | 0 |
HueAdjustmentOrange | 0 |
HueAdjustmentPurple | 0 |
HueAdjustmentRed | +1 |
HueAdjustmentYellow | 0 |
HyperfocalDistance | 0.41 m |
ImageHeight | 1546 |
ImageNumber | 811 |
ImageSize | 2500x1546 |
ImageWidth | 2500 |
ISO | 31 |
Keywords | 500px, Frost, Lightroom, Norway, Photographer, Photography, Sogndal, Weather, amazing, beautiful, blue, byen, city, clouds, colors, day, elv, frozen, ground, ice, is, lake, landscape, mirror, mirrow, norwayinphoto, nydelig, orange, photooftheday, reflections, river, rock, sol, soloppgang, sun, sunrise, threes, trees, vakkert, view, vinter, vær, water, Årdalstangen |
Lens | 14.0 mm f/2.8 |
LensID (1) | 74 |
LensID | Samyang AE 14mm f/2.8 ED AS IF UMC |
LensInfo | 14mm f/2.8-1.4 |
LensManualDistortionAmount | 0 |
LensModel | 14.0 mm f/2.8 |
LensProfileEnable | 0 |
LensProfileSetup | LensDefaults |
LightSource | Unknown |
LightValue | 14.0 |
LuminanceAdjustmentAqua | 0 |
LuminanceAdjustmentBlue | 0 |
LuminanceAdjustmentGreen | 0 |
LuminanceAdjustmentMagenta | 0 |
LuminanceAdjustmentOrange | 0 |
LuminanceAdjustmentPurple | 0 |
LuminanceAdjustmentRed | 0 |
LuminanceAdjustmentYellow | 0 |
LuminanceSmoothing | 0 |
Make | NIKON CORPORATION |
MaxApertureValue | 2.8 |
Megapixels | 3.9 |
MeteringMode | Multi-segment |
Model | NIKON D850 |
ModifyDate (1) | 2017:12:01 09:57:00+01:00 |
ModifyDate | 2017:12:01 09:57:00 |
ParametricDarks | 0 |
ParametricHighlights | +20 |
ParametricHighlightSplit | 75 |
ParametricLights | +13 |
ParametricMidtoneSplit | 50 |
ParametricShadows | 0 |
ParametricShadowSplit | 25 |
PerspectiveAspect | 0 |
PerspectiveHorizontal | 0 |
PerspectiveRotate | 0.0 |
PerspectiveScale | 100 |
PerspectiveUpright | 0 |
PerspectiveVertical | 0 |
PerspectiveX | 0.00 |
PerspectiveY | 0.00 |
PostCropVignetteAmount | 0 |
ProcessVersion | 10.0 |
ProfileDescription | sRGB IEC61966-2.1 |
Province-State | Sogn og Fjordane |
RedHue | 0 |
RedSaturation | 0 |
Rights | KAMIZOOM.COM |
Saturation (1) | +22 |
Saturation | Normal |
SaturationAdjustmentAqua | 0 |
SaturationAdjustmentBlue | 0 |
SaturationAdjustmentGreen | 0 |
SaturationAdjustmentMagenta | 0 |
SaturationAdjustmentOrange | 0 |
SaturationAdjustmentPurple | 0 |
SaturationAdjustmentRed | 0 |
SaturationAdjustmentYellow | 0 |
ScaleFactor35efl | 1.0 |
SceneCaptureType | Standard |
SceneType | Directly photographed |
SensingMethod | One-chip color area |
SensitivityType | Recommended Exposure Index |
SerialNumber | 6006207 |
Shadows2012 | +70 |
ShadowTint | 0 |
SharpenDetail | 25 |
SharpenEdgeMasking | 0 |
SharpenRadius | +1.0 |
Sharpness (1) | 60 |
Sharpness | Normal |
ShutterSpeed | 1/20 |
ShutterSpeedValue | 1/20 |
Software | Adobe Photoshop Lightroom Classic 7.0 (Macintosh) |
SplitToningBalance | 0 |
SplitToningHighlightHue | 0 |
SplitToningHighlightSaturation | 0 |
SplitToningShadowHue | 0 |
SplitToningShadowSaturation | 0 |
State | Sogn og Fjordane |
Subject | 500px, Frost, Lightroom, Norway, Photographer, Photography, Sogndal, Weather, amazing, beautiful, blue, byen, city, clouds, colors, day, elv, frozen, ground, ice, is, lake, landscape, mirror, mirrow, norwayinphoto, nydelig, orange, photooftheday, reflections, river, rock, sol, soloppgang, sun, sunrise, threes, trees, vakkert, view, vinter, vær, water, Årdalstangen |
SubjectDistanceRange | Unknown |
Tint | +43 |
ToneCurve | 0, 0, 255, 255 |
ToneCurveBlue | 0, 0, 255, 255 |
ToneCurveGreen | 0, 0, 255, 255 |
ToneCurveName | Linear |
ToneCurveName2012 | Linear |
ToneCurvePV2012 | 0, 0, 255, 255 |
ToneCurvePV2012Blue | 0, 0, 255, 255 |
ToneCurvePV2012Green | 0, 0, 255, 255 |
ToneCurvePV2012Red | 0, 0, 255, 255 |
ToneCurveRed | 0, 0, 255, 255 |
Version | 10.0 |
Vibrance | +12 |
VignetteAmount | 0 |
WhiteBalance (1) | Custom |
WhiteBalance | Auto |
Whites2012 | +24 |