Felt | Verdi |
AlreadyApplied | True |
Aperture | 8.0 |
ApertureValue | 8.0 |
ApproximateFocusDistance | 2.99 |
AutoLateralCA | 1 |
AutoWhiteVersion | 134348800 |
BitsPerSample | 8 |
Blacks2012 | -5 |
BlueHue | -41 |
BlueSaturation | -100 |
CameraProfile | Adobe Standard |
CFAPattern | [Red,Green][Green,Blue] |
CircGradBasedCorrActive | true |
CircGradBasedCorrAmount | 1.000000 |
CircGradBasedCorrBrightness | 0.000000 |
CircGradBasedCorrClarity2012 (1) | 0.000000 |
CircGradBasedCorrClarity2012 (2) | -1.000000 |
CircGradBasedCorrClarity2012 | -0.886150 |
CircGradBasedCorrContrast2012 (2) | -1.000000 |
CircGradBasedCorrContrast2012 (4) | 0.000000 |
CircGradBasedCorrContrast2012 | 0.356455 |
CircGradBasedCorrDefringe | 0.000000 |
CircGradBasedCorrExposure2012 (1) | -0.080000 |
CircGradBasedCorrExposure2012 (2) | 0.537015 |
CircGradBasedCorrExposure2012 (3) | -0.168234 |
CircGradBasedCorrExposure2012 (4) | -0.277723 |
CircGradBasedCorrExposure2012 | 0.102131 |
CircGradBasedCorrHighlights2012 (1) | -0.440000 |
CircGradBasedCorrHighlights2012 | 0.000000 |
CircGradBasedCorrHue | 240.000000 |
CircGradBasedCorrLocalBlacks2012 | 0.000000 |
CircGradBasedCorrLocalDehaze | 0.000000 |
CircGradBasedCorrLocalWhites2012 | 0.000000 |
CircGradBasedCorrLuminanceNoise | 0.000000 |
CircGradBasedCorrMaskAngle (1) | 6.936630 |
CircGradBasedCorrMaskAngle (2) | -16.825300 |
CircGradBasedCorrMaskAngle (3) | 0.000000 |
CircGradBasedCorrMaskAngle | 0.400999 |
CircGradBasedCorrMaskBottom (1) | 1.130580 |
CircGradBasedCorrMaskBottom (2) | 1.084580 |
CircGradBasedCorrMaskBottom (3) | 0.471315 |
CircGradBasedCorrMaskBottom (4) | 0.654692 |
CircGradBasedCorrMaskBottom | 0.368724 |
CircGradBasedCorrMaskFeather (1) | +50 |
CircGradBasedCorrMaskFeather | +63 |
CircGradBasedCorrMaskFlipped (1) | false |
CircGradBasedCorrMaskFlipped | true |
CircGradBasedCorrMaskLeft (1) | 0.443041 |
CircGradBasedCorrMaskLeft (2) | 0.504671 |
CircGradBasedCorrMaskLeft (3) | 0.003777 |
CircGradBasedCorrMaskLeft (4) | 0.169732 |
CircGradBasedCorrMaskLeft | 0.333116 |
CircGradBasedCorrMaskMidpoint | +50 |
CircGradBasedCorrMaskRight (1) | 0.846016 |
CircGradBasedCorrMaskRight (2) | 1.117340 |
CircGradBasedCorrMaskRight (3) | 0.415727 |
CircGradBasedCorrMaskRight (4) | 0.905697 |
CircGradBasedCorrMaskRight | 0.842317 |
CircGradBasedCorrMaskRoundness | 0 |
CircGradBasedCorrMaskTop (1) | -0.307432 |
CircGradBasedCorrMaskTop (2) | 0.969916 |
CircGradBasedCorrMaskTop (3) | 0.076094 |
CircGradBasedCorrMaskTop (4) | 0.334732 |
CircGradBasedCorrMaskTop | 0.219824 |
CircGradBasedCorrMaskValue | 1.000000 |
CircGradBasedCorrMaskVersion | +2 |
CircGradBasedCorrMaskWhat | Mask/CircularGradient |
CircGradBasedCorrMoire | 0.000000 |
CircGradBasedCorrSaturation | 0.000000 |
CircGradBasedCorrShadows2012 (2) | 0.357137 |
CircGradBasedCorrShadows2012 | 0.000000 |
CircGradBasedCorrSharpness (1) | -0.860000 |
CircGradBasedCorrSharpness | 0.000000 |
CircGradBasedCorrTemperature | 0.000000 |
CircGradBasedCorrTint | 0.000000 |
CircGradBasedCorrWhat | Correction |
CircleOfConfusion | 0.030 mm |
City | Bergen |
Clarity2012 | +75 |
ColorComponents | 3 |
ColorNoiseReduction | 35 |
ColorNoiseReductionDetail | 100 |
ColorNoiseReductionSmoothness | 50 |
ColorSpace | sRGB |
ColorTemperature | 4574 |
ColorTransform | YCbCr |
Contrast | Normal |
Contrast2012 | +21 |
ConvertToGrayscale | False |
Copyright | Trond K. Wiik |
CopyrightNotice | Trond K. Wiik |
Country | Norway |
Country-PrimaryLocationCode | NO |
Country-PrimaryLocationName | Norway |
CountryCode | NO |
CreateDate (1) | 2016:12:11 14:31:18.11 |
CreateDate | 2016:12:11 14:31:18 |
CreatorTool | Adobe Photoshop Lightroom 6.9 (Macintosh) |
CropAngle | 0.400999 |
CropBottom | 0.993231 |
CropConstrainToWarp | 0 |
CropLeft | 0.007125 |
CropRight | 0.889996 |
CropTop | 0.097235 |
CustomRendered | Normal |
DateCreated (1) | 2016:12:11 |
DateCreated | 2016:12:11 14:31:18.10 |
DateTimeOriginal | 2016:12:11 14:31:18 |
DefringeGreenAmount | 0 |
DefringeGreenHueHi | 60 |
DefringeGreenHueLo | 40 |
DefringePurpleAmount | 0 |
DefringePurpleHueHi | 70 |
DefringePurpleHueLo | 30 |
Dehaze | 0 |
DigitalZoomRatio | 1 |
DOF | inf (1.34 m - inf) |
Exposure2012 | -0.40 |
ExposureCompensation | 0 |
ExposureMode | Manual |
ExposureProgram | Manual |
ExposureTime | 1/80 |
Flash | Off, Did not fire |
FNumber | 8.0 |
FocalLength | 24.0 mm |
FocalLength35efl | 24.0 mm (35 mm equivalent: 24.0 mm) |
FocalLengthIn35mmFormat | 24 mm |
Format | image/jpeg |
FOV | 73.7 deg |
GainControl | None |
GPSAltitude | 37.0992 m |
GPSLatitude (1) | 60 deg 22' 8.81" |
GPSLatitude | 60 deg 22' 8.81" N |
GPSLatitudeRef | North |
GPSLongitude (1) | 5 deg 12' 47.76" |
GPSLongitude | 5 deg 12' 47.76" E |
GPSLongitudeRef | East |
GPSPosition | 60 deg 22' 8.81" N, 5 deg 12' 47.76" E |
GPSVersionID | 2.2.0.0 |
GrainAmount | 8 |
GrainFrequency | 50 |
GrainSize | 25 |
GreenHue | +100 |
GreenSaturation | +100 |
HasCrop | True |
HasSettings | True |
Highlights2012 | -56 |
HueAdjustmentAqua | +53 |
HueAdjustmentBlue | -20 |
HueAdjustmentGreen | -18 |
HueAdjustmentMagenta | +100 |
HueAdjustmentOrange | -10 |
HueAdjustmentPurple | +40 |
HueAdjustmentRed | -14 |
HueAdjustmentYellow | -19 |
HyperfocalDistance | 2.40 m |
ImageHeight | 1668 |
ImageNumber | 1691 |
ImageSize | 2500x1668 |
ImageWidth | 2500 |
IsMergedHDR | True |
ISO | 100 |
Keywords | Bergen, Lightroom, Lightroom 6 training, Sitron, Storavannet, amazing, beautiful, clouds, coast, colors, day, fog, glede, landscape, love, lovely, moment, norwayinphoto, nydelig, photooftheday, sky, sol, sommer, sun, sunset, true, vakkert, west |
Lens | 24.0 mm f/1.4 |
LensID (1) | 74 |
LensID | Samyang 24mm f/1.4 ED AS UMC |
LensInfo | 24mm f/1.4 |
LensManualDistortionAmount | 0 |
LensModel | 24.0 mm f/1.4 |
LensProfileChromaticAberrationScale | 100 |
LensProfileDistortionScale | 100 |
LensProfileEnable | 0 |
LensProfileFilename | Canon EOS 5D Mark II (Canon EF 28mm f1.8 USM) - RAW.lcp |
LensProfileName | Adobe (Canon EF 28mm f/1.8 USM) |
LensProfileSetup | Custom |
LensProfileVignettingScale | 83 |
LightSource | Unknown |
LightValue | 12.3 |
LuminanceAdjustmentAqua | +100 |
LuminanceAdjustmentBlue | +18 |
LuminanceAdjustmentGreen | +100 |
LuminanceAdjustmentMagenta | +42 |
LuminanceAdjustmentOrange | +51 |
LuminanceAdjustmentPurple | +36 |
LuminanceAdjustmentRed | +19 |
LuminanceAdjustmentYellow | +100 |
LuminanceNoiseReductionContrast | 0 |
LuminanceNoiseReductionDetail | 50 |
LuminanceSmoothing | 20 |
Make | NIKON CORPORATION |
MaxApertureValue | 1.4 |
Megapixels | 4.2 |
MeteringMode | Multi-segment |
Model | NIKON D810A |
ModifyDate (1) | 2017:08:18 18:08:16+02:00 |
ModifyDate | 2017:08:18 18:08:16 |
ParametricDarks | -11 |
ParametricHighlights | +2 |
ParametricHighlightSplit | 87 |
ParametricLights | -18 |
ParametricMidtoneSplit | 50 |
ParametricShadows | -37 |
ParametricShadowSplit | 10 |
PerspectiveAspect | 0 |
PerspectiveHorizontal | 0 |
PerspectiveRotate | 0.0 |
PerspectiveScale | 100 |
PerspectiveUpright | 0 |
PerspectiveVertical | 0 |
PerspectiveX | 0.00 |
PerspectiveY | 0.00 |
PostCropVignetteAmount | -15 |
PostCropVignetteFeather | 86 |
PostCropVignetteHighlightContrast | 100 |
PostCropVignetteMidpoint | 11 |
PostCropVignetteRoundness | +100 |
PostCropVignetteStyle | 1 |
ProcessVersion | 6.7 |
ProfileDescription | sRGB IEC61966-2.1 |
Province-State | Hordaland |
RedHue | +86 |
RedSaturation | +74 |
Rights | Trond K. Wiik |
Saturation (1) | -41 |
Saturation | Normal |
SaturationAdjustmentAqua | +18 |
SaturationAdjustmentBlue | -78 |
SaturationAdjustmentGreen | -100 |
SaturationAdjustmentMagenta | -25 |
SaturationAdjustmentOrange | -40 |
SaturationAdjustmentPurple | -93 |
SaturationAdjustmentRed | -18 |
SaturationAdjustmentYellow | -61 |
ScaleFactor35efl | 1.0 |
SceneCaptureType | Standard |
SceneType | Directly photographed |
SensingMethod | One-chip color area |
SensitivityType | Recommended Exposure Index |
SerialNumber | 6000593 |
Shadows2012 | +52 |
ShadowTint | -35 |
SharpenDetail | 25 |
SharpenEdgeMasking | 0 |
SharpenRadius | +1.4 |
Sharpness (1) | 71 |
Sharpness | Normal |
ShutterSpeed | 1/80 |
ShutterSpeedValue | 1/80 |
Software | Adobe Photoshop Lightroom 6.9 (Macintosh) |
SplitToningBalance | 0 |
SplitToningHighlightHue | 68 |
SplitToningHighlightSaturation | 23 |
SplitToningShadowHue | 14 |
SplitToningShadowSaturation | 10 |
State | Hordaland |
Subject | Bergen, Lightroom, Lightroom 6 training, Sitron, Storavannet, amazing, beautiful, clouds, coast, colors, day, fog, glede, landscape, love, lovely, moment, norwayinphoto, nydelig, photooftheday, sky, sol, sommer, sun, sunset, true, vakkert, west |
SubjectDistanceRange | Unknown |
Tint | -1 |
ToneCurve | 0, 0, 255, 255 |
ToneCurveBlue | 0, 0, 255, 255 |
ToneCurveGreen | 0, 0, 255, 255 |
ToneCurveName | Linear |
ToneCurveName2012 | Custom |
ToneCurvePV2012 | 0, 16, 63, 52, 128, 124, 181, 183, 255, 233 |
ToneCurvePV2012Blue | 0, 10, 74, 74, 216, 214, 255, 247 |
ToneCurvePV2012Green | 3, 0, 255, 255 |
ToneCurvePV2012Red | 0, 0, 75, 78, 203, 199, 255, 255 |
ToneCurveRed | 0, 0, 255, 255 |
ToneMapStrength | 0 |
Version | 9.9 |
Vibrance | +96 |
VignetteAmount | -64 |
VignetteMidpoint | 15 |
WhiteBalance (1) | Custom |
WhiteBalance | Auto |
Whites2012 | -54 |