Felt | Verdi |
AlreadyApplied | True |
Aperture | 8.0 |
ApertureValue | 8.0 |
ApproximateFocusDistance | 1.33 |
Artist | André Kvevik |
AutoLateralCA | 0 |
AutoWhiteVersion | 134348800 |
BitsPerSample | 8 |
Blacks2012 | -25 |
BlueHue | 0 |
BlueSaturation | 0 |
By-line | André Kvevik |
CameraProfile | Adobe Standard |
CFAPattern | [Red,Green][Green,Blue] |
CircleOfConfusion | 0.030 mm |
Clarity2012 | +41 |
ColorComponents | 3 |
ColorNoiseReduction | 25 |
ColorNoiseReductionDetail | 50 |
ColorNoiseReductionSmoothness | 50 |
ColorSpace | sRGB |
ColorTemperature | 8685 |
ColorTransform | YCbCr |
Contrast | Normal |
Contrast2012 | +15 |
ConvertToGrayscale | True |
Copyright | André Kvevik |
CopyrightFlag | True |
CopyrightNotice | André Kvevik |
CreateDate (1) | 2017:02:05 15:57:09.70 |
CreateDate | 2017:02:05 15:57:09 |
Creator | André Kvevik |
CreatorTool | Adobe Photoshop Lightroom 6.9 (Macintosh) |
CropAngle | 0 |
CropBottom | 1 |
CropConstrainToWarp | 0 |
CropLeft | 0.127759 |
CropRight | 0.961999 |
CropTop | 0 |
CustomRendered | Custom |
DateCreated (1) | 2017:02:05 |
DateCreated | 2017:02:05 15:57:09.70 |
DateTimeOriginal | 2017:02:05 15:57:09 |
Dehaze | 0 |
DigitalZoomRatio | 1 |
DOF | 0.06 m (1.30 - 1.36 m) |
Exposure2012 | 0.00 |
ExposureCompensation | 0 |
ExposureMode | Manual |
ExposureProgram | Manual |
ExposureTime | 1/60 |
Flash | On, Return not detected |
FNumber | 8.0 |
FocalLength | 116.0 mm |
FocalLength35efl | 116.0 mm (35 mm equivalent: 116.0 mm) |
FocalLengthIn35mmFormat | 116 mm |
Format | image/jpeg |
FOV | 17.6 deg |
GainControl | None |
GrainAmount | 0 |
GrayMixerAqua | -22 |
GrayMixerBlue | +2 |
GrayMixerGreen | -22 |
GrayMixerMagenta | +12 |
GrayMixerOrange | +2 |
GrayMixerPurple | +14 |
GrayMixerRed | +5 |
GrayMixerYellow | -13 |
GreenHue | 0 |
GreenSaturation | 0 |
HasCrop | True |
HasExtendedXMP | 41FE3053B99B2EC656ECCECEE7757145 |
HasSettings | True |
Highlights2012 | -43 |
HyperfocalDistance | 55.98 m |
ImageHeight | 6140 |
ImageNumber | 31631 |
ImageSize | 4912x6140 |
ImageWidth | 4912 |
ISO | 200 |
Keywords | Tonde Portrett 2 |
Lens | TAMRON SP 70-200mm F2.8 Di VC USD A009N |
LensID (1) | 254 |
LensID | Tamron SP AF 70-200mm f/2.8 Di LD (IF) Macro (A001) or Tamron SP 70-200mm f/2.8 Di VC USD (A009) |
LensInfo | 70-200mm f/2.8 |
LensManualDistortionAmount | 0 |
LensModel | TAMRON SP 70-200mm F2.8 Di VC USD A009N |
LensProfileEnable | 0 |
LensProfileSetup | LensDefaults |
LightSource | Flash |
LightValue | 10.9 |
LuminanceSmoothing | 0 |
Make | NIKON CORPORATION |
Marked | True |
MaxApertureValue | 2.8 |
Megapixels | 30.2 |
MeteringMode | Spot |
Model | NIKON D800 |
ModifyDate (1) | 2017:03:24 22:48:10+01:00 |
ModifyDate | 2017:03:24 22:48:10 |
PaintCorrectionActive | true |
PaintCorrectionAmount | 1.000000 |
PaintCorrectionBrightness | 0.000000 |
PaintCorrectionClarity2012 (1) | 0.666637 |
PaintCorrectionClarity2012 (2) | -0.537820 |
PaintCorrectionClarity2012 | 0.000000 |
PaintCorrectionContrast2012 | 0.000000 |
PaintCorrectionDefringe | 0.000000 |
PaintCorrectionExposure2012 (1) | 0.052024 |
PaintCorrectionExposure2012 (12) | -0.664062 |
PaintCorrectionExposure2012 (14) | -0.221354 |
PaintCorrectionExposure2012 (2) | 0.000000 |
PaintCorrectionExposure2012 (4) | 0.062500 |
PaintCorrectionExposure2012 (5) | 0.016069 |
PaintCorrectionExposure2012 (6) | -0.819513 |
PaintCorrectionExposure2012 (9) | -0.771040 |
PaintCorrectionExposure2012 | -0.075000 |
PaintCorrectionHighlights2012 (7) | 0.018732 |
PaintCorrectionHighlights2012 | 0.000000 |
PaintCorrectionHue | 240.000000 |
PaintCorrectionLocalBlacks2012 | 0.000000 |
PaintCorrectionLocalDehaze | 0.000000 |
PaintCorrectionLocalWhites2012 (10) | 0.250000 |
PaintCorrectionLocalWhites2012 (7) | 0.573775 |
PaintCorrectionLocalWhites2012 (9) | 0.664240 |
PaintCorrectionLocalWhites2012 | 0.000000 |
PaintCorrectionLuminanceNoise | 0.000000 |
PaintCorrectionMaskCenterWeight (147) | 0.105656 |
PaintCorrectionMaskCenterWeight (149) | 0.349837 |
PaintCorrectionMaskCenterWeight (21) | 0.035858 |
PaintCorrectionMaskCenterWeight | 0.000000 |
PaintCorrectionMaskFlow (1) | 0.807553 |
PaintCorrectionMaskFlow (10) | 0.839805 |
PaintCorrectionMaskFlow (101) | 0.493300 |
PaintCorrectionMaskFlow (104) | 0.876102 |
PaintCorrectionMaskFlow (105) | 0.137459 |
PaintCorrectionMaskFlow (106) | 0.550874 |
PaintCorrectionMaskFlow (109) | 0.822358 |
PaintCorrectionMaskFlow (11) | 0.943097 |
PaintCorrectionMaskFlow (110) | 0.059260 |
PaintCorrectionMaskFlow (111) | 0.073127 |
PaintCorrectionMaskFlow (112) | 0.125219 |
PaintCorrectionMaskFlow (114) | 0.664474 |
PaintCorrectionMaskFlow (115) | 0.684162 |
PaintCorrectionMaskFlow (116) | 0.400971 |
PaintCorrectionMaskFlow (117) | 0.599017 |
PaintCorrectionMaskFlow (119) | 0.480432 |
PaintCorrectionMaskFlow (121) | 0.407497 |
PaintCorrectionMaskFlow (122) | 0.595455 |
PaintCorrectionMaskFlow (123) | 0.586344 |
PaintCorrectionMaskFlow (124) | 0.636922 |
PaintCorrectionMaskFlow (126) | 0.194492 |
PaintCorrectionMaskFlow (129) | 0.225865 |
PaintCorrectionMaskFlow (13) | 0.935147 |
PaintCorrectionMaskFlow (130) | 0.390961 |
PaintCorrectionMaskFlow (131) | 0.022967 |
PaintCorrectionMaskFlow (132) | 0.155276 |
PaintCorrectionMaskFlow (134) | 0.432494 |
PaintCorrectionMaskFlow (135) | 0.654651 |
PaintCorrectionMaskFlow (136) | 0.668545 |
PaintCorrectionMaskFlow (137) | 0.295576 |
PaintCorrectionMaskFlow (14) | 0.823582 |
PaintCorrectionMaskFlow (142) | 0.869561 |
PaintCorrectionMaskFlow (143) | 0.939451 |
PaintCorrectionMaskFlow (15) | 0.947538 |
PaintCorrectionMaskFlow (150) | 1.000000 |
PaintCorrectionMaskFlow (16) | 0.616202 |
PaintCorrectionMaskFlow (17) | 0.546651 |
PaintCorrectionMaskFlow (18) | 0.814146 |
PaintCorrectionMaskFlow (19) | 0.889841 |
PaintCorrectionMaskFlow (2) | 0.870451 |
PaintCorrectionMaskFlow (20) | 0.933062 |
PaintCorrectionMaskFlow (21) | 0.908977 |
PaintCorrectionMaskFlow (22) | 0.863612 |
PaintCorrectionMaskFlow (23) | 0.632286 |
PaintCorrectionMaskFlow (24) | 0.888300 |
PaintCorrectionMaskFlow (25) | 0.517594 |
PaintCorrectionMaskFlow (26) | 0.639966 |
PaintCorrectionMaskFlow (27) | 0.561172 |
PaintCorrectionMaskFlow (28) | 0.694014 |
PaintCorrectionMaskFlow (29) | 0.782991 |
PaintCorrectionMaskFlow (3) | 0.918407 |
PaintCorrectionMaskFlow (30) | 0.708058 |
PaintCorrectionMaskFlow (31) | 0.453012 |
PaintCorrectionMaskFlow (33) | 0.417074 |
PaintCorrectionMaskFlow (34) | 0.093275 |
PaintCorrectionMaskFlow (35) | 0.799284 |
PaintCorrectionMaskFlow (36) | 0.604273 |
PaintCorrectionMaskFlow (39) | 0.607774 |
PaintCorrectionMaskFlow (41) | 0.590025 |
PaintCorrectionMaskFlow (45) | 0.505679 |
PaintCorrectionMaskFlow (46) | 0.737602 |
PaintCorrectionMaskFlow (47) | 0.890984 |
PaintCorrectionMaskFlow (48) | 0.868214 |
PaintCorrectionMaskFlow (51) | 0.898363 |
PaintCorrectionMaskFlow (52) | 0.784534 |
PaintCorrectionMaskFlow (54) | 0.447272 |
PaintCorrectionMaskFlow (55) | 0.751821 |
PaintCorrectionMaskFlow (56) | 0.671222 |
PaintCorrectionMaskFlow (57) | 0.166808 |
PaintCorrectionMaskFlow (58) | 0.557096 |
PaintCorrectionMaskFlow (59) | 0.681631 |
PaintCorrectionMaskFlow (6) | 0.715832 |
PaintCorrectionMaskFlow (62) | 0.675180 |
PaintCorrectionMaskFlow (63) | 0.805524 |
PaintCorrectionMaskFlow (64) | 0.792810 |
PaintCorrectionMaskFlow (65) | 0.801390 |
PaintCorrectionMaskFlow (66) | 0.761629 |
PaintCorrectionMaskFlow (67) | 0.819881 |
PaintCorrectionMaskFlow (68) | 0.922547 |
PaintCorrectionMaskFlow (7) | 0.779076 |
PaintCorrectionMaskFlow (71) | 0.932003 |
PaintCorrectionMaskFlow (72) | 0.000244 |
PaintCorrectionMaskFlow (78) | 0.821124 |
PaintCorrectionMaskFlow (79) | 0.891363 |
PaintCorrectionMaskFlow (8) | 0.755445 |
PaintCorrectionMaskFlow (80) | 0.745312 |
PaintCorrectionMaskFlow (81) | 0.423322 |
PaintCorrectionMaskFlow (82) | 0.250343 |
PaintCorrectionMaskFlow (83) | 0.316515 |
PaintCorrectionMaskFlow (85) | 0.488213 |
PaintCorrectionMaskFlow (88) | 0.698783 |
PaintCorrectionMaskFlow (89) | 0.535759 |
PaintCorrectionMaskFlow (9) | 0.886347 |
PaintCorrectionMaskFlow (90) | 0.767645 |
PaintCorrectionMaskFlow (91) | 0.438480 |
PaintCorrectionMaskFlow (94) | 0.467043 |
PaintCorrectionMaskFlow (95) | 0.304078 |
PaintCorrectionMaskFlow (97) | 0.571119 |
PaintCorrectionMaskFlow (98) | 0.775882 |
PaintCorrectionMaskFlow (99) | 0.259771 |
PaintCorrectionMaskFlow | 0.576925 |
PaintCorrectionMaskRadius (107) | 0.026372 |
PaintCorrectionMaskRadius (115) | 0.004264 |
PaintCorrectionMaskRadius (140) | 0.009170 |
PaintCorrectionMaskRadius (148) | 0.081617 |
PaintCorrectionMaskRadius (149) | 0.014485 |
PaintCorrectionMaskRadius (48) | 0.018608 |
PaintCorrectionMaskRadius (6) | 0.050551 |
PaintCorrectionMaskRadius (63) | 0.042344 |
PaintCorrectionMaskRadius (73) | 0.170710 |
PaintCorrectionMaskRadius (77) | 0.022974 |
PaintCorrectionMaskRadius (80) | 0.093808 |
PaintCorrectionMaskRadius (97) | 0.010992 |
PaintCorrectionMaskRadius | 0.024137 |
PaintCorrectionMaskValue (37) | 0.000000 |
PaintCorrectionMaskValue | 1.000000 |
PaintCorrectionMaskWhat | Mask/Paint |
PaintCorrectionMoire | 0.000000 |
PaintCorrectionSaturation | 0.000000 |
PaintCorrectionShadows2012 | 0.000000 |
PaintCorrectionSharpness (1) | 0.537820 |
PaintCorrectionSharpness (2) | 0.250000 |
PaintCorrectionSharpness (3) | 0.322798 |
PaintCorrectionSharpness | 0.000000 |
PaintCorrectionTemperature | 0.000000 |
PaintCorrectionTint | 0.000000 |
PaintCorrectionWhat | Correction |
ParametricDarks | 0 |
ParametricHighlights | 0 |
ParametricHighlightSplit | 75 |
ParametricLights | 0 |
ParametricMidtoneSplit | 50 |
ParametricShadows | 0 |
ParametricShadowSplit | 25 |
PerspectiveAspect | 0 |
PerspectiveHorizontal | 0 |
PerspectiveRotate | 0.0 |
PerspectiveScale | 100 |
PerspectiveUpright | 0 |
PerspectiveVertical | 0 |
PerspectiveX | 0.00 |
PerspectiveY | 0.00 |
PostCropVignetteAmount | 0 |
ProcessVersion | 6.7 |
ProfileDescription | sRGB IEC61966-2.1 |
Rating | 2 |
RedHue | 0 |
RedSaturation | 0 |
Rights | André Kvevik |
Saturation | Normal |
ScaleFactor35efl | 1.0 |
SceneCaptureType | Standard |
SceneType | Directly photographed |
SensingMethod | One-chip color area |
SensitivityType | Recommended Exposure Index |
SerialNumber | 6085980 |
Shadows2012 | -30 |
ShadowTint | 0 |
SharpenDetail | 25 |
SharpenEdgeMasking | 0 |
SharpenRadius | +1.0 |
Sharpness (1) | 150 |
Sharpness | Normal |
ShutterSpeed | 1/60 |
ShutterSpeedValue | 1/60 |
Software | Adobe Photoshop Lightroom 6.9 (Macintosh) |
SplitToningBalance | 0 |
SplitToningHighlightHue | 0 |
SplitToningHighlightSaturation | 0 |
SplitToningShadowHue | 0 |
SplitToningShadowSaturation | 0 |
Subject | Tonde Portrett 2 |
SubjectDistanceRange | Unknown |
Tint | +33 |
ToneCurve | 0, 0, 255, 255 |
ToneCurveBlue | 0, 0, 255, 255 |
ToneCurveGreen | 0, 0, 255, 255 |
ToneCurveName | Linear |
ToneCurveName2012 | Strong Contrast |
ToneCurvePV2012 | 0, 0, 32, 16, 64, 50, 128, 128, 192, 202, 255, 255 |
ToneCurvePV2012Blue | 0, 0, 255, 255 |
ToneCurvePV2012Green | 0, 0, 255, 255 |
ToneCurvePV2012Red | 0, 0, 255, 255 |
ToneCurveRed | 0, 0, 255, 255 |
ToneMapStrength | 0 |
Version | 9.9 |
VignetteAmount | 0 |
WhiteBalance (1) | Custom |
WhiteBalance | Manual |
Whites2012 | +33 |